BEGIN:VCALENDAR
VERSION:2.0
PRODID:-//Love Lansing - ECPv6.9.0//NONSGML v1.0//EN
CALSCALE:GREGORIAN
METHOD:PUBLISH
X-ORIGINAL-URL:https://lovelansing.com
X-WR-CALDESC:Events for Love Lansing
REFRESH-INTERVAL;VALUE=DURATION:PT1H
X-Robots-Tag:noindex
X-PUBLISHED-TTL:PT1H
BEGIN:VTIMEZONE
TZID:America/Detroit
BEGIN:DAYLIGHT
TZOFFSETFROM:-0500
TZOFFSETTO:-0400
TZNAME:EDT
DTSTART:20280312T070000
END:DAYLIGHT
BEGIN:STANDARD
TZOFFSETFROM:-0400
TZOFFSETTO:-0500
TZNAME:EST
DTSTART:20281105T060000
END:STANDARD
BEGIN:DAYLIGHT
TZOFFSETFROM:-0500
TZOFFSETTO:-0400
TZNAME:EDT
DTSTART:20290311T070000
END:DAYLIGHT
BEGIN:STANDARD
TZOFFSETFROM:-0400
TZOFFSETTO:-0500
TZNAME:EST
DTSTART:20291104T060000
END:STANDARD
END:VTIMEZONE
BEGIN:VEVENT
DTSTART;TZID=America/Detroit:20281215T210000
DTEND;TZID=America/Detroit:20281215T230000
DTSTAMP:20260422T103344
CREATED:20240114T065548Z
LAST-MODIFIED:20240128T194327Z
UID:10001840-1860526800-1860534000@lovelansing.com
SUMMARY:Friday Karakoe
DESCRIPTION:Friday Karaoke at The Avenue Cafe in Lansing\, Michigan\, is a lively and engaging event that has become a staple for locals and visitors alike. Held every Friday from 9:00 pm to 1:30 am\, this event offers a blend of music\, socializing\, and culinary delights from Ruckus Ramen. Whether you’re a seasoned singer or just looking to have fun with friends\, the stage is open for all.
URL:https://lovelansing.com/event/friday-karakoe/2028-12-15/
LOCATION:The Avenue\, 2021 E Michigan Ave\, Lansing\, MI\, 48912\, United States
CATEGORIES:Karaoke
GEO:42.7338866;-84.5214406
X-APPLE-STRUCTURED-LOCATION;VALUE=URI;X-ADDRESS=The Avenue 2021 E Michigan Ave Lansing MI 48912 United States;X-APPLE-RADIUS=500;X-TITLE=2021 E Michigan Ave:geo:-84.5214406,42.7338866
END:VEVENT
BEGIN:VEVENT
DTSTART;TZID=America/Detroit:20281218T200000
DTEND;TZID=America/Detroit:20281218T200000
DTSTAMP:20260422T103344
CREATED:20240114T072001Z
LAST-MODIFIED:20240117T223133Z
UID:10002625-1860782400-1860782400@lovelansing.com
SUMMARY:Karaoke
DESCRIPTION:Karoke every Monday
URL:https://lovelansing.com/event/karaoke/2028-12-18/
LOCATION:The Avenue\, 2021 E Michigan Ave\, Lansing\, MI\, 48912\, United States
CATEGORIES:Karaoke
GEO:42.7338866;-84.5214406
X-APPLE-STRUCTURED-LOCATION;VALUE=URI;X-ADDRESS=The Avenue 2021 E Michigan Ave Lansing MI 48912 United States;X-APPLE-RADIUS=500;X-TITLE=2021 E Michigan Ave:geo:-84.5214406,42.7338866
END:VEVENT
BEGIN:VEVENT
DTSTART;TZID=America/Detroit:20281219T200000
DTEND;TZID=America/Detroit:20281219T223000
DTSTAMP:20260422T103344
CREATED:20240114T072124Z
LAST-MODIFIED:20240130T041407Z
UID:10003767-1860868800-1860877800@lovelansing.com
SUMMARY:Tuesday Game Night
DESCRIPTION:Tuesday Game Nights is a gathering for board game enthusiasts and casual players alike. The casual\, friendly atmosphere of The Avenue makes it an ideal spot for both experienced gamers and newcomers to enjoy a night of strategy\, competition\, and fun in a relaxed setting.
URL:https://lovelansing.com/event/game-night/2028-12-19/
LOCATION:The Avenue\, 2021 E Michigan Ave\, Lansing\, MI\, 48912\, United States
CATEGORIES:Game Night
GEO:42.7338866;-84.5214406
X-APPLE-STRUCTURED-LOCATION;VALUE=URI;X-ADDRESS=The Avenue 2021 E Michigan Ave Lansing MI 48912 United States;X-APPLE-RADIUS=500;X-TITLE=2021 E Michigan Ave:geo:-84.5214406,42.7338866
END:VEVENT
BEGIN:VEVENT
DTSTART;TZID=America/Detroit:20281222T210000
DTEND;TZID=America/Detroit:20281222T230000
DTSTAMP:20260422T103344
CREATED:20240114T065548Z
LAST-MODIFIED:20240128T194327Z
UID:10001841-1861131600-1861138800@lovelansing.com
SUMMARY:Friday Karakoe
DESCRIPTION:Friday Karaoke at The Avenue Cafe in Lansing\, Michigan\, is a lively and engaging event that has become a staple for locals and visitors alike. Held every Friday from 9:00 pm to 1:30 am\, this event offers a blend of music\, socializing\, and culinary delights from Ruckus Ramen. Whether you’re a seasoned singer or just looking to have fun with friends\, the stage is open for all.
URL:https://lovelansing.com/event/friday-karakoe/2028-12-22/
LOCATION:The Avenue\, 2021 E Michigan Ave\, Lansing\, MI\, 48912\, United States
CATEGORIES:Karaoke
GEO:42.7338866;-84.5214406
X-APPLE-STRUCTURED-LOCATION;VALUE=URI;X-ADDRESS=The Avenue 2021 E Michigan Ave Lansing MI 48912 United States;X-APPLE-RADIUS=500;X-TITLE=2021 E Michigan Ave:geo:-84.5214406,42.7338866
END:VEVENT
BEGIN:VEVENT
DTSTART;TZID=America/Detroit:20281225T200000
DTEND;TZID=America/Detroit:20281225T200000
DTSTAMP:20260422T103344
CREATED:20240114T072001Z
LAST-MODIFIED:20240117T223133Z
UID:10002626-1861387200-1861387200@lovelansing.com
SUMMARY:Karaoke
DESCRIPTION:Karoke every Monday
URL:https://lovelansing.com/event/karaoke/2028-12-25/
LOCATION:The Avenue\, 2021 E Michigan Ave\, Lansing\, MI\, 48912\, United States
CATEGORIES:Karaoke
GEO:42.7338866;-84.5214406
X-APPLE-STRUCTURED-LOCATION;VALUE=URI;X-ADDRESS=The Avenue 2021 E Michigan Ave Lansing MI 48912 United States;X-APPLE-RADIUS=500;X-TITLE=2021 E Michigan Ave:geo:-84.5214406,42.7338866
END:VEVENT
BEGIN:VEVENT
DTSTART;TZID=America/Detroit:20281226T200000
DTEND;TZID=America/Detroit:20281226T223000
DTSTAMP:20260422T103344
CREATED:20240114T072124Z
LAST-MODIFIED:20240130T041407Z
UID:10003768-1861473600-1861482600@lovelansing.com
SUMMARY:Tuesday Game Night
DESCRIPTION:Tuesday Game Nights is a gathering for board game enthusiasts and casual players alike. The casual\, friendly atmosphere of The Avenue makes it an ideal spot for both experienced gamers and newcomers to enjoy a night of strategy\, competition\, and fun in a relaxed setting.
URL:https://lovelansing.com/event/game-night/2028-12-26/
LOCATION:The Avenue\, 2021 E Michigan Ave\, Lansing\, MI\, 48912\, United States
CATEGORIES:Game Night
GEO:42.7338866;-84.5214406
X-APPLE-STRUCTURED-LOCATION;VALUE=URI;X-ADDRESS=The Avenue 2021 E Michigan Ave Lansing MI 48912 United States;X-APPLE-RADIUS=500;X-TITLE=2021 E Michigan Ave:geo:-84.5214406,42.7338866
END:VEVENT
BEGIN:VEVENT
DTSTART;TZID=America/Detroit:20281229T210000
DTEND;TZID=America/Detroit:20281229T230000
DTSTAMP:20260422T103345
CREATED:20240114T065548Z
LAST-MODIFIED:20240128T194327Z
UID:10001842-1861736400-1861743600@lovelansing.com
SUMMARY:Friday Karakoe
DESCRIPTION:Friday Karaoke at The Avenue Cafe in Lansing\, Michigan\, is a lively and engaging event that has become a staple for locals and visitors alike. Held every Friday from 9:00 pm to 1:30 am\, this event offers a blend of music\, socializing\, and culinary delights from Ruckus Ramen. Whether you’re a seasoned singer or just looking to have fun with friends\, the stage is open for all.
URL:https://lovelansing.com/event/friday-karakoe/2028-12-29/
LOCATION:The Avenue\, 2021 E Michigan Ave\, Lansing\, MI\, 48912\, United States
CATEGORIES:Karaoke
GEO:42.7338866;-84.5214406
X-APPLE-STRUCTURED-LOCATION;VALUE=URI;X-ADDRESS=The Avenue 2021 E Michigan Ave Lansing MI 48912 United States;X-APPLE-RADIUS=500;X-TITLE=2021 E Michigan Ave:geo:-84.5214406,42.7338866
END:VEVENT
BEGIN:VEVENT
DTSTART;TZID=America/Detroit:20290101T200000
DTEND;TZID=America/Detroit:20290101T200000
DTSTAMP:20260422T103345
CREATED:20240114T072001Z
LAST-MODIFIED:20240117T223133Z
UID:10002627-1861992000-1861992000@lovelansing.com
SUMMARY:Karaoke
DESCRIPTION:Karoke every Monday
URL:https://lovelansing.com/event/karaoke/2029-01-01/
LOCATION:The Avenue\, 2021 E Michigan Ave\, Lansing\, MI\, 48912\, United States
CATEGORIES:Karaoke
GEO:42.7338866;-84.5214406
X-APPLE-STRUCTURED-LOCATION;VALUE=URI;X-ADDRESS=The Avenue 2021 E Michigan Ave Lansing MI 48912 United States;X-APPLE-RADIUS=500;X-TITLE=2021 E Michigan Ave:geo:-84.5214406,42.7338866
END:VEVENT
BEGIN:VEVENT
DTSTART;TZID=America/Detroit:20290102T200000
DTEND;TZID=America/Detroit:20290102T223000
DTSTAMP:20260422T103345
CREATED:20240114T072124Z
LAST-MODIFIED:20240130T041407Z
UID:10003769-1862078400-1862087400@lovelansing.com
SUMMARY:Tuesday Game Night
DESCRIPTION:Tuesday Game Nights is a gathering for board game enthusiasts and casual players alike. The casual\, friendly atmosphere of The Avenue makes it an ideal spot for both experienced gamers and newcomers to enjoy a night of strategy\, competition\, and fun in a relaxed setting.
URL:https://lovelansing.com/event/game-night/2029-01-02/
LOCATION:The Avenue\, 2021 E Michigan Ave\, Lansing\, MI\, 48912\, United States
CATEGORIES:Game Night
GEO:42.7338866;-84.5214406
X-APPLE-STRUCTURED-LOCATION;VALUE=URI;X-ADDRESS=The Avenue 2021 E Michigan Ave Lansing MI 48912 United States;X-APPLE-RADIUS=500;X-TITLE=2021 E Michigan Ave:geo:-84.5214406,42.7338866
END:VEVENT
BEGIN:VEVENT
DTSTART;TZID=America/Detroit:20290105T210000
DTEND;TZID=America/Detroit:20290105T230000
DTSTAMP:20260422T103345
CREATED:20240114T065548Z
LAST-MODIFIED:20240128T194327Z
UID:10001843-1862341200-1862348400@lovelansing.com
SUMMARY:Friday Karakoe
DESCRIPTION:Friday Karaoke at The Avenue Cafe in Lansing\, Michigan\, is a lively and engaging event that has become a staple for locals and visitors alike. Held every Friday from 9:00 pm to 1:30 am\, this event offers a blend of music\, socializing\, and culinary delights from Ruckus Ramen. Whether you’re a seasoned singer or just looking to have fun with friends\, the stage is open for all.
URL:https://lovelansing.com/event/friday-karakoe/2029-01-05/
LOCATION:The Avenue\, 2021 E Michigan Ave\, Lansing\, MI\, 48912\, United States
CATEGORIES:Karaoke
GEO:42.7338866;-84.5214406
X-APPLE-STRUCTURED-LOCATION;VALUE=URI;X-ADDRESS=The Avenue 2021 E Michigan Ave Lansing MI 48912 United States;X-APPLE-RADIUS=500;X-TITLE=2021 E Michigan Ave:geo:-84.5214406,42.7338866
END:VEVENT
BEGIN:VEVENT
DTSTART;TZID=America/Detroit:20290108T200000
DTEND;TZID=America/Detroit:20290108T200000
DTSTAMP:20260422T103345
CREATED:20240114T072001Z
LAST-MODIFIED:20240117T223133Z
UID:10002628-1862596800-1862596800@lovelansing.com
SUMMARY:Karaoke
DESCRIPTION:Karoke every Monday
URL:https://lovelansing.com/event/karaoke/2029-01-08/
LOCATION:The Avenue\, 2021 E Michigan Ave\, Lansing\, MI\, 48912\, United States
CATEGORIES:Karaoke
GEO:42.7338866;-84.5214406
X-APPLE-STRUCTURED-LOCATION;VALUE=URI;X-ADDRESS=The Avenue 2021 E Michigan Ave Lansing MI 48912 United States;X-APPLE-RADIUS=500;X-TITLE=2021 E Michigan Ave:geo:-84.5214406,42.7338866
END:VEVENT
BEGIN:VEVENT
DTSTART;TZID=America/Detroit:20290109T200000
DTEND;TZID=America/Detroit:20290109T223000
DTSTAMP:20260422T103345
CREATED:20240114T072124Z
LAST-MODIFIED:20240130T041407Z
UID:10003770-1862683200-1862692200@lovelansing.com
SUMMARY:Tuesday Game Night
DESCRIPTION:Tuesday Game Nights is a gathering for board game enthusiasts and casual players alike. The casual\, friendly atmosphere of The Avenue makes it an ideal spot for both experienced gamers and newcomers to enjoy a night of strategy\, competition\, and fun in a relaxed setting.
URL:https://lovelansing.com/event/game-night/2029-01-09/
LOCATION:The Avenue\, 2021 E Michigan Ave\, Lansing\, MI\, 48912\, United States
CATEGORIES:Game Night
GEO:42.7338866;-84.5214406
X-APPLE-STRUCTURED-LOCATION;VALUE=URI;X-ADDRESS=The Avenue 2021 E Michigan Ave Lansing MI 48912 United States;X-APPLE-RADIUS=500;X-TITLE=2021 E Michigan Ave:geo:-84.5214406,42.7338866
END:VEVENT
BEGIN:VEVENT
DTSTART;TZID=America/Detroit:20290112T210000
DTEND;TZID=America/Detroit:20290112T230000
DTSTAMP:20260422T103345
CREATED:20240114T065548Z
LAST-MODIFIED:20240128T194327Z
UID:10001844-1862946000-1862953200@lovelansing.com
SUMMARY:Friday Karakoe
DESCRIPTION:Friday Karaoke at The Avenue Cafe in Lansing\, Michigan\, is a lively and engaging event that has become a staple for locals and visitors alike. Held every Friday from 9:00 pm to 1:30 am\, this event offers a blend of music\, socializing\, and culinary delights from Ruckus Ramen. Whether you’re a seasoned singer or just looking to have fun with friends\, the stage is open for all.
URL:https://lovelansing.com/event/friday-karakoe/2029-01-12/
LOCATION:The Avenue\, 2021 E Michigan Ave\, Lansing\, MI\, 48912\, United States
CATEGORIES:Karaoke
GEO:42.7338866;-84.5214406
X-APPLE-STRUCTURED-LOCATION;VALUE=URI;X-ADDRESS=The Avenue 2021 E Michigan Ave Lansing MI 48912 United States;X-APPLE-RADIUS=500;X-TITLE=2021 E Michigan Ave:geo:-84.5214406,42.7338866
END:VEVENT
BEGIN:VEVENT
DTSTART;TZID=America/Detroit:20290115T200000
DTEND;TZID=America/Detroit:20290115T200000
DTSTAMP:20260422T103345
CREATED:20240114T072001Z
LAST-MODIFIED:20240117T223133Z
UID:10002629-1863201600-1863201600@lovelansing.com
SUMMARY:Karaoke
DESCRIPTION:Karoke every Monday
URL:https://lovelansing.com/event/karaoke/2029-01-15/
LOCATION:The Avenue\, 2021 E Michigan Ave\, Lansing\, MI\, 48912\, United States
CATEGORIES:Karaoke
GEO:42.7338866;-84.5214406
X-APPLE-STRUCTURED-LOCATION;VALUE=URI;X-ADDRESS=The Avenue 2021 E Michigan Ave Lansing MI 48912 United States;X-APPLE-RADIUS=500;X-TITLE=2021 E Michigan Ave:geo:-84.5214406,42.7338866
END:VEVENT
BEGIN:VEVENT
DTSTART;TZID=America/Detroit:20290116T200000
DTEND;TZID=America/Detroit:20290116T223000
DTSTAMP:20260422T103345
CREATED:20240114T072124Z
LAST-MODIFIED:20240130T041407Z
UID:10003771-1863288000-1863297000@lovelansing.com
SUMMARY:Tuesday Game Night
DESCRIPTION:Tuesday Game Nights is a gathering for board game enthusiasts and casual players alike. The casual\, friendly atmosphere of The Avenue makes it an ideal spot for both experienced gamers and newcomers to enjoy a night of strategy\, competition\, and fun in a relaxed setting.
URL:https://lovelansing.com/event/game-night/2029-01-16/
LOCATION:The Avenue\, 2021 E Michigan Ave\, Lansing\, MI\, 48912\, United States
CATEGORIES:Game Night
GEO:42.7338866;-84.5214406
X-APPLE-STRUCTURED-LOCATION;VALUE=URI;X-ADDRESS=The Avenue 2021 E Michigan Ave Lansing MI 48912 United States;X-APPLE-RADIUS=500;X-TITLE=2021 E Michigan Ave:geo:-84.5214406,42.7338866
END:VEVENT
BEGIN:VEVENT
DTSTART;TZID=America/Detroit:20290119T210000
DTEND;TZID=America/Detroit:20290119T230000
DTSTAMP:20260422T103345
CREATED:20240114T065548Z
LAST-MODIFIED:20240128T194327Z
UID:10002944-1863550800-1863558000@lovelansing.com
SUMMARY:Friday Karakoe
DESCRIPTION:Friday Karaoke at The Avenue Cafe in Lansing\, Michigan\, is a lively and engaging event that has become a staple for locals and visitors alike. Held every Friday from 9:00 pm to 1:30 am\, this event offers a blend of music\, socializing\, and culinary delights from Ruckus Ramen. Whether you’re a seasoned singer or just looking to have fun with friends\, the stage is open for all.
URL:https://lovelansing.com/event/friday-karakoe/2029-01-19/
LOCATION:The Avenue\, 2021 E Michigan Ave\, Lansing\, MI\, 48912\, United States
CATEGORIES:Karaoke
GEO:42.7338866;-84.5214406
X-APPLE-STRUCTURED-LOCATION;VALUE=URI;X-ADDRESS=The Avenue 2021 E Michigan Ave Lansing MI 48912 United States;X-APPLE-RADIUS=500;X-TITLE=2021 E Michigan Ave:geo:-84.5214406,42.7338866
END:VEVENT
BEGIN:VEVENT
DTSTART;TZID=America/Detroit:20290123T200000
DTEND;TZID=America/Detroit:20290123T223000
DTSTAMP:20260422T103345
CREATED:20240114T072124Z
LAST-MODIFIED:20240130T041407Z
UID:10003772-1863892800-1863901800@lovelansing.com
SUMMARY:Tuesday Game Night
DESCRIPTION:Tuesday Game Nights is a gathering for board game enthusiasts and casual players alike. The casual\, friendly atmosphere of The Avenue makes it an ideal spot for both experienced gamers and newcomers to enjoy a night of strategy\, competition\, and fun in a relaxed setting.
URL:https://lovelansing.com/event/game-night/2029-01-23/
LOCATION:The Avenue\, 2021 E Michigan Ave\, Lansing\, MI\, 48912\, United States
CATEGORIES:Game Night
GEO:42.7338866;-84.5214406
X-APPLE-STRUCTURED-LOCATION;VALUE=URI;X-ADDRESS=The Avenue 2021 E Michigan Ave Lansing MI 48912 United States;X-APPLE-RADIUS=500;X-TITLE=2021 E Michigan Ave:geo:-84.5214406,42.7338866
END:VEVENT
BEGIN:VEVENT
DTSTART;TZID=America/Detroit:20290126T210000
DTEND;TZID=America/Detroit:20290126T230000
DTSTAMP:20260422T103345
CREATED:20240114T065548Z
LAST-MODIFIED:20240128T194327Z
UID:10002945-1864155600-1864162800@lovelansing.com
SUMMARY:Friday Karakoe
DESCRIPTION:Friday Karaoke at The Avenue Cafe in Lansing\, Michigan\, is a lively and engaging event that has become a staple for locals and visitors alike. Held every Friday from 9:00 pm to 1:30 am\, this event offers a blend of music\, socializing\, and culinary delights from Ruckus Ramen. Whether you’re a seasoned singer or just looking to have fun with friends\, the stage is open for all.
URL:https://lovelansing.com/event/friday-karakoe/2029-01-26/
LOCATION:The Avenue\, 2021 E Michigan Ave\, Lansing\, MI\, 48912\, United States
CATEGORIES:Karaoke
GEO:42.7338866;-84.5214406
X-APPLE-STRUCTURED-LOCATION;VALUE=URI;X-ADDRESS=The Avenue 2021 E Michigan Ave Lansing MI 48912 United States;X-APPLE-RADIUS=500;X-TITLE=2021 E Michigan Ave:geo:-84.5214406,42.7338866
END:VEVENT
BEGIN:VEVENT
DTSTART;TZID=America/Detroit:20290130T200000
DTEND;TZID=America/Detroit:20290130T223000
DTSTAMP:20260422T103346
CREATED:20240114T072124Z
LAST-MODIFIED:20240130T041407Z
UID:10004085-1864497600-1864506600@lovelansing.com
SUMMARY:Tuesday Game Night
DESCRIPTION:Tuesday Game Nights is a gathering for board game enthusiasts and casual players alike. The casual\, friendly atmosphere of The Avenue makes it an ideal spot for both experienced gamers and newcomers to enjoy a night of strategy\, competition\, and fun in a relaxed setting.
URL:https://lovelansing.com/event/game-night/2029-01-30/
LOCATION:The Avenue\, 2021 E Michigan Ave\, Lansing\, MI\, 48912\, United States
CATEGORIES:Game Night
GEO:42.7338866;-84.5214406
X-APPLE-STRUCTURED-LOCATION;VALUE=URI;X-ADDRESS=The Avenue 2021 E Michigan Ave Lansing MI 48912 United States;X-APPLE-RADIUS=500;X-TITLE=2021 E Michigan Ave:geo:-84.5214406,42.7338866
END:VEVENT
BEGIN:VEVENT
DTSTART;TZID=America/Detroit:20290206T200000
DTEND;TZID=America/Detroit:20290206T223000
DTSTAMP:20260422T103346
CREATED:20240114T072124Z
LAST-MODIFIED:20240130T041407Z
UID:10004086-1865102400-1865111400@lovelansing.com
SUMMARY:Tuesday Game Night
DESCRIPTION:Tuesday Game Nights is a gathering for board game enthusiasts and casual players alike. The casual\, friendly atmosphere of The Avenue makes it an ideal spot for both experienced gamers and newcomers to enjoy a night of strategy\, competition\, and fun in a relaxed setting.
URL:https://lovelansing.com/event/game-night/2029-02-06/
LOCATION:The Avenue\, 2021 E Michigan Ave\, Lansing\, MI\, 48912\, United States
CATEGORIES:Game Night
GEO:42.7338866;-84.5214406
X-APPLE-STRUCTURED-LOCATION;VALUE=URI;X-ADDRESS=The Avenue 2021 E Michigan Ave Lansing MI 48912 United States;X-APPLE-RADIUS=500;X-TITLE=2021 E Michigan Ave:geo:-84.5214406,42.7338866
END:VEVENT
BEGIN:VEVENT
DTSTART;TZID=America/Detroit:20290213T200000
DTEND;TZID=America/Detroit:20290213T223000
DTSTAMP:20260422T103346
CREATED:20240114T072124Z
LAST-MODIFIED:20240130T041407Z
UID:10004087-1865707200-1865716200@lovelansing.com
SUMMARY:Tuesday Game Night
DESCRIPTION:Tuesday Game Nights is a gathering for board game enthusiasts and casual players alike. The casual\, friendly atmosphere of The Avenue makes it an ideal spot for both experienced gamers and newcomers to enjoy a night of strategy\, competition\, and fun in a relaxed setting.
URL:https://lovelansing.com/event/game-night/2029-02-13/
LOCATION:The Avenue\, 2021 E Michigan Ave\, Lansing\, MI\, 48912\, United States
CATEGORIES:Game Night
GEO:42.7338866;-84.5214406
X-APPLE-STRUCTURED-LOCATION;VALUE=URI;X-ADDRESS=The Avenue 2021 E Michigan Ave Lansing MI 48912 United States;X-APPLE-RADIUS=500;X-TITLE=2021 E Michigan Ave:geo:-84.5214406,42.7338866
END:VEVENT
BEGIN:VEVENT
DTSTART;TZID=America/Detroit:20290220T200000
DTEND;TZID=America/Detroit:20290220T223000
DTSTAMP:20260422T103346
CREATED:20240114T072124Z
LAST-MODIFIED:20240130T041407Z
UID:10004088-1866312000-1866321000@lovelansing.com
SUMMARY:Tuesday Game Night
DESCRIPTION:Tuesday Game Nights is a gathering for board game enthusiasts and casual players alike. The casual\, friendly atmosphere of The Avenue makes it an ideal spot for both experienced gamers and newcomers to enjoy a night of strategy\, competition\, and fun in a relaxed setting.
URL:https://lovelansing.com/event/game-night/2029-02-20/
LOCATION:The Avenue\, 2021 E Michigan Ave\, Lansing\, MI\, 48912\, United States
CATEGORIES:Game Night
GEO:42.7338866;-84.5214406
X-APPLE-STRUCTURED-LOCATION;VALUE=URI;X-ADDRESS=The Avenue 2021 E Michigan Ave Lansing MI 48912 United States;X-APPLE-RADIUS=500;X-TITLE=2021 E Michigan Ave:geo:-84.5214406,42.7338866
END:VEVENT
BEGIN:VEVENT
DTSTART;TZID=America/Detroit:20290227T200000
DTEND;TZID=America/Detroit:20290227T223000
DTSTAMP:20260422T103346
CREATED:20240114T072124Z
LAST-MODIFIED:20240130T041407Z
UID:10004089-1866916800-1866925800@lovelansing.com
SUMMARY:Tuesday Game Night
DESCRIPTION:Tuesday Game Nights is a gathering for board game enthusiasts and casual players alike. The casual\, friendly atmosphere of The Avenue makes it an ideal spot for both experienced gamers and newcomers to enjoy a night of strategy\, competition\, and fun in a relaxed setting.
URL:https://lovelansing.com/event/game-night/2029-02-27/
LOCATION:The Avenue\, 2021 E Michigan Ave\, Lansing\, MI\, 48912\, United States
CATEGORIES:Game Night
GEO:42.7338866;-84.5214406
X-APPLE-STRUCTURED-LOCATION;VALUE=URI;X-ADDRESS=The Avenue 2021 E Michigan Ave Lansing MI 48912 United States;X-APPLE-RADIUS=500;X-TITLE=2021 E Michigan Ave:geo:-84.5214406,42.7338866
END:VEVENT
END:VCALENDAR