BEGIN:VCALENDAR
VERSION:2.0
PRODID:-//Love Lansing - ECPv6.9.0//NONSGML v1.0//EN
CALSCALE:GREGORIAN
METHOD:PUBLISH
X-ORIGINAL-URL:https://lovelansing.com
X-WR-CALDESC:Events for Love Lansing
REFRESH-INTERVAL;VALUE=DURATION:PT1H
X-Robots-Tag:noindex
X-PUBLISHED-TTL:PT1H
BEGIN:VTIMEZONE
TZID:America/Detroit
BEGIN:DAYLIGHT
TZOFFSETFROM:-0500
TZOFFSETTO:-0400
TZNAME:EDT
DTSTART:20280312T070000
END:DAYLIGHT
BEGIN:STANDARD
TZOFFSETFROM:-0400
TZOFFSETTO:-0500
TZNAME:EST
DTSTART:20281105T060000
END:STANDARD
END:VTIMEZONE
BEGIN:VEVENT
DTSTART;TZID=America/Detroit:20280808T200000
DTEND;TZID=America/Detroit:20280808T223000
DTSTAMP:20260421T221856
CREATED:20240114T072124Z
LAST-MODIFIED:20240130T041407Z
UID:10003748-1849377600-1849386600@lovelansing.com
SUMMARY:Tuesday Game Night
DESCRIPTION:Tuesday Game Nights is a gathering for board game enthusiasts and casual players alike. The casual\, friendly atmosphere of The Avenue makes it an ideal spot for both experienced gamers and newcomers to enjoy a night of strategy\, competition\, and fun in a relaxed setting.
URL:https://lovelansing.com/event/game-night/2028-08-08/
LOCATION:The Avenue\, 2021 E Michigan Ave\, Lansing\, MI\, 48912\, United States
CATEGORIES:Game Night
GEO:42.7338866;-84.5214406
X-APPLE-STRUCTURED-LOCATION;VALUE=URI;X-ADDRESS=The Avenue 2021 E Michigan Ave Lansing MI 48912 United States;X-APPLE-RADIUS=500;X-TITLE=2021 E Michigan Ave:geo:-84.5214406,42.7338866
END:VEVENT
BEGIN:VEVENT
DTSTART;TZID=America/Detroit:20280811T210000
DTEND;TZID=America/Detroit:20280811T230000
DTSTAMP:20260421T221856
CREATED:20240114T065548Z
LAST-MODIFIED:20240128T194327Z
UID:10001822-1849640400-1849647600@lovelansing.com
SUMMARY:Friday Karakoe
DESCRIPTION:Friday Karaoke at The Avenue Cafe in Lansing\, Michigan\, is a lively and engaging event that has become a staple for locals and visitors alike. Held every Friday from 9:00 pm to 1:30 am\, this event offers a blend of music\, socializing\, and culinary delights from Ruckus Ramen. Whether you’re a seasoned singer or just looking to have fun with friends\, the stage is open for all.
URL:https://lovelansing.com/event/friday-karakoe/2028-08-11/
LOCATION:The Avenue\, 2021 E Michigan Ave\, Lansing\, MI\, 48912\, United States
CATEGORIES:Karaoke
GEO:42.7338866;-84.5214406
X-APPLE-STRUCTURED-LOCATION;VALUE=URI;X-ADDRESS=The Avenue 2021 E Michigan Ave Lansing MI 48912 United States;X-APPLE-RADIUS=500;X-TITLE=2021 E Michigan Ave:geo:-84.5214406,42.7338866
END:VEVENT
BEGIN:VEVENT
DTSTART;TZID=America/Detroit:20280814T200000
DTEND;TZID=America/Detroit:20280814T200000
DTSTAMP:20260421T221857
CREATED:20240114T072001Z
LAST-MODIFIED:20240117T223133Z
UID:10002607-1849896000-1849896000@lovelansing.com
SUMMARY:Karaoke
DESCRIPTION:Karoke every Monday
URL:https://lovelansing.com/event/karaoke/2028-08-14/
LOCATION:The Avenue\, 2021 E Michigan Ave\, Lansing\, MI\, 48912\, United States
CATEGORIES:Karaoke
GEO:42.7338866;-84.5214406
X-APPLE-STRUCTURED-LOCATION;VALUE=URI;X-ADDRESS=The Avenue 2021 E Michigan Ave Lansing MI 48912 United States;X-APPLE-RADIUS=500;X-TITLE=2021 E Michigan Ave:geo:-84.5214406,42.7338866
END:VEVENT
BEGIN:VEVENT
DTSTART;TZID=America/Detroit:20280815T200000
DTEND;TZID=America/Detroit:20280815T223000
DTSTAMP:20260421T221857
CREATED:20240114T072124Z
LAST-MODIFIED:20240130T041407Z
UID:10003749-1849982400-1849991400@lovelansing.com
SUMMARY:Tuesday Game Night
DESCRIPTION:Tuesday Game Nights is a gathering for board game enthusiasts and casual players alike. The casual\, friendly atmosphere of The Avenue makes it an ideal spot for both experienced gamers and newcomers to enjoy a night of strategy\, competition\, and fun in a relaxed setting.
URL:https://lovelansing.com/event/game-night/2028-08-15/
LOCATION:The Avenue\, 2021 E Michigan Ave\, Lansing\, MI\, 48912\, United States
CATEGORIES:Game Night
GEO:42.7338866;-84.5214406
X-APPLE-STRUCTURED-LOCATION;VALUE=URI;X-ADDRESS=The Avenue 2021 E Michigan Ave Lansing MI 48912 United States;X-APPLE-RADIUS=500;X-TITLE=2021 E Michigan Ave:geo:-84.5214406,42.7338866
END:VEVENT
BEGIN:VEVENT
DTSTART;TZID=America/Detroit:20280818T210000
DTEND;TZID=America/Detroit:20280818T230000
DTSTAMP:20260421T221857
CREATED:20240114T065548Z
LAST-MODIFIED:20240128T194327Z
UID:10001823-1850245200-1850252400@lovelansing.com
SUMMARY:Friday Karakoe
DESCRIPTION:Friday Karaoke at The Avenue Cafe in Lansing\, Michigan\, is a lively and engaging event that has become a staple for locals and visitors alike. Held every Friday from 9:00 pm to 1:30 am\, this event offers a blend of music\, socializing\, and culinary delights from Ruckus Ramen. Whether you’re a seasoned singer or just looking to have fun with friends\, the stage is open for all.
URL:https://lovelansing.com/event/friday-karakoe/2028-08-18/
LOCATION:The Avenue\, 2021 E Michigan Ave\, Lansing\, MI\, 48912\, United States
CATEGORIES:Karaoke
GEO:42.7338866;-84.5214406
X-APPLE-STRUCTURED-LOCATION;VALUE=URI;X-ADDRESS=The Avenue 2021 E Michigan Ave Lansing MI 48912 United States;X-APPLE-RADIUS=500;X-TITLE=2021 E Michigan Ave:geo:-84.5214406,42.7338866
END:VEVENT
BEGIN:VEVENT
DTSTART;TZID=America/Detroit:20280821T200000
DTEND;TZID=America/Detroit:20280821T200000
DTSTAMP:20260421T221857
CREATED:20240114T072001Z
LAST-MODIFIED:20240117T223133Z
UID:10002608-1850500800-1850500800@lovelansing.com
SUMMARY:Karaoke
DESCRIPTION:Karoke every Monday
URL:https://lovelansing.com/event/karaoke/2028-08-21/
LOCATION:The Avenue\, 2021 E Michigan Ave\, Lansing\, MI\, 48912\, United States
CATEGORIES:Karaoke
GEO:42.7338866;-84.5214406
X-APPLE-STRUCTURED-LOCATION;VALUE=URI;X-ADDRESS=The Avenue 2021 E Michigan Ave Lansing MI 48912 United States;X-APPLE-RADIUS=500;X-TITLE=2021 E Michigan Ave:geo:-84.5214406,42.7338866
END:VEVENT
BEGIN:VEVENT
DTSTART;TZID=America/Detroit:20280822T200000
DTEND;TZID=America/Detroit:20280822T223000
DTSTAMP:20260421T221857
CREATED:20240114T072124Z
LAST-MODIFIED:20240130T041407Z
UID:10003750-1850587200-1850596200@lovelansing.com
SUMMARY:Tuesday Game Night
DESCRIPTION:Tuesday Game Nights is a gathering for board game enthusiasts and casual players alike. The casual\, friendly atmosphere of The Avenue makes it an ideal spot for both experienced gamers and newcomers to enjoy a night of strategy\, competition\, and fun in a relaxed setting.
URL:https://lovelansing.com/event/game-night/2028-08-22/
LOCATION:The Avenue\, 2021 E Michigan Ave\, Lansing\, MI\, 48912\, United States
CATEGORIES:Game Night
GEO:42.7338866;-84.5214406
X-APPLE-STRUCTURED-LOCATION;VALUE=URI;X-ADDRESS=The Avenue 2021 E Michigan Ave Lansing MI 48912 United States;X-APPLE-RADIUS=500;X-TITLE=2021 E Michigan Ave:geo:-84.5214406,42.7338866
END:VEVENT
BEGIN:VEVENT
DTSTART;TZID=America/Detroit:20280825T210000
DTEND;TZID=America/Detroit:20280825T230000
DTSTAMP:20260421T221857
CREATED:20240114T065548Z
LAST-MODIFIED:20240128T194327Z
UID:10001824-1850850000-1850857200@lovelansing.com
SUMMARY:Friday Karakoe
DESCRIPTION:Friday Karaoke at The Avenue Cafe in Lansing\, Michigan\, is a lively and engaging event that has become a staple for locals and visitors alike. Held every Friday from 9:00 pm to 1:30 am\, this event offers a blend of music\, socializing\, and culinary delights from Ruckus Ramen. Whether you’re a seasoned singer or just looking to have fun with friends\, the stage is open for all.
URL:https://lovelansing.com/event/friday-karakoe/2028-08-25/
LOCATION:The Avenue\, 2021 E Michigan Ave\, Lansing\, MI\, 48912\, United States
CATEGORIES:Karaoke
GEO:42.7338866;-84.5214406
X-APPLE-STRUCTURED-LOCATION;VALUE=URI;X-ADDRESS=The Avenue 2021 E Michigan Ave Lansing MI 48912 United States;X-APPLE-RADIUS=500;X-TITLE=2021 E Michigan Ave:geo:-84.5214406,42.7338866
END:VEVENT
BEGIN:VEVENT
DTSTART;TZID=America/Detroit:20280828T200000
DTEND;TZID=America/Detroit:20280828T200000
DTSTAMP:20260421T221857
CREATED:20240114T072001Z
LAST-MODIFIED:20240117T223133Z
UID:10002609-1851105600-1851105600@lovelansing.com
SUMMARY:Karaoke
DESCRIPTION:Karoke every Monday
URL:https://lovelansing.com/event/karaoke/2028-08-28/
LOCATION:The Avenue\, 2021 E Michigan Ave\, Lansing\, MI\, 48912\, United States
CATEGORIES:Karaoke
GEO:42.7338866;-84.5214406
X-APPLE-STRUCTURED-LOCATION;VALUE=URI;X-ADDRESS=The Avenue 2021 E Michigan Ave Lansing MI 48912 United States;X-APPLE-RADIUS=500;X-TITLE=2021 E Michigan Ave:geo:-84.5214406,42.7338866
END:VEVENT
BEGIN:VEVENT
DTSTART;TZID=America/Detroit:20280829T200000
DTEND;TZID=America/Detroit:20280829T223000
DTSTAMP:20260421T221857
CREATED:20240114T072124Z
LAST-MODIFIED:20240130T041407Z
UID:10003751-1851192000-1851201000@lovelansing.com
SUMMARY:Tuesday Game Night
DESCRIPTION:Tuesday Game Nights is a gathering for board game enthusiasts and casual players alike. The casual\, friendly atmosphere of The Avenue makes it an ideal spot for both experienced gamers and newcomers to enjoy a night of strategy\, competition\, and fun in a relaxed setting.
URL:https://lovelansing.com/event/game-night/2028-08-29/
LOCATION:The Avenue\, 2021 E Michigan Ave\, Lansing\, MI\, 48912\, United States
CATEGORIES:Game Night
GEO:42.7338866;-84.5214406
X-APPLE-STRUCTURED-LOCATION;VALUE=URI;X-ADDRESS=The Avenue 2021 E Michigan Ave Lansing MI 48912 United States;X-APPLE-RADIUS=500;X-TITLE=2021 E Michigan Ave:geo:-84.5214406,42.7338866
END:VEVENT
BEGIN:VEVENT
DTSTART;TZID=America/Detroit:20280901T210000
DTEND;TZID=America/Detroit:20280901T230000
DTSTAMP:20260421T221857
CREATED:20240114T065548Z
LAST-MODIFIED:20240128T194327Z
UID:10001825-1851454800-1851462000@lovelansing.com
SUMMARY:Friday Karakoe
DESCRIPTION:Friday Karaoke at The Avenue Cafe in Lansing\, Michigan\, is a lively and engaging event that has become a staple for locals and visitors alike. Held every Friday from 9:00 pm to 1:30 am\, this event offers a blend of music\, socializing\, and culinary delights from Ruckus Ramen. Whether you’re a seasoned singer or just looking to have fun with friends\, the stage is open for all.
URL:https://lovelansing.com/event/friday-karakoe/2028-09-01/
LOCATION:The Avenue\, 2021 E Michigan Ave\, Lansing\, MI\, 48912\, United States
CATEGORIES:Karaoke
GEO:42.7338866;-84.5214406
X-APPLE-STRUCTURED-LOCATION;VALUE=URI;X-ADDRESS=The Avenue 2021 E Michigan Ave Lansing MI 48912 United States;X-APPLE-RADIUS=500;X-TITLE=2021 E Michigan Ave:geo:-84.5214406,42.7338866
END:VEVENT
BEGIN:VEVENT
DTSTART;TZID=America/Detroit:20280904T200000
DTEND;TZID=America/Detroit:20280904T200000
DTSTAMP:20260421T221857
CREATED:20240114T072001Z
LAST-MODIFIED:20240117T223133Z
UID:10002610-1851710400-1851710400@lovelansing.com
SUMMARY:Karaoke
DESCRIPTION:Karoke every Monday
URL:https://lovelansing.com/event/karaoke/2028-09-04/
LOCATION:The Avenue\, 2021 E Michigan Ave\, Lansing\, MI\, 48912\, United States
CATEGORIES:Karaoke
GEO:42.7338866;-84.5214406
X-APPLE-STRUCTURED-LOCATION;VALUE=URI;X-ADDRESS=The Avenue 2021 E Michigan Ave Lansing MI 48912 United States;X-APPLE-RADIUS=500;X-TITLE=2021 E Michigan Ave:geo:-84.5214406,42.7338866
END:VEVENT
BEGIN:VEVENT
DTSTART;TZID=America/Detroit:20280905T200000
DTEND;TZID=America/Detroit:20280905T223000
DTSTAMP:20260421T221857
CREATED:20240114T072124Z
LAST-MODIFIED:20240130T041407Z
UID:10003752-1851796800-1851805800@lovelansing.com
SUMMARY:Tuesday Game Night
DESCRIPTION:Tuesday Game Nights is a gathering for board game enthusiasts and casual players alike. The casual\, friendly atmosphere of The Avenue makes it an ideal spot for both experienced gamers and newcomers to enjoy a night of strategy\, competition\, and fun in a relaxed setting.
URL:https://lovelansing.com/event/game-night/2028-09-05/
LOCATION:The Avenue\, 2021 E Michigan Ave\, Lansing\, MI\, 48912\, United States
CATEGORIES:Game Night
GEO:42.7338866;-84.5214406
X-APPLE-STRUCTURED-LOCATION;VALUE=URI;X-ADDRESS=The Avenue 2021 E Michigan Ave Lansing MI 48912 United States;X-APPLE-RADIUS=500;X-TITLE=2021 E Michigan Ave:geo:-84.5214406,42.7338866
END:VEVENT
BEGIN:VEVENT
DTSTART;TZID=America/Detroit:20280908T210000
DTEND;TZID=America/Detroit:20280908T230000
DTSTAMP:20260421T221857
CREATED:20240114T065548Z
LAST-MODIFIED:20240128T194327Z
UID:10001826-1852059600-1852066800@lovelansing.com
SUMMARY:Friday Karakoe
DESCRIPTION:Friday Karaoke at The Avenue Cafe in Lansing\, Michigan\, is a lively and engaging event that has become a staple for locals and visitors alike. Held every Friday from 9:00 pm to 1:30 am\, this event offers a blend of music\, socializing\, and culinary delights from Ruckus Ramen. Whether you’re a seasoned singer or just looking to have fun with friends\, the stage is open for all.
URL:https://lovelansing.com/event/friday-karakoe/2028-09-08/
LOCATION:The Avenue\, 2021 E Michigan Ave\, Lansing\, MI\, 48912\, United States
CATEGORIES:Karaoke
GEO:42.7338866;-84.5214406
X-APPLE-STRUCTURED-LOCATION;VALUE=URI;X-ADDRESS=The Avenue 2021 E Michigan Ave Lansing MI 48912 United States;X-APPLE-RADIUS=500;X-TITLE=2021 E Michigan Ave:geo:-84.5214406,42.7338866
END:VEVENT
BEGIN:VEVENT
DTSTART;TZID=America/Detroit:20280911T200000
DTEND;TZID=America/Detroit:20280911T200000
DTSTAMP:20260421T221857
CREATED:20240114T072001Z
LAST-MODIFIED:20240117T223133Z
UID:10002611-1852315200-1852315200@lovelansing.com
SUMMARY:Karaoke
DESCRIPTION:Karoke every Monday
URL:https://lovelansing.com/event/karaoke/2028-09-11/
LOCATION:The Avenue\, 2021 E Michigan Ave\, Lansing\, MI\, 48912\, United States
CATEGORIES:Karaoke
GEO:42.7338866;-84.5214406
X-APPLE-STRUCTURED-LOCATION;VALUE=URI;X-ADDRESS=The Avenue 2021 E Michigan Ave Lansing MI 48912 United States;X-APPLE-RADIUS=500;X-TITLE=2021 E Michigan Ave:geo:-84.5214406,42.7338866
END:VEVENT
BEGIN:VEVENT
DTSTART;TZID=America/Detroit:20280912T200000
DTEND;TZID=America/Detroit:20280912T223000
DTSTAMP:20260421T221857
CREATED:20240114T072124Z
LAST-MODIFIED:20240130T041407Z
UID:10003753-1852401600-1852410600@lovelansing.com
SUMMARY:Tuesday Game Night
DESCRIPTION:Tuesday Game Nights is a gathering for board game enthusiasts and casual players alike. The casual\, friendly atmosphere of The Avenue makes it an ideal spot for both experienced gamers and newcomers to enjoy a night of strategy\, competition\, and fun in a relaxed setting.
URL:https://lovelansing.com/event/game-night/2028-09-12/
LOCATION:The Avenue\, 2021 E Michigan Ave\, Lansing\, MI\, 48912\, United States
CATEGORIES:Game Night
GEO:42.7338866;-84.5214406
X-APPLE-STRUCTURED-LOCATION;VALUE=URI;X-ADDRESS=The Avenue 2021 E Michigan Ave Lansing MI 48912 United States;X-APPLE-RADIUS=500;X-TITLE=2021 E Michigan Ave:geo:-84.5214406,42.7338866
END:VEVENT
BEGIN:VEVENT
DTSTART;TZID=America/Detroit:20280915T210000
DTEND;TZID=America/Detroit:20280915T230000
DTSTAMP:20260421T221857
CREATED:20240114T065548Z
LAST-MODIFIED:20240128T194327Z
UID:10001827-1852664400-1852671600@lovelansing.com
SUMMARY:Friday Karakoe
DESCRIPTION:Friday Karaoke at The Avenue Cafe in Lansing\, Michigan\, is a lively and engaging event that has become a staple for locals and visitors alike. Held every Friday from 9:00 pm to 1:30 am\, this event offers a blend of music\, socializing\, and culinary delights from Ruckus Ramen. Whether you’re a seasoned singer or just looking to have fun with friends\, the stage is open for all.
URL:https://lovelansing.com/event/friday-karakoe/2028-09-15/
LOCATION:The Avenue\, 2021 E Michigan Ave\, Lansing\, MI\, 48912\, United States
CATEGORIES:Karaoke
GEO:42.7338866;-84.5214406
X-APPLE-STRUCTURED-LOCATION;VALUE=URI;X-ADDRESS=The Avenue 2021 E Michigan Ave Lansing MI 48912 United States;X-APPLE-RADIUS=500;X-TITLE=2021 E Michigan Ave:geo:-84.5214406,42.7338866
END:VEVENT
BEGIN:VEVENT
DTSTART;TZID=America/Detroit:20280918T200000
DTEND;TZID=America/Detroit:20280918T200000
DTSTAMP:20260421T221857
CREATED:20240114T072001Z
LAST-MODIFIED:20240117T223133Z
UID:10002612-1852920000-1852920000@lovelansing.com
SUMMARY:Karaoke
DESCRIPTION:Karoke every Monday
URL:https://lovelansing.com/event/karaoke/2028-09-18/
LOCATION:The Avenue\, 2021 E Michigan Ave\, Lansing\, MI\, 48912\, United States
CATEGORIES:Karaoke
GEO:42.7338866;-84.5214406
X-APPLE-STRUCTURED-LOCATION;VALUE=URI;X-ADDRESS=The Avenue 2021 E Michigan Ave Lansing MI 48912 United States;X-APPLE-RADIUS=500;X-TITLE=2021 E Michigan Ave:geo:-84.5214406,42.7338866
END:VEVENT
BEGIN:VEVENT
DTSTART;TZID=America/Detroit:20280919T200000
DTEND;TZID=America/Detroit:20280919T223000
DTSTAMP:20260421T221858
CREATED:20240114T072124Z
LAST-MODIFIED:20240130T041407Z
UID:10003754-1853006400-1853015400@lovelansing.com
SUMMARY:Tuesday Game Night
DESCRIPTION:Tuesday Game Nights is a gathering for board game enthusiasts and casual players alike. The casual\, friendly atmosphere of The Avenue makes it an ideal spot for both experienced gamers and newcomers to enjoy a night of strategy\, competition\, and fun in a relaxed setting.
URL:https://lovelansing.com/event/game-night/2028-09-19/
LOCATION:The Avenue\, 2021 E Michigan Ave\, Lansing\, MI\, 48912\, United States
CATEGORIES:Game Night
GEO:42.7338866;-84.5214406
X-APPLE-STRUCTURED-LOCATION;VALUE=URI;X-ADDRESS=The Avenue 2021 E Michigan Ave Lansing MI 48912 United States;X-APPLE-RADIUS=500;X-TITLE=2021 E Michigan Ave:geo:-84.5214406,42.7338866
END:VEVENT
BEGIN:VEVENT
DTSTART;TZID=America/Detroit:20280922T210000
DTEND;TZID=America/Detroit:20280922T230000
DTSTAMP:20260421T221858
CREATED:20240114T065548Z
LAST-MODIFIED:20240128T194327Z
UID:10001828-1853269200-1853276400@lovelansing.com
SUMMARY:Friday Karakoe
DESCRIPTION:Friday Karaoke at The Avenue Cafe in Lansing\, Michigan\, is a lively and engaging event that has become a staple for locals and visitors alike. Held every Friday from 9:00 pm to 1:30 am\, this event offers a blend of music\, socializing\, and culinary delights from Ruckus Ramen. Whether you’re a seasoned singer or just looking to have fun with friends\, the stage is open for all.
URL:https://lovelansing.com/event/friday-karakoe/2028-09-22/
LOCATION:The Avenue\, 2021 E Michigan Ave\, Lansing\, MI\, 48912\, United States
CATEGORIES:Karaoke
GEO:42.7338866;-84.5214406
X-APPLE-STRUCTURED-LOCATION;VALUE=URI;X-ADDRESS=The Avenue 2021 E Michigan Ave Lansing MI 48912 United States;X-APPLE-RADIUS=500;X-TITLE=2021 E Michigan Ave:geo:-84.5214406,42.7338866
END:VEVENT
BEGIN:VEVENT
DTSTART;TZID=America/Detroit:20280925T200000
DTEND;TZID=America/Detroit:20280925T200000
DTSTAMP:20260421T221858
CREATED:20240114T072001Z
LAST-MODIFIED:20240117T223133Z
UID:10002613-1853524800-1853524800@lovelansing.com
SUMMARY:Karaoke
DESCRIPTION:Karoke every Monday
URL:https://lovelansing.com/event/karaoke/2028-09-25/
LOCATION:The Avenue\, 2021 E Michigan Ave\, Lansing\, MI\, 48912\, United States
CATEGORIES:Karaoke
GEO:42.7338866;-84.5214406
X-APPLE-STRUCTURED-LOCATION;VALUE=URI;X-ADDRESS=The Avenue 2021 E Michigan Ave Lansing MI 48912 United States;X-APPLE-RADIUS=500;X-TITLE=2021 E Michigan Ave:geo:-84.5214406,42.7338866
END:VEVENT
BEGIN:VEVENT
DTSTART;TZID=America/Detroit:20280926T200000
DTEND;TZID=America/Detroit:20280926T223000
DTSTAMP:20260421T221858
CREATED:20240114T072124Z
LAST-MODIFIED:20240130T041407Z
UID:10003755-1853611200-1853620200@lovelansing.com
SUMMARY:Tuesday Game Night
DESCRIPTION:Tuesday Game Nights is a gathering for board game enthusiasts and casual players alike. The casual\, friendly atmosphere of The Avenue makes it an ideal spot for both experienced gamers and newcomers to enjoy a night of strategy\, competition\, and fun in a relaxed setting.
URL:https://lovelansing.com/event/game-night/2028-09-26/
LOCATION:The Avenue\, 2021 E Michigan Ave\, Lansing\, MI\, 48912\, United States
CATEGORIES:Game Night
GEO:42.7338866;-84.5214406
X-APPLE-STRUCTURED-LOCATION;VALUE=URI;X-ADDRESS=The Avenue 2021 E Michigan Ave Lansing MI 48912 United States;X-APPLE-RADIUS=500;X-TITLE=2021 E Michigan Ave:geo:-84.5214406,42.7338866
END:VEVENT
BEGIN:VEVENT
DTSTART;TZID=America/Detroit:20280929T210000
DTEND;TZID=America/Detroit:20280929T230000
DTSTAMP:20260421T221858
CREATED:20240114T065548Z
LAST-MODIFIED:20240128T194327Z
UID:10001829-1853874000-1853881200@lovelansing.com
SUMMARY:Friday Karakoe
DESCRIPTION:Friday Karaoke at The Avenue Cafe in Lansing\, Michigan\, is a lively and engaging event that has become a staple for locals and visitors alike. Held every Friday from 9:00 pm to 1:30 am\, this event offers a blend of music\, socializing\, and culinary delights from Ruckus Ramen. Whether you’re a seasoned singer or just looking to have fun with friends\, the stage is open for all.
URL:https://lovelansing.com/event/friday-karakoe/2028-09-29/
LOCATION:The Avenue\, 2021 E Michigan Ave\, Lansing\, MI\, 48912\, United States
CATEGORIES:Karaoke
GEO:42.7338866;-84.5214406
X-APPLE-STRUCTURED-LOCATION;VALUE=URI;X-ADDRESS=The Avenue 2021 E Michigan Ave Lansing MI 48912 United States;X-APPLE-RADIUS=500;X-TITLE=2021 E Michigan Ave:geo:-84.5214406,42.7338866
END:VEVENT
BEGIN:VEVENT
DTSTART;TZID=America/Detroit:20281002T200000
DTEND;TZID=America/Detroit:20281002T200000
DTSTAMP:20260421T221858
CREATED:20240114T072001Z
LAST-MODIFIED:20240117T223133Z
UID:10002614-1854129600-1854129600@lovelansing.com
SUMMARY:Karaoke
DESCRIPTION:Karoke every Monday
URL:https://lovelansing.com/event/karaoke/2028-10-02/
LOCATION:The Avenue\, 2021 E Michigan Ave\, Lansing\, MI\, 48912\, United States
CATEGORIES:Karaoke
GEO:42.7338866;-84.5214406
X-APPLE-STRUCTURED-LOCATION;VALUE=URI;X-ADDRESS=The Avenue 2021 E Michigan Ave Lansing MI 48912 United States;X-APPLE-RADIUS=500;X-TITLE=2021 E Michigan Ave:geo:-84.5214406,42.7338866
END:VEVENT
BEGIN:VEVENT
DTSTART;TZID=America/Detroit:20281003T200000
DTEND;TZID=America/Detroit:20281003T223000
DTSTAMP:20260421T221858
CREATED:20240114T072124Z
LAST-MODIFIED:20240130T041407Z
UID:10003756-1854216000-1854225000@lovelansing.com
SUMMARY:Tuesday Game Night
DESCRIPTION:Tuesday Game Nights is a gathering for board game enthusiasts and casual players alike. The casual\, friendly atmosphere of The Avenue makes it an ideal spot for both experienced gamers and newcomers to enjoy a night of strategy\, competition\, and fun in a relaxed setting.
URL:https://lovelansing.com/event/game-night/2028-10-03/
LOCATION:The Avenue\, 2021 E Michigan Ave\, Lansing\, MI\, 48912\, United States
CATEGORIES:Game Night
GEO:42.7338866;-84.5214406
X-APPLE-STRUCTURED-LOCATION;VALUE=URI;X-ADDRESS=The Avenue 2021 E Michigan Ave Lansing MI 48912 United States;X-APPLE-RADIUS=500;X-TITLE=2021 E Michigan Ave:geo:-84.5214406,42.7338866
END:VEVENT
BEGIN:VEVENT
DTSTART;TZID=America/Detroit:20281006T210000
DTEND;TZID=America/Detroit:20281006T230000
DTSTAMP:20260421T221858
CREATED:20240114T065548Z
LAST-MODIFIED:20240128T194327Z
UID:10001830-1854478800-1854486000@lovelansing.com
SUMMARY:Friday Karakoe
DESCRIPTION:Friday Karaoke at The Avenue Cafe in Lansing\, Michigan\, is a lively and engaging event that has become a staple for locals and visitors alike. Held every Friday from 9:00 pm to 1:30 am\, this event offers a blend of music\, socializing\, and culinary delights from Ruckus Ramen. Whether you’re a seasoned singer or just looking to have fun with friends\, the stage is open for all.
URL:https://lovelansing.com/event/friday-karakoe/2028-10-06/
LOCATION:The Avenue\, 2021 E Michigan Ave\, Lansing\, MI\, 48912\, United States
CATEGORIES:Karaoke
GEO:42.7338866;-84.5214406
X-APPLE-STRUCTURED-LOCATION;VALUE=URI;X-ADDRESS=The Avenue 2021 E Michigan Ave Lansing MI 48912 United States;X-APPLE-RADIUS=500;X-TITLE=2021 E Michigan Ave:geo:-84.5214406,42.7338866
END:VEVENT
BEGIN:VEVENT
DTSTART;TZID=America/Detroit:20281009T200000
DTEND;TZID=America/Detroit:20281009T200000
DTSTAMP:20260421T221858
CREATED:20240114T072001Z
LAST-MODIFIED:20240117T223133Z
UID:10002615-1854734400-1854734400@lovelansing.com
SUMMARY:Karaoke
DESCRIPTION:Karoke every Monday
URL:https://lovelansing.com/event/karaoke/2028-10-09/
LOCATION:The Avenue\, 2021 E Michigan Ave\, Lansing\, MI\, 48912\, United States
CATEGORIES:Karaoke
GEO:42.7338866;-84.5214406
X-APPLE-STRUCTURED-LOCATION;VALUE=URI;X-ADDRESS=The Avenue 2021 E Michigan Ave Lansing MI 48912 United States;X-APPLE-RADIUS=500;X-TITLE=2021 E Michigan Ave:geo:-84.5214406,42.7338866
END:VEVENT
BEGIN:VEVENT
DTSTART;TZID=America/Detroit:20281010T200000
DTEND;TZID=America/Detroit:20281010T223000
DTSTAMP:20260421T221858
CREATED:20240114T072124Z
LAST-MODIFIED:20240130T041407Z
UID:10003757-1854820800-1854829800@lovelansing.com
SUMMARY:Tuesday Game Night
DESCRIPTION:Tuesday Game Nights is a gathering for board game enthusiasts and casual players alike. The casual\, friendly atmosphere of The Avenue makes it an ideal spot for both experienced gamers and newcomers to enjoy a night of strategy\, competition\, and fun in a relaxed setting.
URL:https://lovelansing.com/event/game-night/2028-10-10/
LOCATION:The Avenue\, 2021 E Michigan Ave\, Lansing\, MI\, 48912\, United States
CATEGORIES:Game Night
GEO:42.7338866;-84.5214406
X-APPLE-STRUCTURED-LOCATION;VALUE=URI;X-ADDRESS=The Avenue 2021 E Michigan Ave Lansing MI 48912 United States;X-APPLE-RADIUS=500;X-TITLE=2021 E Michigan Ave:geo:-84.5214406,42.7338866
END:VEVENT
BEGIN:VEVENT
DTSTART;TZID=America/Detroit:20281013T210000
DTEND;TZID=America/Detroit:20281013T230000
DTSTAMP:20260421T221858
CREATED:20240114T065548Z
LAST-MODIFIED:20240128T194327Z
UID:10001831-1855083600-1855090800@lovelansing.com
SUMMARY:Friday Karakoe
DESCRIPTION:Friday Karaoke at The Avenue Cafe in Lansing\, Michigan\, is a lively and engaging event that has become a staple for locals and visitors alike. Held every Friday from 9:00 pm to 1:30 am\, this event offers a blend of music\, socializing\, and culinary delights from Ruckus Ramen. Whether you’re a seasoned singer or just looking to have fun with friends\, the stage is open for all.
URL:https://lovelansing.com/event/friday-karakoe/2028-10-13/
LOCATION:The Avenue\, 2021 E Michigan Ave\, Lansing\, MI\, 48912\, United States
CATEGORIES:Karaoke
GEO:42.7338866;-84.5214406
X-APPLE-STRUCTURED-LOCATION;VALUE=URI;X-ADDRESS=The Avenue 2021 E Michigan Ave Lansing MI 48912 United States;X-APPLE-RADIUS=500;X-TITLE=2021 E Michigan Ave:geo:-84.5214406,42.7338866
END:VEVENT
BEGIN:VEVENT
DTSTART;TZID=America/Detroit:20281016T200000
DTEND;TZID=America/Detroit:20281016T200000
DTSTAMP:20260421T221858
CREATED:20240114T072001Z
LAST-MODIFIED:20240117T223133Z
UID:10002616-1855339200-1855339200@lovelansing.com
SUMMARY:Karaoke
DESCRIPTION:Karoke every Monday
URL:https://lovelansing.com/event/karaoke/2028-10-16/
LOCATION:The Avenue\, 2021 E Michigan Ave\, Lansing\, MI\, 48912\, United States
CATEGORIES:Karaoke
GEO:42.7338866;-84.5214406
X-APPLE-STRUCTURED-LOCATION;VALUE=URI;X-ADDRESS=The Avenue 2021 E Michigan Ave Lansing MI 48912 United States;X-APPLE-RADIUS=500;X-TITLE=2021 E Michigan Ave:geo:-84.5214406,42.7338866
END:VEVENT
END:VCALENDAR