BEGIN:VCALENDAR
VERSION:2.0
PRODID:-//Love Lansing - ECPv6.9.0//NONSGML v1.0//EN
CALSCALE:GREGORIAN
METHOD:PUBLISH
X-ORIGINAL-URL:https://lovelansing.com
X-WR-CALDESC:Events for Love Lansing
REFRESH-INTERVAL;VALUE=DURATION:PT1H
X-Robots-Tag:noindex
X-PUBLISHED-TTL:PT1H
BEGIN:VTIMEZONE
TZID:America/Detroit
BEGIN:DAYLIGHT
TZOFFSETFROM:-0500
TZOFFSETTO:-0400
TZNAME:EDT
DTSTART:20240310T070000
END:DAYLIGHT
BEGIN:STANDARD
TZOFFSETFROM:-0400
TZOFFSETTO:-0500
TZNAME:EST
DTSTART:20241103T060000
END:STANDARD
END:VTIMEZONE
BEGIN:VEVENT
DTSTART;TZID=America/Detroit:20240224T200000
DTEND;TZID=America/Detroit:20240224T233000
DTSTAMP:20260424T154139
CREATED:20240130T043123Z
LAST-MODIFIED:20240130T155905Z
UID:10004038-1708804800-1708817400@lovelansing.com
SUMMARY:Dark Art of Michigan 6th Annual Black Hearts Ball
DESCRIPTION:Put on your Black Sunday’s finest and join the annual Formal Gothic Dance Party!\n\nDark Art of Michigan Performance Show Hosted by Tiesha King\, aka Secretia Noxious\nGothic Dance Party with DJ Mary X\nDark Arts Vendors and artists\nTriple Goddess open for business and readings (not included)\n\n\nThe Dark Art of Michigan’s Dark Hearts Ball is an original performance art event founded by Teisha King and Sean Peters. It embodies a unique blend of inclusivity and offbeat entertainment\, celebrating a diverse array of artists and performers from the area. The event features a wide range of acts\, including burlesque dancers\, drag performers\, and musicians\, who deliver their performances with a distinctive flair. The Dark Hearts Ball\, along with other events organized by The Dark Art of Michigan\, provides a space for artists to showcase their talents\, engage with the community\, and explore unconventional artistic themes\nDress up\, it’s Prom Night!
URL:https://lovelansing.com/event/dark-art-of-michigan-6th-annual-black-hearts-ball/
LOCATION:The Avenue\, 2021 E Michigan Ave\, Lansing\, MI\, 48912\, United States
CATEGORIES:burlesque
GEO:42.7338866;-84.5214406
X-APPLE-STRUCTURED-LOCATION;VALUE=URI;X-ADDRESS=The Avenue 2021 E Michigan Ave Lansing MI 48912 United States;X-APPLE-RADIUS=500;X-TITLE=2021 E Michigan Ave:geo:-84.5214406,42.7338866
END:VEVENT
BEGIN:VEVENT
DTSTART;TZID=America/Detroit:20240223T210000
DTEND;TZID=America/Detroit:20240223T230000
DTSTAMP:20260424T154139
CREATED:20240114T065548Z
LAST-MODIFIED:20240128T194327Z
UID:10001589-1708722000-1708729200@lovelansing.com
SUMMARY:Friday Karakoe
DESCRIPTION:Friday Karaoke at The Avenue Cafe in Lansing\, Michigan\, is a lively and engaging event that has become a staple for locals and visitors alike. Held every Friday from 9:00 pm to 1:30 am\, this event offers a blend of music\, socializing\, and culinary delights from Ruckus Ramen. Whether you’re a seasoned singer or just looking to have fun with friends\, the stage is open for all.
URL:https://lovelansing.com/event/friday-karakoe/2024-02-23/
LOCATION:The Avenue\, 2021 E Michigan Ave\, Lansing\, MI\, 48912\, United States
CATEGORIES:Karaoke
GEO:42.7338866;-84.5214406
X-APPLE-STRUCTURED-LOCATION;VALUE=URI;X-ADDRESS=The Avenue 2021 E Michigan Ave Lansing MI 48912 United States;X-APPLE-RADIUS=500;X-TITLE=2021 E Michigan Ave:geo:-84.5214406,42.7338866
END:VEVENT
BEGIN:VEVENT
DTSTART;TZID=America/Detroit:20240223T210000
DTEND;TZID=America/Detroit:20240223T210000
DTSTAMP:20260424T154139
CREATED:20240218T182541Z
LAST-MODIFIED:20240219T140800Z
UID:10004041-1708722000-1708722000@lovelansing.com
SUMMARY:Nick Cage Party
DESCRIPTION:Wear your best Nicholas Cage outfit to compete in the costume contest\, consume Nick Cage cocktails and more.
URL:https://lovelansing.com/event/nick-cage-party/
LOCATION:The Avenue\, 2021 E Michigan Ave\, Lansing\, MI\, 48912\, United States
CATEGORIES:DJ
GEO:42.7338866;-84.5214406
X-APPLE-STRUCTURED-LOCATION;VALUE=URI;X-ADDRESS=The Avenue 2021 E Michigan Ave Lansing MI 48912 United States;X-APPLE-RADIUS=500;X-TITLE=2021 E Michigan Ave:geo:-84.5214406,42.7338866
END:VEVENT
BEGIN:VEVENT
DTSTART;TZID=America/Detroit:20240222T210000
DTEND;TZID=America/Detroit:20240222T210000
DTSTAMP:20260424T154139
CREATED:20240218T180915Z
LAST-MODIFIED:20240219T140647Z
UID:10004040-1708635600-1708635600@lovelansing.com
SUMMARY:Trivia: Guess that song
DESCRIPTION:
URL:https://lovelansing.com/event/trivia-guess-that-song/
LOCATION:The Avenue\, 2021 E Michigan Ave\, Lansing\, MI\, 48912\, United States
CATEGORIES:Trivia
GEO:42.7338866;-84.5214406
X-APPLE-STRUCTURED-LOCATION;VALUE=URI;X-ADDRESS=The Avenue 2021 E Michigan Ave Lansing MI 48912 United States;X-APPLE-RADIUS=500;X-TITLE=2021 E Michigan Ave:geo:-84.5214406,42.7338866
END:VEVENT
BEGIN:VEVENT
DTSTART;TZID=America/Detroit:20240220T200000
DTEND;TZID=America/Detroit:20240220T223000
DTSTAMP:20260424T154139
CREATED:20240114T072124Z
LAST-MODIFIED:20240130T041407Z
UID:10003515-1708459200-1708468200@lovelansing.com
SUMMARY:Tuesday Game Night
DESCRIPTION:Tuesday Game Nights is a gathering for board game enthusiasts and casual players alike. The casual\, friendly atmosphere of The Avenue makes it an ideal spot for both experienced gamers and newcomers to enjoy a night of strategy\, competition\, and fun in a relaxed setting.
URL:https://lovelansing.com/event/game-night/2024-02-20/
LOCATION:The Avenue\, 2021 E Michigan Ave\, Lansing\, MI\, 48912\, United States
CATEGORIES:Game Night
GEO:42.7338866;-84.5214406
X-APPLE-STRUCTURED-LOCATION;VALUE=URI;X-ADDRESS=The Avenue 2021 E Michigan Ave Lansing MI 48912 United States;X-APPLE-RADIUS=500;X-TITLE=2021 E Michigan Ave:geo:-84.5214406,42.7338866
END:VEVENT
BEGIN:VEVENT
DTSTART;TZID=America/Detroit:20240219T200000
DTEND;TZID=America/Detroit:20240219T200000
DTSTAMP:20260424T154139
CREATED:20240114T072001Z
LAST-MODIFIED:20240117T223133Z
UID:10002373-1708372800-1708372800@lovelansing.com
SUMMARY:Karaoke
DESCRIPTION:Karoke every Monday
URL:https://lovelansing.com/event/karaoke/2024-02-19/
LOCATION:The Avenue\, 2021 E Michigan Ave\, Lansing\, MI\, 48912\, United States
CATEGORIES:Karaoke
GEO:42.7338866;-84.5214406
X-APPLE-STRUCTURED-LOCATION;VALUE=URI;X-ADDRESS=The Avenue 2021 E Michigan Ave Lansing MI 48912 United States;X-APPLE-RADIUS=500;X-TITLE=2021 E Michigan Ave:geo:-84.5214406,42.7338866
END:VEVENT
BEGIN:VEVENT
DTSTART;TZID=America/Detroit:20240218T190000
DTEND;TZID=America/Detroit:20240218T213000
DTSTAMP:20260424T154139
CREATED:20240218T183620Z
LAST-MODIFIED:20240218T223308Z
UID:10004042-1708282800-1708291800@lovelansing.com
SUMMARY:LA Tea & Mad Moon
DESCRIPTION:In a unique blend of talent and musical exploration\, members from the eclectic group La La Delivery have partnered with the dynamic Sara Tea to form the collaboration known as LaTea. This innovative ensemble promises a fresh fusion of sounds\, bringing together the distinctive styles of La La Delivery’s experimental approach with Sara Tea’s signature energy and creativity. Their performance is highly anticipated\, promising an evening of innovative music that will captivate audiences with its originality and dynamic range. \nIn another exciting collaboration\, members of Narc Out the Reds and The Plurals have come together to create Mad Moon\, a supergroup that combines the strengths of both bands into a compelling new entity. Narc Out the Reds\, known for their sharp lyrical insights and intricate compositions\, merges seamlessly with The Plurals’ punk-inflected melodies and earnest vocals. This union is expected to deliver a powerful performance that blends the best of indie rock with elements of punk and alternative\, showcasing the depth and diversity of Lansing\, Michigan’s music scene. \nBoth LaTea and Mad Moon are set to perform on Sunday at the Avenue in Lansing\, Michigan\, promising a night of memorable music that highlights the innovative spirit and collaborative nature of the local scene. These performances not only showcase the talent and creativity of the involved musicians but also reflect the vibrant and supportive community that nurtures and celebrates its emerging artists. Audiences can expect a night filled with passion\, innovation\, and the unique sounds that emerge when talented artists come together to create something truly special. \n\n\n\n\n\n\n\n\n\n\n\n\nDoors at 7\, show starts at 7:30 and wraps by 9:30. \nSnakzilla Kitchen open 7 to 11 p.m.
URL:https://lovelansing.com/event/la-tea-mad-moon/
LOCATION:The Avenue\, 2021 E Michigan Ave\, Lansing\, MI\, 48912\, United States
CATEGORIES:Indie/Rock
ORGANIZER;CN="La La Delivery":MAILTO:laladeliveryrox@gmail.com
GEO:42.7338866;-84.5214406
X-APPLE-STRUCTURED-LOCATION;VALUE=URI;X-ADDRESS=The Avenue 2021 E Michigan Ave Lansing MI 48912 United States;X-APPLE-RADIUS=500;X-TITLE=2021 E Michigan Ave:geo:-84.5214406,42.7338866
END:VEVENT
BEGIN:VEVENT
DTSTART;TZID=America/Detroit:20240216T210000
DTEND;TZID=America/Detroit:20240216T230000
DTSTAMP:20260424T154139
CREATED:20240114T065548Z
LAST-MODIFIED:20240128T194327Z
UID:10001588-1708117200-1708124400@lovelansing.com
SUMMARY:Friday Karakoe
DESCRIPTION:Friday Karaoke at The Avenue Cafe in Lansing\, Michigan\, is a lively and engaging event that has become a staple for locals and visitors alike. Held every Friday from 9:00 pm to 1:30 am\, this event offers a blend of music\, socializing\, and culinary delights from Ruckus Ramen. Whether you’re a seasoned singer or just looking to have fun with friends\, the stage is open for all.
URL:https://lovelansing.com/event/friday-karakoe/2024-02-16/
LOCATION:The Avenue\, 2021 E Michigan Ave\, Lansing\, MI\, 48912\, United States
CATEGORIES:Karaoke
GEO:42.7338866;-84.5214406
X-APPLE-STRUCTURED-LOCATION;VALUE=URI;X-ADDRESS=The Avenue 2021 E Michigan Ave Lansing MI 48912 United States;X-APPLE-RADIUS=500;X-TITLE=2021 E Michigan Ave:geo:-84.5214406,42.7338866
END:VEVENT
BEGIN:VEVENT
DTSTART;TZID=America/Detroit:20240213T200000
DTEND;TZID=America/Detroit:20240213T223000
DTSTAMP:20260424T154139
CREATED:20240114T072124Z
LAST-MODIFIED:20240130T041407Z
UID:10003514-1707854400-1707863400@lovelansing.com
SUMMARY:Tuesday Game Night
DESCRIPTION:Tuesday Game Nights is a gathering for board game enthusiasts and casual players alike. The casual\, friendly atmosphere of The Avenue makes it an ideal spot for both experienced gamers and newcomers to enjoy a night of strategy\, competition\, and fun in a relaxed setting.
URL:https://lovelansing.com/event/game-night/2024-02-13/
LOCATION:The Avenue\, 2021 E Michigan Ave\, Lansing\, MI\, 48912\, United States
CATEGORIES:Game Night
GEO:42.7338866;-84.5214406
X-APPLE-STRUCTURED-LOCATION;VALUE=URI;X-ADDRESS=The Avenue 2021 E Michigan Ave Lansing MI 48912 United States;X-APPLE-RADIUS=500;X-TITLE=2021 E Michigan Ave:geo:-84.5214406,42.7338866
END:VEVENT
BEGIN:VEVENT
DTSTART;TZID=America/Detroit:20240212T200000
DTEND;TZID=America/Detroit:20240212T200000
DTSTAMP:20260424T154139
CREATED:20240114T072001Z
LAST-MODIFIED:20240117T223133Z
UID:10002372-1707768000-1707768000@lovelansing.com
SUMMARY:Karaoke
DESCRIPTION:Karoke every Monday
URL:https://lovelansing.com/event/karaoke/2024-02-12/
LOCATION:The Avenue\, 2021 E Michigan Ave\, Lansing\, MI\, 48912\, United States
CATEGORIES:Karaoke
GEO:42.7338866;-84.5214406
X-APPLE-STRUCTURED-LOCATION;VALUE=URI;X-ADDRESS=The Avenue 2021 E Michigan Ave Lansing MI 48912 United States;X-APPLE-RADIUS=500;X-TITLE=2021 E Michigan Ave:geo:-84.5214406,42.7338866
END:VEVENT
BEGIN:VEVENT
DTSTART;TZID=America/Detroit:20240209T210000
DTEND;TZID=America/Detroit:20240209T230000
DTSTAMP:20260424T154139
CREATED:20240114T065548Z
LAST-MODIFIED:20240128T194327Z
UID:10001587-1707512400-1707519600@lovelansing.com
SUMMARY:Friday Karakoe
DESCRIPTION:Friday Karaoke at The Avenue Cafe in Lansing\, Michigan\, is a lively and engaging event that has become a staple for locals and visitors alike. Held every Friday from 9:00 pm to 1:30 am\, this event offers a blend of music\, socializing\, and culinary delights from Ruckus Ramen. Whether you’re a seasoned singer or just looking to have fun with friends\, the stage is open for all.
URL:https://lovelansing.com/event/friday-karakoe/2024-02-09/
LOCATION:The Avenue\, 2021 E Michigan Ave\, Lansing\, MI\, 48912\, United States
CATEGORIES:Karaoke
GEO:42.7338866;-84.5214406
X-APPLE-STRUCTURED-LOCATION;VALUE=URI;X-ADDRESS=The Avenue 2021 E Michigan Ave Lansing MI 48912 United States;X-APPLE-RADIUS=500;X-TITLE=2021 E Michigan Ave:geo:-84.5214406,42.7338866
END:VEVENT
BEGIN:VEVENT
DTSTART;TZID=America/Detroit:20240206T200000
DTEND;TZID=America/Detroit:20240206T223000
DTSTAMP:20260424T154139
CREATED:20240114T072124Z
LAST-MODIFIED:20240130T041407Z
UID:10003513-1707249600-1707258600@lovelansing.com
SUMMARY:Tuesday Game Night
DESCRIPTION:Tuesday Game Nights is a gathering for board game enthusiasts and casual players alike. The casual\, friendly atmosphere of The Avenue makes it an ideal spot for both experienced gamers and newcomers to enjoy a night of strategy\, competition\, and fun in a relaxed setting.
URL:https://lovelansing.com/event/game-night/2024-02-06/
LOCATION:The Avenue\, 2021 E Michigan Ave\, Lansing\, MI\, 48912\, United States
CATEGORIES:Game Night
GEO:42.7338866;-84.5214406
X-APPLE-STRUCTURED-LOCATION;VALUE=URI;X-ADDRESS=The Avenue 2021 E Michigan Ave Lansing MI 48912 United States;X-APPLE-RADIUS=500;X-TITLE=2021 E Michigan Ave:geo:-84.5214406,42.7338866
END:VEVENT
BEGIN:VEVENT
DTSTART;TZID=America/Detroit:20240205T200000
DTEND;TZID=America/Detroit:20240205T200000
DTSTAMP:20260424T154139
CREATED:20240114T072001Z
LAST-MODIFIED:20240117T223133Z
UID:10002371-1707163200-1707163200@lovelansing.com
SUMMARY:Karaoke
DESCRIPTION:Karoke every Monday
URL:https://lovelansing.com/event/karaoke/2024-02-05/
LOCATION:The Avenue\, 2021 E Michigan Ave\, Lansing\, MI\, 48912\, United States
CATEGORIES:Karaoke
GEO:42.7338866;-84.5214406
X-APPLE-STRUCTURED-LOCATION;VALUE=URI;X-ADDRESS=The Avenue 2021 E Michigan Ave Lansing MI 48912 United States;X-APPLE-RADIUS=500;X-TITLE=2021 E Michigan Ave:geo:-84.5214406,42.7338866
END:VEVENT
BEGIN:VEVENT
DTSTART;TZID=America/Detroit:20240202T210000
DTEND;TZID=America/Detroit:20240202T230000
DTSTAMP:20260424T154139
CREATED:20240114T065548Z
LAST-MODIFIED:20240128T194327Z
UID:10001586-1706907600-1706914800@lovelansing.com
SUMMARY:Friday Karakoe
DESCRIPTION:Friday Karaoke at The Avenue Cafe in Lansing\, Michigan\, is a lively and engaging event that has become a staple for locals and visitors alike. Held every Friday from 9:00 pm to 1:30 am\, this event offers a blend of music\, socializing\, and culinary delights from Ruckus Ramen. Whether you’re a seasoned singer or just looking to have fun with friends\, the stage is open for all.
URL:https://lovelansing.com/event/friday-karakoe/2024-02-02/
LOCATION:The Avenue\, 2021 E Michigan Ave\, Lansing\, MI\, 48912\, United States
CATEGORIES:Karaoke
GEO:42.7338866;-84.5214406
X-APPLE-STRUCTURED-LOCATION;VALUE=URI;X-ADDRESS=The Avenue 2021 E Michigan Ave Lansing MI 48912 United States;X-APPLE-RADIUS=500;X-TITLE=2021 E Michigan Ave:geo:-84.5214406,42.7338866
END:VEVENT
BEGIN:VEVENT
DTSTART;TZID=America/Detroit:20240130T200000
DTEND;TZID=America/Detroit:20240130T223000
DTSTAMP:20260424T154139
CREATED:20240114T072124Z
LAST-MODIFIED:20240130T041407Z
UID:10003512-1706644800-1706653800@lovelansing.com
SUMMARY:Tuesday Game Night
DESCRIPTION:Tuesday Game Nights is a gathering for board game enthusiasts and casual players alike. The casual\, friendly atmosphere of The Avenue makes it an ideal spot for both experienced gamers and newcomers to enjoy a night of strategy\, competition\, and fun in a relaxed setting.
URL:https://lovelansing.com/event/game-night/2024-01-30/
LOCATION:The Avenue\, 2021 E Michigan Ave\, Lansing\, MI\, 48912\, United States
CATEGORIES:Game Night
GEO:42.7338866;-84.5214406
X-APPLE-STRUCTURED-LOCATION;VALUE=URI;X-ADDRESS=The Avenue 2021 E Michigan Ave Lansing MI 48912 United States;X-APPLE-RADIUS=500;X-TITLE=2021 E Michigan Ave:geo:-84.5214406,42.7338866
END:VEVENT
BEGIN:VEVENT
DTSTART;TZID=America/Detroit:20240129T200000
DTEND;TZID=America/Detroit:20240129T200000
DTSTAMP:20260424T154139
CREATED:20240114T072001Z
LAST-MODIFIED:20240117T223133Z
UID:10002370-1706558400-1706558400@lovelansing.com
SUMMARY:Karaoke
DESCRIPTION:Karoke every Monday
URL:https://lovelansing.com/event/karaoke/2024-01-29/
LOCATION:The Avenue\, 2021 E Michigan Ave\, Lansing\, MI\, 48912\, United States
CATEGORIES:Karaoke
GEO:42.7338866;-84.5214406
X-APPLE-STRUCTURED-LOCATION;VALUE=URI;X-ADDRESS=The Avenue 2021 E Michigan Ave Lansing MI 48912 United States;X-APPLE-RADIUS=500;X-TITLE=2021 E Michigan Ave:geo:-84.5214406,42.7338866
END:VEVENT
BEGIN:VEVENT
DTSTART;TZID=America/Detroit:20240128T190000
DTEND;TZID=America/Detroit:20240128T220000
DTSTAMP:20260424T154139
CREATED:20240114T071755Z
LAST-MODIFIED:20240117T221421Z
UID:10000534-1706468400-1706479200@lovelansing.com
SUMMARY:The Plurettes \ School of Rock Adult Band
DESCRIPTION:
URL:https://lovelansing.com/event/the-plurettes-school-of-rock-adult-band/
LOCATION:The Avenue\, 2021 E Michigan Ave\, Lansing\, MI\, 48912\, United States
CATEGORIES:Live Music,Rock/Pop
GEO:42.7338866;-84.5214406
X-APPLE-STRUCTURED-LOCATION;VALUE=URI;X-ADDRESS=The Avenue 2021 E Michigan Ave Lansing MI 48912 United States;X-APPLE-RADIUS=500;X-TITLE=2021 E Michigan Ave:geo:-84.5214406,42.7338866
END:VEVENT
BEGIN:VEVENT
DTSTART;TZID=America/Detroit:20240126T210000
DTEND;TZID=America/Detroit:20240126T230000
DTSTAMP:20260424T154139
CREATED:20240114T065548Z
LAST-MODIFIED:20240128T194327Z
UID:10001585-1706302800-1706310000@lovelansing.com
SUMMARY:Friday Karakoe
DESCRIPTION:Friday Karaoke at The Avenue Cafe in Lansing\, Michigan\, is a lively and engaging event that has become a staple for locals and visitors alike. Held every Friday from 9:00 pm to 1:30 am\, this event offers a blend of music\, socializing\, and culinary delights from Ruckus Ramen. Whether you’re a seasoned singer or just looking to have fun with friends\, the stage is open for all.
URL:https://lovelansing.com/event/friday-karakoe/2024-01-26/
LOCATION:The Avenue\, 2021 E Michigan Ave\, Lansing\, MI\, 48912\, United States
CATEGORIES:Karaoke
GEO:42.7338866;-84.5214406
X-APPLE-STRUCTURED-LOCATION;VALUE=URI;X-ADDRESS=The Avenue 2021 E Michigan Ave Lansing MI 48912 United States;X-APPLE-RADIUS=500;X-TITLE=2021 E Michigan Ave:geo:-84.5214406,42.7338866
END:VEVENT
BEGIN:VEVENT
DTSTART;TZID=America/Detroit:20240125T210000
DTEND;TZID=America/Detroit:20240125T230000
DTSTAMP:20260424T154139
CREATED:20240114T071404Z
LAST-MODIFIED:20240117T221713Z
UID:10000271-1706216400-1706223600@lovelansing.com
SUMMARY:Trivia: 90s Video Games
DESCRIPTION:
URL:https://lovelansing.com/event/trivia-90s-video-games/
LOCATION:The Avenue\, 2021 E Michigan Ave\, Lansing\, MI\, 48912\, United States
CATEGORIES:Trivia
GEO:42.7338866;-84.5214406
X-APPLE-STRUCTURED-LOCATION;VALUE=URI;X-ADDRESS=The Avenue 2021 E Michigan Ave Lansing MI 48912 United States;X-APPLE-RADIUS=500;X-TITLE=2021 E Michigan Ave:geo:-84.5214406,42.7338866
END:VEVENT
BEGIN:VEVENT
DTSTART;TZID=America/Detroit:20240123T200000
DTEND;TZID=America/Detroit:20240123T223000
DTSTAMP:20260424T154139
CREATED:20240114T072124Z
LAST-MODIFIED:20240130T041407Z
UID:10003511-1706040000-1706049000@lovelansing.com
SUMMARY:Tuesday Game Night
DESCRIPTION:Tuesday Game Nights is a gathering for board game enthusiasts and casual players alike. The casual\, friendly atmosphere of The Avenue makes it an ideal spot for both experienced gamers and newcomers to enjoy a night of strategy\, competition\, and fun in a relaxed setting.
URL:https://lovelansing.com/event/game-night/2024-01-23/
LOCATION:The Avenue\, 2021 E Michigan Ave\, Lansing\, MI\, 48912\, United States
CATEGORIES:Game Night
GEO:42.7338866;-84.5214406
X-APPLE-STRUCTURED-LOCATION;VALUE=URI;X-ADDRESS=The Avenue 2021 E Michigan Ave Lansing MI 48912 United States;X-APPLE-RADIUS=500;X-TITLE=2021 E Michigan Ave:geo:-84.5214406,42.7338866
END:VEVENT
BEGIN:VEVENT
DTSTART;TZID=America/Detroit:20240122T200000
DTEND;TZID=America/Detroit:20240122T200000
DTSTAMP:20260424T154139
CREATED:20240114T072001Z
LAST-MODIFIED:20240117T223133Z
UID:10002369-1705953600-1705953600@lovelansing.com
SUMMARY:Karaoke
DESCRIPTION:Karoke every Monday
URL:https://lovelansing.com/event/karaoke/2024-01-22/
LOCATION:The Avenue\, 2021 E Michigan Ave\, Lansing\, MI\, 48912\, United States
CATEGORIES:Karaoke
GEO:42.7338866;-84.5214406
X-APPLE-STRUCTURED-LOCATION;VALUE=URI;X-ADDRESS=The Avenue 2021 E Michigan Ave Lansing MI 48912 United States;X-APPLE-RADIUS=500;X-TITLE=2021 E Michigan Ave:geo:-84.5214406,42.7338866
END:VEVENT
BEGIN:VEVENT
DTSTART;TZID=America/Detroit:20240121T210000
DTEND;TZID=America/Detroit:20240121T235900
DTSTAMP:20260424T154139
CREATED:20240114T071145Z
LAST-MODIFIED:20240117T221751Z
UID:10000533-1705870800-1705881540@lovelansing.com
SUMMARY:MindGuards \ No Skull
DESCRIPTION:No Skull goes country\nSelf-described sleepy sludge punk band No Skull will be playing a country show … because.\n\n\n\nWebsite\nNo Skull Bandcamp\nNo Skull Facebook\n\n\n\n\nMindGuards\nMindGuards is a two-piece from Lansing\, Michigan that blends electronic break-beats\, raucous guitars\, loopy bass-lines\, and punk sensibilities into RAWK.\n\n\nMindGuards Facebook
URL:https://lovelansing.com/event/mindguards-no-skull/
LOCATION:The Avenue\, 2021 E Michigan Ave\, Lansing\, MI\, 48912\, United States
CATEGORIES:Country,Live Music
GEO:42.7338866;-84.5214406
X-APPLE-STRUCTURED-LOCATION;VALUE=URI;X-ADDRESS=The Avenue 2021 E Michigan Ave Lansing MI 48912 United States;X-APPLE-RADIUS=500;X-TITLE=2021 E Michigan Ave:geo:-84.5214406,42.7338866
END:VEVENT
BEGIN:VEVENT
DTSTART;TZID=America/Detroit:20240120T200000
DTEND;TZID=America/Detroit:20240120T235900
DTSTAMP:20260424T154139
CREATED:20240114T070129Z
LAST-MODIFIED:20240117T221935Z
UID:10000270-1705780800-1705795140@lovelansing.com
SUMMARY:A Night at the Soul Lounge: Ourspace 517 & Friends
DESCRIPTION:https://www.ourspace517.com
URL:https://lovelansing.com/event/a-night-at-the-soul-lounge-ourspace-517-friends/
LOCATION:The Avenue\, 2021 E Michigan Ave\, Lansing\, MI\, 48912\, United States
CATEGORIES:Soul
GEO:42.7338866;-84.5214406
X-APPLE-STRUCTURED-LOCATION;VALUE=URI;X-ADDRESS=The Avenue 2021 E Michigan Ave Lansing MI 48912 United States;X-APPLE-RADIUS=500;X-TITLE=2021 E Michigan Ave:geo:-84.5214406,42.7338866
END:VEVENT
BEGIN:VEVENT
DTSTART;TZID=America/Detroit:20240119T210000
DTEND;TZID=America/Detroit:20240119T230000
DTSTAMP:20260424T154139
CREATED:20240114T065548Z
LAST-MODIFIED:20240128T194327Z
UID:10001584-1705698000-1705705200@lovelansing.com
SUMMARY:Friday Karakoe
DESCRIPTION:Friday Karaoke at The Avenue Cafe in Lansing\, Michigan\, is a lively and engaging event that has become a staple for locals and visitors alike. Held every Friday from 9:00 pm to 1:30 am\, this event offers a blend of music\, socializing\, and culinary delights from Ruckus Ramen. Whether you’re a seasoned singer or just looking to have fun with friends\, the stage is open for all.
URL:https://lovelansing.com/event/friday-karakoe/2024-01-19/
LOCATION:The Avenue\, 2021 E Michigan Ave\, Lansing\, MI\, 48912\, United States
CATEGORIES:Karaoke
GEO:42.7338866;-84.5214406
X-APPLE-STRUCTURED-LOCATION;VALUE=URI;X-ADDRESS=The Avenue 2021 E Michigan Ave Lansing MI 48912 United States;X-APPLE-RADIUS=500;X-TITLE=2021 E Michigan Ave:geo:-84.5214406,42.7338866
END:VEVENT
BEGIN:VEVENT
DTSTART;TZID=America/Detroit:20240118T200000
DTEND;TZID=America/Detroit:20240118T230000
DTSTAMP:20260424T154139
CREATED:20240114T065417Z
LAST-MODIFIED:20240117T222533Z
UID:10000269-1705608000-1705618800@lovelansing.com
SUMMARY:Trivia: Star Trek
DESCRIPTION:
URL:https://lovelansing.com/event/trivia-star-trek/
LOCATION:The Avenue\, 2021 E Michigan Ave\, Lansing\, MI\, 48912\, United States
CATEGORIES:Trivia
GEO:42.7338866;-84.5214406
X-APPLE-STRUCTURED-LOCATION;VALUE=URI;X-ADDRESS=The Avenue 2021 E Michigan Ave Lansing MI 48912 United States;X-APPLE-RADIUS=500;X-TITLE=2021 E Michigan Ave:geo:-84.5214406,42.7338866
END:VEVENT
BEGIN:VEVENT
DTSTART;TZID=America/Detroit:20240117T200000
DTEND;TZID=America/Detroit:20240117T223000
DTSTAMP:20260424T154139
CREATED:20240114T072124Z
LAST-MODIFIED:20240130T041407Z
UID:10003510-1705521600-1705530600@lovelansing.com
SUMMARY:Tuesday Game Night
DESCRIPTION:Tuesday Game Nights is a gathering for board game enthusiasts and casual players alike. The casual\, friendly atmosphere of The Avenue makes it an ideal spot for both experienced gamers and newcomers to enjoy a night of strategy\, competition\, and fun in a relaxed setting.
URL:https://lovelansing.com/event/game-night/2024-01-17/
LOCATION:The Avenue\, 2021 E Michigan Ave\, Lansing\, MI\, 48912\, United States
CATEGORIES:Game Night
GEO:42.7338866;-84.5214406
X-APPLE-STRUCTURED-LOCATION;VALUE=URI;X-ADDRESS=The Avenue 2021 E Michigan Ave Lansing MI 48912 United States;X-APPLE-RADIUS=500;X-TITLE=2021 E Michigan Ave:geo:-84.5214406,42.7338866
END:VEVENT
BEGIN:VEVENT
DTSTART;TZID=America/Detroit:20240115T200000
DTEND;TZID=America/Detroit:20240115T200000
DTSTAMP:20260424T154139
CREATED:20240114T072001Z
LAST-MODIFIED:20240117T223133Z
UID:10002368-1705348800-1705348800@lovelansing.com
SUMMARY:Karaoke
DESCRIPTION:Karoke every Monday
URL:https://lovelansing.com/event/karaoke/2024-01-15/
LOCATION:The Avenue\, 2021 E Michigan Ave\, Lansing\, MI\, 48912\, United States
CATEGORIES:Karaoke
GEO:42.7338866;-84.5214406
X-APPLE-STRUCTURED-LOCATION;VALUE=URI;X-ADDRESS=The Avenue 2021 E Michigan Ave Lansing MI 48912 United States;X-APPLE-RADIUS=500;X-TITLE=2021 E Michigan Ave:geo:-84.5214406,42.7338866
END:VEVENT
BEGIN:VEVENT
DTSTART;TZID=America/Detroit:20240114T190000
DTEND;TZID=America/Detroit:20240114T190000
DTSTAMP:20260424T154140
CREATED:20240114T034954Z
LAST-MODIFIED:20240117T223251Z
UID:10000002-1705258800-1705258800@lovelansing.com
SUMMARY:The Aimcriers \ Monte Pride
DESCRIPTION:
URL:https://lovelansing.com/event/the-aimcriers-monte-pride/
LOCATION:The Avenue\, 2021 E Michigan Ave\, Lansing\, MI\, 48912\, United States
CATEGORIES:Folk/Country,Live Music
GEO:42.7338866;-84.5214406
X-APPLE-STRUCTURED-LOCATION;VALUE=URI;X-ADDRESS=The Avenue 2021 E Michigan Ave Lansing MI 48912 United States;X-APPLE-RADIUS=500;X-TITLE=2021 E Michigan Ave:geo:-84.5214406,42.7338866
END:VEVENT
BEGIN:VEVENT
DTSTART;TZID=America/Detroit:20240112T210000
DTEND;TZID=America/Detroit:20240112T210000
DTSTAMP:20260424T154140
CREATED:20240114T034015Z
LAST-MODIFIED:20240117T223458Z
UID:10000001-1705093200-1705093200@lovelansing.com
SUMMARY:Tangelo \ SugarFang \ Olivia Hoover
DESCRIPTION:
URL:https://lovelansing.com/event/tangelo-sugarfang-olivia-hoover/
LOCATION:The Avenue\, 2021 E Michigan Ave\, Lansing\, MI\, 48912\, United States
CATEGORIES:Indie/Rock,Live Music
GEO:42.7338866;-84.5214406
X-APPLE-STRUCTURED-LOCATION;VALUE=URI;X-ADDRESS=The Avenue 2021 E Michigan Ave Lansing MI 48912 United States;X-APPLE-RADIUS=500;X-TITLE=2021 E Michigan Ave:geo:-84.5214406,42.7338866
END:VEVENT
END:VCALENDAR