BEGIN:VCALENDAR
VERSION:2.0
PRODID:-//Love Lansing - ECPv6.9.0//NONSGML v1.0//EN
CALSCALE:GREGORIAN
METHOD:PUBLISH
X-ORIGINAL-URL:https://lovelansing.com
X-WR-CALDESC:Events for Love Lansing
REFRESH-INTERVAL;VALUE=DURATION:PT1H
X-Robots-Tag:noindex
X-PUBLISHED-TTL:PT1H
BEGIN:VTIMEZONE
TZID:America/Detroit
BEGIN:DAYLIGHT
TZOFFSETFROM:-0500
TZOFFSETTO:-0400
TZNAME:EDT
DTSTART:20280312T070000
END:DAYLIGHT
BEGIN:STANDARD
TZOFFSETFROM:-0400
TZOFFSETTO:-0500
TZNAME:EST
DTSTART:20281105T060000
END:STANDARD
END:VTIMEZONE
BEGIN:VEVENT
DTSTART;TZID=America/Detroit:20280516T200000
DTEND;TZID=America/Detroit:20280516T223000
DTSTAMP:20260421T054152
CREATED:20240114T072124Z
LAST-MODIFIED:20240130T041407Z
UID:10003736-1842120000-1842129000@lovelansing.com
SUMMARY:Tuesday Game Night
DESCRIPTION:Tuesday Game Nights is a gathering for board game enthusiasts and casual players alike. The casual\, friendly atmosphere of The Avenue makes it an ideal spot for both experienced gamers and newcomers to enjoy a night of strategy\, competition\, and fun in a relaxed setting.
URL:https://lovelansing.com/event/game-night/2028-05-16/
LOCATION:The Avenue\, 2021 E Michigan Ave\, Lansing\, MI\, 48912\, United States
CATEGORIES:Game Night
GEO:42.7338866;-84.5214406
X-APPLE-STRUCTURED-LOCATION;VALUE=URI;X-ADDRESS=The Avenue 2021 E Michigan Ave Lansing MI 48912 United States;X-APPLE-RADIUS=500;X-TITLE=2021 E Michigan Ave:geo:-84.5214406,42.7338866
END:VEVENT
BEGIN:VEVENT
DTSTART;TZID=America/Detroit:20280519T210000
DTEND;TZID=America/Detroit:20280519T230000
DTSTAMP:20260421T054152
CREATED:20240114T065548Z
LAST-MODIFIED:20240128T194327Z
UID:10001810-1842382800-1842390000@lovelansing.com
SUMMARY:Friday Karakoe
DESCRIPTION:Friday Karaoke at The Avenue Cafe in Lansing\, Michigan\, is a lively and engaging event that has become a staple for locals and visitors alike. Held every Friday from 9:00 pm to 1:30 am\, this event offers a blend of music\, socializing\, and culinary delights from Ruckus Ramen. Whether you’re a seasoned singer or just looking to have fun with friends\, the stage is open for all.
URL:https://lovelansing.com/event/friday-karakoe/2028-05-19/
LOCATION:The Avenue\, 2021 E Michigan Ave\, Lansing\, MI\, 48912\, United States
CATEGORIES:Karaoke
GEO:42.7338866;-84.5214406
X-APPLE-STRUCTURED-LOCATION;VALUE=URI;X-ADDRESS=The Avenue 2021 E Michigan Ave Lansing MI 48912 United States;X-APPLE-RADIUS=500;X-TITLE=2021 E Michigan Ave:geo:-84.5214406,42.7338866
END:VEVENT
BEGIN:VEVENT
DTSTART;TZID=America/Detroit:20280522T200000
DTEND;TZID=America/Detroit:20280522T200000
DTSTAMP:20260421T054152
CREATED:20240114T072001Z
LAST-MODIFIED:20240117T223133Z
UID:10002595-1842638400-1842638400@lovelansing.com
SUMMARY:Karaoke
DESCRIPTION:Karoke every Monday
URL:https://lovelansing.com/event/karaoke/2028-05-22/
LOCATION:The Avenue\, 2021 E Michigan Ave\, Lansing\, MI\, 48912\, United States
CATEGORIES:Karaoke
GEO:42.7338866;-84.5214406
X-APPLE-STRUCTURED-LOCATION;VALUE=URI;X-ADDRESS=The Avenue 2021 E Michigan Ave Lansing MI 48912 United States;X-APPLE-RADIUS=500;X-TITLE=2021 E Michigan Ave:geo:-84.5214406,42.7338866
END:VEVENT
BEGIN:VEVENT
DTSTART;TZID=America/Detroit:20280523T200000
DTEND;TZID=America/Detroit:20280523T223000
DTSTAMP:20260421T054152
CREATED:20240114T072124Z
LAST-MODIFIED:20240130T041407Z
UID:10003737-1842724800-1842733800@lovelansing.com
SUMMARY:Tuesday Game Night
DESCRIPTION:Tuesday Game Nights is a gathering for board game enthusiasts and casual players alike. The casual\, friendly atmosphere of The Avenue makes it an ideal spot for both experienced gamers and newcomers to enjoy a night of strategy\, competition\, and fun in a relaxed setting.
URL:https://lovelansing.com/event/game-night/2028-05-23/
LOCATION:The Avenue\, 2021 E Michigan Ave\, Lansing\, MI\, 48912\, United States
CATEGORIES:Game Night
GEO:42.7338866;-84.5214406
X-APPLE-STRUCTURED-LOCATION;VALUE=URI;X-ADDRESS=The Avenue 2021 E Michigan Ave Lansing MI 48912 United States;X-APPLE-RADIUS=500;X-TITLE=2021 E Michigan Ave:geo:-84.5214406,42.7338866
END:VEVENT
BEGIN:VEVENT
DTSTART;TZID=America/Detroit:20280526T210000
DTEND;TZID=America/Detroit:20280526T230000
DTSTAMP:20260421T054152
CREATED:20240114T065548Z
LAST-MODIFIED:20240128T194327Z
UID:10001811-1842987600-1842994800@lovelansing.com
SUMMARY:Friday Karakoe
DESCRIPTION:Friday Karaoke at The Avenue Cafe in Lansing\, Michigan\, is a lively and engaging event that has become a staple for locals and visitors alike. Held every Friday from 9:00 pm to 1:30 am\, this event offers a blend of music\, socializing\, and culinary delights from Ruckus Ramen. Whether you’re a seasoned singer or just looking to have fun with friends\, the stage is open for all.
URL:https://lovelansing.com/event/friday-karakoe/2028-05-26/
LOCATION:The Avenue\, 2021 E Michigan Ave\, Lansing\, MI\, 48912\, United States
CATEGORIES:Karaoke
GEO:42.7338866;-84.5214406
X-APPLE-STRUCTURED-LOCATION;VALUE=URI;X-ADDRESS=The Avenue 2021 E Michigan Ave Lansing MI 48912 United States;X-APPLE-RADIUS=500;X-TITLE=2021 E Michigan Ave:geo:-84.5214406,42.7338866
END:VEVENT
BEGIN:VEVENT
DTSTART;TZID=America/Detroit:20280529T200000
DTEND;TZID=America/Detroit:20280529T200000
DTSTAMP:20260421T054152
CREATED:20240114T072001Z
LAST-MODIFIED:20240117T223133Z
UID:10002596-1843243200-1843243200@lovelansing.com
SUMMARY:Karaoke
DESCRIPTION:Karoke every Monday
URL:https://lovelansing.com/event/karaoke/2028-05-29/
LOCATION:The Avenue\, 2021 E Michigan Ave\, Lansing\, MI\, 48912\, United States
CATEGORIES:Karaoke
GEO:42.7338866;-84.5214406
X-APPLE-STRUCTURED-LOCATION;VALUE=URI;X-ADDRESS=The Avenue 2021 E Michigan Ave Lansing MI 48912 United States;X-APPLE-RADIUS=500;X-TITLE=2021 E Michigan Ave:geo:-84.5214406,42.7338866
END:VEVENT
BEGIN:VEVENT
DTSTART;TZID=America/Detroit:20280530T200000
DTEND;TZID=America/Detroit:20280530T223000
DTSTAMP:20260421T054152
CREATED:20240114T072124Z
LAST-MODIFIED:20240130T041407Z
UID:10003738-1843329600-1843338600@lovelansing.com
SUMMARY:Tuesday Game Night
DESCRIPTION:Tuesday Game Nights is a gathering for board game enthusiasts and casual players alike. The casual\, friendly atmosphere of The Avenue makes it an ideal spot for both experienced gamers and newcomers to enjoy a night of strategy\, competition\, and fun in a relaxed setting.
URL:https://lovelansing.com/event/game-night/2028-05-30/
LOCATION:The Avenue\, 2021 E Michigan Ave\, Lansing\, MI\, 48912\, United States
CATEGORIES:Game Night
GEO:42.7338866;-84.5214406
X-APPLE-STRUCTURED-LOCATION;VALUE=URI;X-ADDRESS=The Avenue 2021 E Michigan Ave Lansing MI 48912 United States;X-APPLE-RADIUS=500;X-TITLE=2021 E Michigan Ave:geo:-84.5214406,42.7338866
END:VEVENT
BEGIN:VEVENT
DTSTART;TZID=America/Detroit:20280602T210000
DTEND;TZID=America/Detroit:20280602T230000
DTSTAMP:20260421T054152
CREATED:20240114T065548Z
LAST-MODIFIED:20240128T194327Z
UID:10001812-1843592400-1843599600@lovelansing.com
SUMMARY:Friday Karakoe
DESCRIPTION:Friday Karaoke at The Avenue Cafe in Lansing\, Michigan\, is a lively and engaging event that has become a staple for locals and visitors alike. Held every Friday from 9:00 pm to 1:30 am\, this event offers a blend of music\, socializing\, and culinary delights from Ruckus Ramen. Whether you’re a seasoned singer or just looking to have fun with friends\, the stage is open for all.
URL:https://lovelansing.com/event/friday-karakoe/2028-06-02/
LOCATION:The Avenue\, 2021 E Michigan Ave\, Lansing\, MI\, 48912\, United States
CATEGORIES:Karaoke
GEO:42.7338866;-84.5214406
X-APPLE-STRUCTURED-LOCATION;VALUE=URI;X-ADDRESS=The Avenue 2021 E Michigan Ave Lansing MI 48912 United States;X-APPLE-RADIUS=500;X-TITLE=2021 E Michigan Ave:geo:-84.5214406,42.7338866
END:VEVENT
BEGIN:VEVENT
DTSTART;TZID=America/Detroit:20280605T200000
DTEND;TZID=America/Detroit:20280605T200000
DTSTAMP:20260421T054152
CREATED:20240114T072001Z
LAST-MODIFIED:20240117T223133Z
UID:10002597-1843848000-1843848000@lovelansing.com
SUMMARY:Karaoke
DESCRIPTION:Karoke every Monday
URL:https://lovelansing.com/event/karaoke/2028-06-05/
LOCATION:The Avenue\, 2021 E Michigan Ave\, Lansing\, MI\, 48912\, United States
CATEGORIES:Karaoke
GEO:42.7338866;-84.5214406
X-APPLE-STRUCTURED-LOCATION;VALUE=URI;X-ADDRESS=The Avenue 2021 E Michigan Ave Lansing MI 48912 United States;X-APPLE-RADIUS=500;X-TITLE=2021 E Michigan Ave:geo:-84.5214406,42.7338866
END:VEVENT
BEGIN:VEVENT
DTSTART;TZID=America/Detroit:20280606T200000
DTEND;TZID=America/Detroit:20280606T223000
DTSTAMP:20260421T054152
CREATED:20240114T072124Z
LAST-MODIFIED:20240130T041407Z
UID:10003739-1843934400-1843943400@lovelansing.com
SUMMARY:Tuesday Game Night
DESCRIPTION:Tuesday Game Nights is a gathering for board game enthusiasts and casual players alike. The casual\, friendly atmosphere of The Avenue makes it an ideal spot for both experienced gamers and newcomers to enjoy a night of strategy\, competition\, and fun in a relaxed setting.
URL:https://lovelansing.com/event/game-night/2028-06-06/
LOCATION:The Avenue\, 2021 E Michigan Ave\, Lansing\, MI\, 48912\, United States
CATEGORIES:Game Night
GEO:42.7338866;-84.5214406
X-APPLE-STRUCTURED-LOCATION;VALUE=URI;X-ADDRESS=The Avenue 2021 E Michigan Ave Lansing MI 48912 United States;X-APPLE-RADIUS=500;X-TITLE=2021 E Michigan Ave:geo:-84.5214406,42.7338866
END:VEVENT
BEGIN:VEVENT
DTSTART;TZID=America/Detroit:20280609T210000
DTEND;TZID=America/Detroit:20280609T230000
DTSTAMP:20260421T054152
CREATED:20240114T065548Z
LAST-MODIFIED:20240128T194327Z
UID:10001813-1844197200-1844204400@lovelansing.com
SUMMARY:Friday Karakoe
DESCRIPTION:Friday Karaoke at The Avenue Cafe in Lansing\, Michigan\, is a lively and engaging event that has become a staple for locals and visitors alike. Held every Friday from 9:00 pm to 1:30 am\, this event offers a blend of music\, socializing\, and culinary delights from Ruckus Ramen. Whether you’re a seasoned singer or just looking to have fun with friends\, the stage is open for all.
URL:https://lovelansing.com/event/friday-karakoe/2028-06-09/
LOCATION:The Avenue\, 2021 E Michigan Ave\, Lansing\, MI\, 48912\, United States
CATEGORIES:Karaoke
GEO:42.7338866;-84.5214406
X-APPLE-STRUCTURED-LOCATION;VALUE=URI;X-ADDRESS=The Avenue 2021 E Michigan Ave Lansing MI 48912 United States;X-APPLE-RADIUS=500;X-TITLE=2021 E Michigan Ave:geo:-84.5214406,42.7338866
END:VEVENT
BEGIN:VEVENT
DTSTART;TZID=America/Detroit:20280612T200000
DTEND;TZID=America/Detroit:20280612T200000
DTSTAMP:20260421T054152
CREATED:20240114T072001Z
LAST-MODIFIED:20240117T223133Z
UID:10002598-1844452800-1844452800@lovelansing.com
SUMMARY:Karaoke
DESCRIPTION:Karoke every Monday
URL:https://lovelansing.com/event/karaoke/2028-06-12/
LOCATION:The Avenue\, 2021 E Michigan Ave\, Lansing\, MI\, 48912\, United States
CATEGORIES:Karaoke
GEO:42.7338866;-84.5214406
X-APPLE-STRUCTURED-LOCATION;VALUE=URI;X-ADDRESS=The Avenue 2021 E Michigan Ave Lansing MI 48912 United States;X-APPLE-RADIUS=500;X-TITLE=2021 E Michigan Ave:geo:-84.5214406,42.7338866
END:VEVENT
BEGIN:VEVENT
DTSTART;TZID=America/Detroit:20280613T200000
DTEND;TZID=America/Detroit:20280613T223000
DTSTAMP:20260421T054152
CREATED:20240114T072124Z
LAST-MODIFIED:20240130T041407Z
UID:10003740-1844539200-1844548200@lovelansing.com
SUMMARY:Tuesday Game Night
DESCRIPTION:Tuesday Game Nights is a gathering for board game enthusiasts and casual players alike. The casual\, friendly atmosphere of The Avenue makes it an ideal spot for both experienced gamers and newcomers to enjoy a night of strategy\, competition\, and fun in a relaxed setting.
URL:https://lovelansing.com/event/game-night/2028-06-13/
LOCATION:The Avenue\, 2021 E Michigan Ave\, Lansing\, MI\, 48912\, United States
CATEGORIES:Game Night
GEO:42.7338866;-84.5214406
X-APPLE-STRUCTURED-LOCATION;VALUE=URI;X-ADDRESS=The Avenue 2021 E Michigan Ave Lansing MI 48912 United States;X-APPLE-RADIUS=500;X-TITLE=2021 E Michigan Ave:geo:-84.5214406,42.7338866
END:VEVENT
BEGIN:VEVENT
DTSTART;TZID=America/Detroit:20280616T210000
DTEND;TZID=America/Detroit:20280616T230000
DTSTAMP:20260421T054152
CREATED:20240114T065548Z
LAST-MODIFIED:20240128T194327Z
UID:10001814-1844802000-1844809200@lovelansing.com
SUMMARY:Friday Karakoe
DESCRIPTION:Friday Karaoke at The Avenue Cafe in Lansing\, Michigan\, is a lively and engaging event that has become a staple for locals and visitors alike. Held every Friday from 9:00 pm to 1:30 am\, this event offers a blend of music\, socializing\, and culinary delights from Ruckus Ramen. Whether you’re a seasoned singer or just looking to have fun with friends\, the stage is open for all.
URL:https://lovelansing.com/event/friday-karakoe/2028-06-16/
LOCATION:The Avenue\, 2021 E Michigan Ave\, Lansing\, MI\, 48912\, United States
CATEGORIES:Karaoke
GEO:42.7338866;-84.5214406
X-APPLE-STRUCTURED-LOCATION;VALUE=URI;X-ADDRESS=The Avenue 2021 E Michigan Ave Lansing MI 48912 United States;X-APPLE-RADIUS=500;X-TITLE=2021 E Michigan Ave:geo:-84.5214406,42.7338866
END:VEVENT
BEGIN:VEVENT
DTSTART;TZID=America/Detroit:20280619T200000
DTEND;TZID=America/Detroit:20280619T200000
DTSTAMP:20260421T054152
CREATED:20240114T072001Z
LAST-MODIFIED:20240117T223133Z
UID:10002599-1845057600-1845057600@lovelansing.com
SUMMARY:Karaoke
DESCRIPTION:Karoke every Monday
URL:https://lovelansing.com/event/karaoke/2028-06-19/
LOCATION:The Avenue\, 2021 E Michigan Ave\, Lansing\, MI\, 48912\, United States
CATEGORIES:Karaoke
GEO:42.7338866;-84.5214406
X-APPLE-STRUCTURED-LOCATION;VALUE=URI;X-ADDRESS=The Avenue 2021 E Michigan Ave Lansing MI 48912 United States;X-APPLE-RADIUS=500;X-TITLE=2021 E Michigan Ave:geo:-84.5214406,42.7338866
END:VEVENT
BEGIN:VEVENT
DTSTART;TZID=America/Detroit:20280620T200000
DTEND;TZID=America/Detroit:20280620T223000
DTSTAMP:20260421T054152
CREATED:20240114T072124Z
LAST-MODIFIED:20240130T041407Z
UID:10003741-1845144000-1845153000@lovelansing.com
SUMMARY:Tuesday Game Night
DESCRIPTION:Tuesday Game Nights is a gathering for board game enthusiasts and casual players alike. The casual\, friendly atmosphere of The Avenue makes it an ideal spot for both experienced gamers and newcomers to enjoy a night of strategy\, competition\, and fun in a relaxed setting.
URL:https://lovelansing.com/event/game-night/2028-06-20/
LOCATION:The Avenue\, 2021 E Michigan Ave\, Lansing\, MI\, 48912\, United States
CATEGORIES:Game Night
GEO:42.7338866;-84.5214406
X-APPLE-STRUCTURED-LOCATION;VALUE=URI;X-ADDRESS=The Avenue 2021 E Michigan Ave Lansing MI 48912 United States;X-APPLE-RADIUS=500;X-TITLE=2021 E Michigan Ave:geo:-84.5214406,42.7338866
END:VEVENT
BEGIN:VEVENT
DTSTART;TZID=America/Detroit:20280623T210000
DTEND;TZID=America/Detroit:20280623T230000
DTSTAMP:20260421T054152
CREATED:20240114T065548Z
LAST-MODIFIED:20240128T194327Z
UID:10001815-1845406800-1845414000@lovelansing.com
SUMMARY:Friday Karakoe
DESCRIPTION:Friday Karaoke at The Avenue Cafe in Lansing\, Michigan\, is a lively and engaging event that has become a staple for locals and visitors alike. Held every Friday from 9:00 pm to 1:30 am\, this event offers a blend of music\, socializing\, and culinary delights from Ruckus Ramen. Whether you’re a seasoned singer or just looking to have fun with friends\, the stage is open for all.
URL:https://lovelansing.com/event/friday-karakoe/2028-06-23/
LOCATION:The Avenue\, 2021 E Michigan Ave\, Lansing\, MI\, 48912\, United States
CATEGORIES:Karaoke
GEO:42.7338866;-84.5214406
X-APPLE-STRUCTURED-LOCATION;VALUE=URI;X-ADDRESS=The Avenue 2021 E Michigan Ave Lansing MI 48912 United States;X-APPLE-RADIUS=500;X-TITLE=2021 E Michigan Ave:geo:-84.5214406,42.7338866
END:VEVENT
BEGIN:VEVENT
DTSTART;TZID=America/Detroit:20280626T200000
DTEND;TZID=America/Detroit:20280626T200000
DTSTAMP:20260421T054152
CREATED:20240114T072001Z
LAST-MODIFIED:20240117T223133Z
UID:10002600-1845662400-1845662400@lovelansing.com
SUMMARY:Karaoke
DESCRIPTION:Karoke every Monday
URL:https://lovelansing.com/event/karaoke/2028-06-26/
LOCATION:The Avenue\, 2021 E Michigan Ave\, Lansing\, MI\, 48912\, United States
CATEGORIES:Karaoke
GEO:42.7338866;-84.5214406
X-APPLE-STRUCTURED-LOCATION;VALUE=URI;X-ADDRESS=The Avenue 2021 E Michigan Ave Lansing MI 48912 United States;X-APPLE-RADIUS=500;X-TITLE=2021 E Michigan Ave:geo:-84.5214406,42.7338866
END:VEVENT
BEGIN:VEVENT
DTSTART;TZID=America/Detroit:20280627T200000
DTEND;TZID=America/Detroit:20280627T223000
DTSTAMP:20260421T054152
CREATED:20240114T072124Z
LAST-MODIFIED:20240130T041407Z
UID:10003742-1845748800-1845757800@lovelansing.com
SUMMARY:Tuesday Game Night
DESCRIPTION:Tuesday Game Nights is a gathering for board game enthusiasts and casual players alike. The casual\, friendly atmosphere of The Avenue makes it an ideal spot for both experienced gamers and newcomers to enjoy a night of strategy\, competition\, and fun in a relaxed setting.
URL:https://lovelansing.com/event/game-night/2028-06-27/
LOCATION:The Avenue\, 2021 E Michigan Ave\, Lansing\, MI\, 48912\, United States
CATEGORIES:Game Night
GEO:42.7338866;-84.5214406
X-APPLE-STRUCTURED-LOCATION;VALUE=URI;X-ADDRESS=The Avenue 2021 E Michigan Ave Lansing MI 48912 United States;X-APPLE-RADIUS=500;X-TITLE=2021 E Michigan Ave:geo:-84.5214406,42.7338866
END:VEVENT
BEGIN:VEVENT
DTSTART;TZID=America/Detroit:20280630T210000
DTEND;TZID=America/Detroit:20280630T230000
DTSTAMP:20260421T054152
CREATED:20240114T065548Z
LAST-MODIFIED:20240128T194327Z
UID:10001816-1846011600-1846018800@lovelansing.com
SUMMARY:Friday Karakoe
DESCRIPTION:Friday Karaoke at The Avenue Cafe in Lansing\, Michigan\, is a lively and engaging event that has become a staple for locals and visitors alike. Held every Friday from 9:00 pm to 1:30 am\, this event offers a blend of music\, socializing\, and culinary delights from Ruckus Ramen. Whether you’re a seasoned singer or just looking to have fun with friends\, the stage is open for all.
URL:https://lovelansing.com/event/friday-karakoe/2028-06-30/
LOCATION:The Avenue\, 2021 E Michigan Ave\, Lansing\, MI\, 48912\, United States
CATEGORIES:Karaoke
GEO:42.7338866;-84.5214406
X-APPLE-STRUCTURED-LOCATION;VALUE=URI;X-ADDRESS=The Avenue 2021 E Michigan Ave Lansing MI 48912 United States;X-APPLE-RADIUS=500;X-TITLE=2021 E Michigan Ave:geo:-84.5214406,42.7338866
END:VEVENT
BEGIN:VEVENT
DTSTART;TZID=America/Detroit:20280703T200000
DTEND;TZID=America/Detroit:20280703T200000
DTSTAMP:20260421T054152
CREATED:20240114T072001Z
LAST-MODIFIED:20240117T223133Z
UID:10002601-1846267200-1846267200@lovelansing.com
SUMMARY:Karaoke
DESCRIPTION:Karoke every Monday
URL:https://lovelansing.com/event/karaoke/2028-07-03/
LOCATION:The Avenue\, 2021 E Michigan Ave\, Lansing\, MI\, 48912\, United States
CATEGORIES:Karaoke
GEO:42.7338866;-84.5214406
X-APPLE-STRUCTURED-LOCATION;VALUE=URI;X-ADDRESS=The Avenue 2021 E Michigan Ave Lansing MI 48912 United States;X-APPLE-RADIUS=500;X-TITLE=2021 E Michigan Ave:geo:-84.5214406,42.7338866
END:VEVENT
BEGIN:VEVENT
DTSTART;TZID=America/Detroit:20280704T200000
DTEND;TZID=America/Detroit:20280704T223000
DTSTAMP:20260421T054152
CREATED:20240114T072124Z
LAST-MODIFIED:20240130T041407Z
UID:10003743-1846353600-1846362600@lovelansing.com
SUMMARY:Tuesday Game Night
DESCRIPTION:Tuesday Game Nights is a gathering for board game enthusiasts and casual players alike. The casual\, friendly atmosphere of The Avenue makes it an ideal spot for both experienced gamers and newcomers to enjoy a night of strategy\, competition\, and fun in a relaxed setting.
URL:https://lovelansing.com/event/game-night/2028-07-04/
LOCATION:The Avenue\, 2021 E Michigan Ave\, Lansing\, MI\, 48912\, United States
CATEGORIES:Game Night
GEO:42.7338866;-84.5214406
X-APPLE-STRUCTURED-LOCATION;VALUE=URI;X-ADDRESS=The Avenue 2021 E Michigan Ave Lansing MI 48912 United States;X-APPLE-RADIUS=500;X-TITLE=2021 E Michigan Ave:geo:-84.5214406,42.7338866
END:VEVENT
BEGIN:VEVENT
DTSTART;TZID=America/Detroit:20280707T210000
DTEND;TZID=America/Detroit:20280707T230000
DTSTAMP:20260421T054152
CREATED:20240114T065548Z
LAST-MODIFIED:20240128T194327Z
UID:10001817-1846616400-1846623600@lovelansing.com
SUMMARY:Friday Karakoe
DESCRIPTION:Friday Karaoke at The Avenue Cafe in Lansing\, Michigan\, is a lively and engaging event that has become a staple for locals and visitors alike. Held every Friday from 9:00 pm to 1:30 am\, this event offers a blend of music\, socializing\, and culinary delights from Ruckus Ramen. Whether you’re a seasoned singer or just looking to have fun with friends\, the stage is open for all.
URL:https://lovelansing.com/event/friday-karakoe/2028-07-07/
LOCATION:The Avenue\, 2021 E Michigan Ave\, Lansing\, MI\, 48912\, United States
CATEGORIES:Karaoke
GEO:42.7338866;-84.5214406
X-APPLE-STRUCTURED-LOCATION;VALUE=URI;X-ADDRESS=The Avenue 2021 E Michigan Ave Lansing MI 48912 United States;X-APPLE-RADIUS=500;X-TITLE=2021 E Michigan Ave:geo:-84.5214406,42.7338866
END:VEVENT
BEGIN:VEVENT
DTSTART;TZID=America/Detroit:20280710T200000
DTEND;TZID=America/Detroit:20280710T200000
DTSTAMP:20260421T054152
CREATED:20240114T072001Z
LAST-MODIFIED:20240117T223133Z
UID:10002602-1846872000-1846872000@lovelansing.com
SUMMARY:Karaoke
DESCRIPTION:Karoke every Monday
URL:https://lovelansing.com/event/karaoke/2028-07-10/
LOCATION:The Avenue\, 2021 E Michigan Ave\, Lansing\, MI\, 48912\, United States
CATEGORIES:Karaoke
GEO:42.7338866;-84.5214406
X-APPLE-STRUCTURED-LOCATION;VALUE=URI;X-ADDRESS=The Avenue 2021 E Michigan Ave Lansing MI 48912 United States;X-APPLE-RADIUS=500;X-TITLE=2021 E Michigan Ave:geo:-84.5214406,42.7338866
END:VEVENT
BEGIN:VEVENT
DTSTART;TZID=America/Detroit:20280711T200000
DTEND;TZID=America/Detroit:20280711T223000
DTSTAMP:20260421T054152
CREATED:20240114T072124Z
LAST-MODIFIED:20240130T041407Z
UID:10003744-1846958400-1846967400@lovelansing.com
SUMMARY:Tuesday Game Night
DESCRIPTION:Tuesday Game Nights is a gathering for board game enthusiasts and casual players alike. The casual\, friendly atmosphere of The Avenue makes it an ideal spot for both experienced gamers and newcomers to enjoy a night of strategy\, competition\, and fun in a relaxed setting.
URL:https://lovelansing.com/event/game-night/2028-07-11/
LOCATION:The Avenue\, 2021 E Michigan Ave\, Lansing\, MI\, 48912\, United States
CATEGORIES:Game Night
GEO:42.7338866;-84.5214406
X-APPLE-STRUCTURED-LOCATION;VALUE=URI;X-ADDRESS=The Avenue 2021 E Michigan Ave Lansing MI 48912 United States;X-APPLE-RADIUS=500;X-TITLE=2021 E Michigan Ave:geo:-84.5214406,42.7338866
END:VEVENT
BEGIN:VEVENT
DTSTART;TZID=America/Detroit:20280714T210000
DTEND;TZID=America/Detroit:20280714T230000
DTSTAMP:20260421T054152
CREATED:20240114T065548Z
LAST-MODIFIED:20240128T194327Z
UID:10001818-1847221200-1847228400@lovelansing.com
SUMMARY:Friday Karakoe
DESCRIPTION:Friday Karaoke at The Avenue Cafe in Lansing\, Michigan\, is a lively and engaging event that has become a staple for locals and visitors alike. Held every Friday from 9:00 pm to 1:30 am\, this event offers a blend of music\, socializing\, and culinary delights from Ruckus Ramen. Whether you’re a seasoned singer or just looking to have fun with friends\, the stage is open for all.
URL:https://lovelansing.com/event/friday-karakoe/2028-07-14/
LOCATION:The Avenue\, 2021 E Michigan Ave\, Lansing\, MI\, 48912\, United States
CATEGORIES:Karaoke
GEO:42.7338866;-84.5214406
X-APPLE-STRUCTURED-LOCATION;VALUE=URI;X-ADDRESS=The Avenue 2021 E Michigan Ave Lansing MI 48912 United States;X-APPLE-RADIUS=500;X-TITLE=2021 E Michigan Ave:geo:-84.5214406,42.7338866
END:VEVENT
BEGIN:VEVENT
DTSTART;TZID=America/Detroit:20280717T200000
DTEND;TZID=America/Detroit:20280717T200000
DTSTAMP:20260421T054152
CREATED:20240114T072001Z
LAST-MODIFIED:20240117T223133Z
UID:10002603-1847476800-1847476800@lovelansing.com
SUMMARY:Karaoke
DESCRIPTION:Karoke every Monday
URL:https://lovelansing.com/event/karaoke/2028-07-17/
LOCATION:The Avenue\, 2021 E Michigan Ave\, Lansing\, MI\, 48912\, United States
CATEGORIES:Karaoke
GEO:42.7338866;-84.5214406
X-APPLE-STRUCTURED-LOCATION;VALUE=URI;X-ADDRESS=The Avenue 2021 E Michigan Ave Lansing MI 48912 United States;X-APPLE-RADIUS=500;X-TITLE=2021 E Michigan Ave:geo:-84.5214406,42.7338866
END:VEVENT
BEGIN:VEVENT
DTSTART;TZID=America/Detroit:20280718T200000
DTEND;TZID=America/Detroit:20280718T223000
DTSTAMP:20260421T054152
CREATED:20240114T072124Z
LAST-MODIFIED:20240130T041407Z
UID:10003745-1847563200-1847572200@lovelansing.com
SUMMARY:Tuesday Game Night
DESCRIPTION:Tuesday Game Nights is a gathering for board game enthusiasts and casual players alike. The casual\, friendly atmosphere of The Avenue makes it an ideal spot for both experienced gamers and newcomers to enjoy a night of strategy\, competition\, and fun in a relaxed setting.
URL:https://lovelansing.com/event/game-night/2028-07-18/
LOCATION:The Avenue\, 2021 E Michigan Ave\, Lansing\, MI\, 48912\, United States
CATEGORIES:Game Night
GEO:42.7338866;-84.5214406
X-APPLE-STRUCTURED-LOCATION;VALUE=URI;X-ADDRESS=The Avenue 2021 E Michigan Ave Lansing MI 48912 United States;X-APPLE-RADIUS=500;X-TITLE=2021 E Michigan Ave:geo:-84.5214406,42.7338866
END:VEVENT
BEGIN:VEVENT
DTSTART;TZID=America/Detroit:20280721T210000
DTEND;TZID=America/Detroit:20280721T230000
DTSTAMP:20260421T054152
CREATED:20240114T065548Z
LAST-MODIFIED:20240128T194327Z
UID:10001819-1847826000-1847833200@lovelansing.com
SUMMARY:Friday Karakoe
DESCRIPTION:Friday Karaoke at The Avenue Cafe in Lansing\, Michigan\, is a lively and engaging event that has become a staple for locals and visitors alike. Held every Friday from 9:00 pm to 1:30 am\, this event offers a blend of music\, socializing\, and culinary delights from Ruckus Ramen. Whether you’re a seasoned singer or just looking to have fun with friends\, the stage is open for all.
URL:https://lovelansing.com/event/friday-karakoe/2028-07-21/
LOCATION:The Avenue\, 2021 E Michigan Ave\, Lansing\, MI\, 48912\, United States
CATEGORIES:Karaoke
GEO:42.7338866;-84.5214406
X-APPLE-STRUCTURED-LOCATION;VALUE=URI;X-ADDRESS=The Avenue 2021 E Michigan Ave Lansing MI 48912 United States;X-APPLE-RADIUS=500;X-TITLE=2021 E Michigan Ave:geo:-84.5214406,42.7338866
END:VEVENT
BEGIN:VEVENT
DTSTART;TZID=America/Detroit:20280724T200000
DTEND;TZID=America/Detroit:20280724T200000
DTSTAMP:20260421T054152
CREATED:20240114T072001Z
LAST-MODIFIED:20240117T223133Z
UID:10002604-1848081600-1848081600@lovelansing.com
SUMMARY:Karaoke
DESCRIPTION:Karoke every Monday
URL:https://lovelansing.com/event/karaoke/2028-07-24/
LOCATION:The Avenue\, 2021 E Michigan Ave\, Lansing\, MI\, 48912\, United States
CATEGORIES:Karaoke
GEO:42.7338866;-84.5214406
X-APPLE-STRUCTURED-LOCATION;VALUE=URI;X-ADDRESS=The Avenue 2021 E Michigan Ave Lansing MI 48912 United States;X-APPLE-RADIUS=500;X-TITLE=2021 E Michigan Ave:geo:-84.5214406,42.7338866
END:VEVENT
END:VCALENDAR