BEGIN:VCALENDAR
VERSION:2.0
PRODID:-//Love Lansing - ECPv6.9.0//NONSGML v1.0//EN
CALSCALE:GREGORIAN
METHOD:PUBLISH
X-ORIGINAL-URL:https://lovelansing.com
X-WR-CALDESC:Events for Love Lansing
REFRESH-INTERVAL;VALUE=DURATION:PT1H
X-Robots-Tag:noindex
X-PUBLISHED-TTL:PT1H
BEGIN:VTIMEZONE
TZID:America/Detroit
BEGIN:DAYLIGHT
TZOFFSETFROM:-0500
TZOFFSETTO:-0400
TZNAME:EDT
DTSTART:20270314T070000
END:DAYLIGHT
BEGIN:STANDARD
TZOFFSETFROM:-0400
TZOFFSETTO:-0500
TZNAME:EST
DTSTART:20271107T060000
END:STANDARD
END:VTIMEZONE
BEGIN:VEVENT
DTSTART;TZID=America/Detroit:20270510T200000
DTEND;TZID=America/Detroit:20270510T200000
DTSTAMP:20260421T144706
CREATED:20240114T072001Z
LAST-MODIFIED:20240117T223133Z
UID:10002541-1809979200-1809979200@lovelansing.com
SUMMARY:Karaoke
DESCRIPTION:Karoke every Monday
URL:https://lovelansing.com/event/karaoke/2027-05-10/
LOCATION:The Avenue\, 2021 E Michigan Ave\, Lansing\, MI\, 48912\, United States
CATEGORIES:Karaoke
GEO:42.7338866;-84.5214406
X-APPLE-STRUCTURED-LOCATION;VALUE=URI;X-ADDRESS=The Avenue 2021 E Michigan Ave Lansing MI 48912 United States;X-APPLE-RADIUS=500;X-TITLE=2021 E Michigan Ave:geo:-84.5214406,42.7338866
END:VEVENT
BEGIN:VEVENT
DTSTART;TZID=America/Detroit:20270517T200000
DTEND;TZID=America/Detroit:20270517T200000
DTSTAMP:20260421T144707
CREATED:20240114T072001Z
LAST-MODIFIED:20240117T223133Z
UID:10002542-1810584000-1810584000@lovelansing.com
SUMMARY:Karaoke
DESCRIPTION:Karoke every Monday
URL:https://lovelansing.com/event/karaoke/2027-05-17/
LOCATION:The Avenue\, 2021 E Michigan Ave\, Lansing\, MI\, 48912\, United States
CATEGORIES:Karaoke
GEO:42.7338866;-84.5214406
X-APPLE-STRUCTURED-LOCATION;VALUE=URI;X-ADDRESS=The Avenue 2021 E Michigan Ave Lansing MI 48912 United States;X-APPLE-RADIUS=500;X-TITLE=2021 E Michigan Ave:geo:-84.5214406,42.7338866
END:VEVENT
BEGIN:VEVENT
DTSTART;TZID=America/Detroit:20270524T200000
DTEND;TZID=America/Detroit:20270524T200000
DTSTAMP:20260421T144707
CREATED:20240114T072001Z
LAST-MODIFIED:20240117T223133Z
UID:10002543-1811188800-1811188800@lovelansing.com
SUMMARY:Karaoke
DESCRIPTION:Karoke every Monday
URL:https://lovelansing.com/event/karaoke/2027-05-24/
LOCATION:The Avenue\, 2021 E Michigan Ave\, Lansing\, MI\, 48912\, United States
CATEGORIES:Karaoke
GEO:42.7338866;-84.5214406
X-APPLE-STRUCTURED-LOCATION;VALUE=URI;X-ADDRESS=The Avenue 2021 E Michigan Ave Lansing MI 48912 United States;X-APPLE-RADIUS=500;X-TITLE=2021 E Michigan Ave:geo:-84.5214406,42.7338866
END:VEVENT
BEGIN:VEVENT
DTSTART;TZID=America/Detroit:20270531T200000
DTEND;TZID=America/Detroit:20270531T200000
DTSTAMP:20260421T144707
CREATED:20240114T072001Z
LAST-MODIFIED:20240117T223133Z
UID:10002544-1811793600-1811793600@lovelansing.com
SUMMARY:Karaoke
DESCRIPTION:Karoke every Monday
URL:https://lovelansing.com/event/karaoke/2027-05-31/
LOCATION:The Avenue\, 2021 E Michigan Ave\, Lansing\, MI\, 48912\, United States
CATEGORIES:Karaoke
GEO:42.7338866;-84.5214406
X-APPLE-STRUCTURED-LOCATION;VALUE=URI;X-ADDRESS=The Avenue 2021 E Michigan Ave Lansing MI 48912 United States;X-APPLE-RADIUS=500;X-TITLE=2021 E Michigan Ave:geo:-84.5214406,42.7338866
END:VEVENT
BEGIN:VEVENT
DTSTART;TZID=America/Detroit:20270607T200000
DTEND;TZID=America/Detroit:20270607T200000
DTSTAMP:20260421T144707
CREATED:20240114T072001Z
LAST-MODIFIED:20240117T223133Z
UID:10002545-1812398400-1812398400@lovelansing.com
SUMMARY:Karaoke
DESCRIPTION:Karoke every Monday
URL:https://lovelansing.com/event/karaoke/2027-06-07/
LOCATION:The Avenue\, 2021 E Michigan Ave\, Lansing\, MI\, 48912\, United States
CATEGORIES:Karaoke
GEO:42.7338866;-84.5214406
X-APPLE-STRUCTURED-LOCATION;VALUE=URI;X-ADDRESS=The Avenue 2021 E Michigan Ave Lansing MI 48912 United States;X-APPLE-RADIUS=500;X-TITLE=2021 E Michigan Ave:geo:-84.5214406,42.7338866
END:VEVENT
BEGIN:VEVENT
DTSTART;TZID=America/Detroit:20270614T200000
DTEND;TZID=America/Detroit:20270614T200000
DTSTAMP:20260421T144707
CREATED:20240114T072001Z
LAST-MODIFIED:20240117T223133Z
UID:10002546-1813003200-1813003200@lovelansing.com
SUMMARY:Karaoke
DESCRIPTION:Karoke every Monday
URL:https://lovelansing.com/event/karaoke/2027-06-14/
LOCATION:The Avenue\, 2021 E Michigan Ave\, Lansing\, MI\, 48912\, United States
CATEGORIES:Karaoke
GEO:42.7338866;-84.5214406
X-APPLE-STRUCTURED-LOCATION;VALUE=URI;X-ADDRESS=The Avenue 2021 E Michigan Ave Lansing MI 48912 United States;X-APPLE-RADIUS=500;X-TITLE=2021 E Michigan Ave:geo:-84.5214406,42.7338866
END:VEVENT
BEGIN:VEVENT
DTSTART;TZID=America/Detroit:20270621T200000
DTEND;TZID=America/Detroit:20270621T200000
DTSTAMP:20260421T144707
CREATED:20240114T072001Z
LAST-MODIFIED:20240117T223133Z
UID:10002547-1813608000-1813608000@lovelansing.com
SUMMARY:Karaoke
DESCRIPTION:Karoke every Monday
URL:https://lovelansing.com/event/karaoke/2027-06-21/
LOCATION:The Avenue\, 2021 E Michigan Ave\, Lansing\, MI\, 48912\, United States
CATEGORIES:Karaoke
GEO:42.7338866;-84.5214406
X-APPLE-STRUCTURED-LOCATION;VALUE=URI;X-ADDRESS=The Avenue 2021 E Michigan Ave Lansing MI 48912 United States;X-APPLE-RADIUS=500;X-TITLE=2021 E Michigan Ave:geo:-84.5214406,42.7338866
END:VEVENT
BEGIN:VEVENT
DTSTART;TZID=America/Detroit:20270628T200000
DTEND;TZID=America/Detroit:20270628T200000
DTSTAMP:20260421T144707
CREATED:20240114T072001Z
LAST-MODIFIED:20240117T223133Z
UID:10002548-1814212800-1814212800@lovelansing.com
SUMMARY:Karaoke
DESCRIPTION:Karoke every Monday
URL:https://lovelansing.com/event/karaoke/2027-06-28/
LOCATION:The Avenue\, 2021 E Michigan Ave\, Lansing\, MI\, 48912\, United States
CATEGORIES:Karaoke
GEO:42.7338866;-84.5214406
X-APPLE-STRUCTURED-LOCATION;VALUE=URI;X-ADDRESS=The Avenue 2021 E Michigan Ave Lansing MI 48912 United States;X-APPLE-RADIUS=500;X-TITLE=2021 E Michigan Ave:geo:-84.5214406,42.7338866
END:VEVENT
BEGIN:VEVENT
DTSTART;TZID=America/Detroit:20270705T200000
DTEND;TZID=America/Detroit:20270705T200000
DTSTAMP:20260421T144707
CREATED:20240114T072001Z
LAST-MODIFIED:20240117T223133Z
UID:10002549-1814817600-1814817600@lovelansing.com
SUMMARY:Karaoke
DESCRIPTION:Karoke every Monday
URL:https://lovelansing.com/event/karaoke/2027-07-05/
LOCATION:The Avenue\, 2021 E Michigan Ave\, Lansing\, MI\, 48912\, United States
CATEGORIES:Karaoke
GEO:42.7338866;-84.5214406
X-APPLE-STRUCTURED-LOCATION;VALUE=URI;X-ADDRESS=The Avenue 2021 E Michigan Ave Lansing MI 48912 United States;X-APPLE-RADIUS=500;X-TITLE=2021 E Michigan Ave:geo:-84.5214406,42.7338866
END:VEVENT
BEGIN:VEVENT
DTSTART;TZID=America/Detroit:20270712T200000
DTEND;TZID=America/Detroit:20270712T200000
DTSTAMP:20260421T144707
CREATED:20240114T072001Z
LAST-MODIFIED:20240117T223133Z
UID:10002550-1815422400-1815422400@lovelansing.com
SUMMARY:Karaoke
DESCRIPTION:Karoke every Monday
URL:https://lovelansing.com/event/karaoke/2027-07-12/
LOCATION:The Avenue\, 2021 E Michigan Ave\, Lansing\, MI\, 48912\, United States
CATEGORIES:Karaoke
GEO:42.7338866;-84.5214406
X-APPLE-STRUCTURED-LOCATION;VALUE=URI;X-ADDRESS=The Avenue 2021 E Michigan Ave Lansing MI 48912 United States;X-APPLE-RADIUS=500;X-TITLE=2021 E Michigan Ave:geo:-84.5214406,42.7338866
END:VEVENT
BEGIN:VEVENT
DTSTART;TZID=America/Detroit:20270719T200000
DTEND;TZID=America/Detroit:20270719T200000
DTSTAMP:20260421T144707
CREATED:20240114T072001Z
LAST-MODIFIED:20240117T223133Z
UID:10002551-1816027200-1816027200@lovelansing.com
SUMMARY:Karaoke
DESCRIPTION:Karoke every Monday
URL:https://lovelansing.com/event/karaoke/2027-07-19/
LOCATION:The Avenue\, 2021 E Michigan Ave\, Lansing\, MI\, 48912\, United States
CATEGORIES:Karaoke
GEO:42.7338866;-84.5214406
X-APPLE-STRUCTURED-LOCATION;VALUE=URI;X-ADDRESS=The Avenue 2021 E Michigan Ave Lansing MI 48912 United States;X-APPLE-RADIUS=500;X-TITLE=2021 E Michigan Ave:geo:-84.5214406,42.7338866
END:VEVENT
BEGIN:VEVENT
DTSTART;TZID=America/Detroit:20270726T200000
DTEND;TZID=America/Detroit:20270726T200000
DTSTAMP:20260421T144707
CREATED:20240114T072001Z
LAST-MODIFIED:20240117T223133Z
UID:10002552-1816632000-1816632000@lovelansing.com
SUMMARY:Karaoke
DESCRIPTION:Karoke every Monday
URL:https://lovelansing.com/event/karaoke/2027-07-26/
LOCATION:The Avenue\, 2021 E Michigan Ave\, Lansing\, MI\, 48912\, United States
CATEGORIES:Karaoke
GEO:42.7338866;-84.5214406
X-APPLE-STRUCTURED-LOCATION;VALUE=URI;X-ADDRESS=The Avenue 2021 E Michigan Ave Lansing MI 48912 United States;X-APPLE-RADIUS=500;X-TITLE=2021 E Michigan Ave:geo:-84.5214406,42.7338866
END:VEVENT
BEGIN:VEVENT
DTSTART;TZID=America/Detroit:20270802T200000
DTEND;TZID=America/Detroit:20270802T200000
DTSTAMP:20260421T144707
CREATED:20240114T072001Z
LAST-MODIFIED:20240117T223133Z
UID:10002553-1817236800-1817236800@lovelansing.com
SUMMARY:Karaoke
DESCRIPTION:Karoke every Monday
URL:https://lovelansing.com/event/karaoke/2027-08-02/
LOCATION:The Avenue\, 2021 E Michigan Ave\, Lansing\, MI\, 48912\, United States
CATEGORIES:Karaoke
GEO:42.7338866;-84.5214406
X-APPLE-STRUCTURED-LOCATION;VALUE=URI;X-ADDRESS=The Avenue 2021 E Michigan Ave Lansing MI 48912 United States;X-APPLE-RADIUS=500;X-TITLE=2021 E Michigan Ave:geo:-84.5214406,42.7338866
END:VEVENT
BEGIN:VEVENT
DTSTART;TZID=America/Detroit:20270809T200000
DTEND;TZID=America/Detroit:20270809T200000
DTSTAMP:20260421T144707
CREATED:20240114T072001Z
LAST-MODIFIED:20240117T223133Z
UID:10002554-1817841600-1817841600@lovelansing.com
SUMMARY:Karaoke
DESCRIPTION:Karoke every Monday
URL:https://lovelansing.com/event/karaoke/2027-08-09/
LOCATION:The Avenue\, 2021 E Michigan Ave\, Lansing\, MI\, 48912\, United States
CATEGORIES:Karaoke
GEO:42.7338866;-84.5214406
X-APPLE-STRUCTURED-LOCATION;VALUE=URI;X-ADDRESS=The Avenue 2021 E Michigan Ave Lansing MI 48912 United States;X-APPLE-RADIUS=500;X-TITLE=2021 E Michigan Ave:geo:-84.5214406,42.7338866
END:VEVENT
BEGIN:VEVENT
DTSTART;TZID=America/Detroit:20270816T200000
DTEND;TZID=America/Detroit:20270816T200000
DTSTAMP:20260421T144707
CREATED:20240114T072001Z
LAST-MODIFIED:20240117T223133Z
UID:10002555-1818446400-1818446400@lovelansing.com
SUMMARY:Karaoke
DESCRIPTION:Karoke every Monday
URL:https://lovelansing.com/event/karaoke/2027-08-16/
LOCATION:The Avenue\, 2021 E Michigan Ave\, Lansing\, MI\, 48912\, United States
CATEGORIES:Karaoke
GEO:42.7338866;-84.5214406
X-APPLE-STRUCTURED-LOCATION;VALUE=URI;X-ADDRESS=The Avenue 2021 E Michigan Ave Lansing MI 48912 United States;X-APPLE-RADIUS=500;X-TITLE=2021 E Michigan Ave:geo:-84.5214406,42.7338866
END:VEVENT
BEGIN:VEVENT
DTSTART;TZID=America/Detroit:20270823T200000
DTEND;TZID=America/Detroit:20270823T200000
DTSTAMP:20260421T144707
CREATED:20240114T072001Z
LAST-MODIFIED:20240117T223133Z
UID:10002556-1819051200-1819051200@lovelansing.com
SUMMARY:Karaoke
DESCRIPTION:Karoke every Monday
URL:https://lovelansing.com/event/karaoke/2027-08-23/
LOCATION:The Avenue\, 2021 E Michigan Ave\, Lansing\, MI\, 48912\, United States
CATEGORIES:Karaoke
GEO:42.7338866;-84.5214406
X-APPLE-STRUCTURED-LOCATION;VALUE=URI;X-ADDRESS=The Avenue 2021 E Michigan Ave Lansing MI 48912 United States;X-APPLE-RADIUS=500;X-TITLE=2021 E Michigan Ave:geo:-84.5214406,42.7338866
END:VEVENT
BEGIN:VEVENT
DTSTART;TZID=America/Detroit:20270830T200000
DTEND;TZID=America/Detroit:20270830T200000
DTSTAMP:20260421T144707
CREATED:20240114T072001Z
LAST-MODIFIED:20240117T223133Z
UID:10002557-1819656000-1819656000@lovelansing.com
SUMMARY:Karaoke
DESCRIPTION:Karoke every Monday
URL:https://lovelansing.com/event/karaoke/2027-08-30/
LOCATION:The Avenue\, 2021 E Michigan Ave\, Lansing\, MI\, 48912\, United States
CATEGORIES:Karaoke
GEO:42.7338866;-84.5214406
X-APPLE-STRUCTURED-LOCATION;VALUE=URI;X-ADDRESS=The Avenue 2021 E Michigan Ave Lansing MI 48912 United States;X-APPLE-RADIUS=500;X-TITLE=2021 E Michigan Ave:geo:-84.5214406,42.7338866
END:VEVENT
BEGIN:VEVENT
DTSTART;TZID=America/Detroit:20270906T200000
DTEND;TZID=America/Detroit:20270906T200000
DTSTAMP:20260421T144707
CREATED:20240114T072001Z
LAST-MODIFIED:20240117T223133Z
UID:10002558-1820260800-1820260800@lovelansing.com
SUMMARY:Karaoke
DESCRIPTION:Karoke every Monday
URL:https://lovelansing.com/event/karaoke/2027-09-06/
LOCATION:The Avenue\, 2021 E Michigan Ave\, Lansing\, MI\, 48912\, United States
CATEGORIES:Karaoke
GEO:42.7338866;-84.5214406
X-APPLE-STRUCTURED-LOCATION;VALUE=URI;X-ADDRESS=The Avenue 2021 E Michigan Ave Lansing MI 48912 United States;X-APPLE-RADIUS=500;X-TITLE=2021 E Michigan Ave:geo:-84.5214406,42.7338866
END:VEVENT
BEGIN:VEVENT
DTSTART;TZID=America/Detroit:20270913T200000
DTEND;TZID=America/Detroit:20270913T200000
DTSTAMP:20260421T144707
CREATED:20240114T072001Z
LAST-MODIFIED:20240117T223133Z
UID:10002559-1820865600-1820865600@lovelansing.com
SUMMARY:Karaoke
DESCRIPTION:Karoke every Monday
URL:https://lovelansing.com/event/karaoke/2027-09-13/
LOCATION:The Avenue\, 2021 E Michigan Ave\, Lansing\, MI\, 48912\, United States
CATEGORIES:Karaoke
GEO:42.7338866;-84.5214406
X-APPLE-STRUCTURED-LOCATION;VALUE=URI;X-ADDRESS=The Avenue 2021 E Michigan Ave Lansing MI 48912 United States;X-APPLE-RADIUS=500;X-TITLE=2021 E Michigan Ave:geo:-84.5214406,42.7338866
END:VEVENT
BEGIN:VEVENT
DTSTART;TZID=America/Detroit:20270920T200000
DTEND;TZID=America/Detroit:20270920T200000
DTSTAMP:20260421T144707
CREATED:20240114T072001Z
LAST-MODIFIED:20240117T223133Z
UID:10002560-1821470400-1821470400@lovelansing.com
SUMMARY:Karaoke
DESCRIPTION:Karoke every Monday
URL:https://lovelansing.com/event/karaoke/2027-09-20/
LOCATION:The Avenue\, 2021 E Michigan Ave\, Lansing\, MI\, 48912\, United States
CATEGORIES:Karaoke
GEO:42.7338866;-84.5214406
X-APPLE-STRUCTURED-LOCATION;VALUE=URI;X-ADDRESS=The Avenue 2021 E Michigan Ave Lansing MI 48912 United States;X-APPLE-RADIUS=500;X-TITLE=2021 E Michigan Ave:geo:-84.5214406,42.7338866
END:VEVENT
BEGIN:VEVENT
DTSTART;TZID=America/Detroit:20270927T200000
DTEND;TZID=America/Detroit:20270927T200000
DTSTAMP:20260421T144707
CREATED:20240114T072001Z
LAST-MODIFIED:20240117T223133Z
UID:10002561-1822075200-1822075200@lovelansing.com
SUMMARY:Karaoke
DESCRIPTION:Karoke every Monday
URL:https://lovelansing.com/event/karaoke/2027-09-27/
LOCATION:The Avenue\, 2021 E Michigan Ave\, Lansing\, MI\, 48912\, United States
CATEGORIES:Karaoke
GEO:42.7338866;-84.5214406
X-APPLE-STRUCTURED-LOCATION;VALUE=URI;X-ADDRESS=The Avenue 2021 E Michigan Ave Lansing MI 48912 United States;X-APPLE-RADIUS=500;X-TITLE=2021 E Michigan Ave:geo:-84.5214406,42.7338866
END:VEVENT
BEGIN:VEVENT
DTSTART;TZID=America/Detroit:20271004T200000
DTEND;TZID=America/Detroit:20271004T200000
DTSTAMP:20260421T144707
CREATED:20240114T072001Z
LAST-MODIFIED:20240117T223133Z
UID:10002562-1822680000-1822680000@lovelansing.com
SUMMARY:Karaoke
DESCRIPTION:Karoke every Monday
URL:https://lovelansing.com/event/karaoke/2027-10-04/
LOCATION:The Avenue\, 2021 E Michigan Ave\, Lansing\, MI\, 48912\, United States
CATEGORIES:Karaoke
GEO:42.7338866;-84.5214406
X-APPLE-STRUCTURED-LOCATION;VALUE=URI;X-ADDRESS=The Avenue 2021 E Michigan Ave Lansing MI 48912 United States;X-APPLE-RADIUS=500;X-TITLE=2021 E Michigan Ave:geo:-84.5214406,42.7338866
END:VEVENT
BEGIN:VEVENT
DTSTART;TZID=America/Detroit:20271011T200000
DTEND;TZID=America/Detroit:20271011T200000
DTSTAMP:20260421T144707
CREATED:20240114T072001Z
LAST-MODIFIED:20240117T223133Z
UID:10002563-1823284800-1823284800@lovelansing.com
SUMMARY:Karaoke
DESCRIPTION:Karoke every Monday
URL:https://lovelansing.com/event/karaoke/2027-10-11/
LOCATION:The Avenue\, 2021 E Michigan Ave\, Lansing\, MI\, 48912\, United States
CATEGORIES:Karaoke
GEO:42.7338866;-84.5214406
X-APPLE-STRUCTURED-LOCATION;VALUE=URI;X-ADDRESS=The Avenue 2021 E Michigan Ave Lansing MI 48912 United States;X-APPLE-RADIUS=500;X-TITLE=2021 E Michigan Ave:geo:-84.5214406,42.7338866
END:VEVENT
BEGIN:VEVENT
DTSTART;TZID=America/Detroit:20271018T200000
DTEND;TZID=America/Detroit:20271018T200000
DTSTAMP:20260421T144707
CREATED:20240114T072001Z
LAST-MODIFIED:20240117T223133Z
UID:10002564-1823889600-1823889600@lovelansing.com
SUMMARY:Karaoke
DESCRIPTION:Karoke every Monday
URL:https://lovelansing.com/event/karaoke/2027-10-18/
LOCATION:The Avenue\, 2021 E Michigan Ave\, Lansing\, MI\, 48912\, United States
CATEGORIES:Karaoke
GEO:42.7338866;-84.5214406
X-APPLE-STRUCTURED-LOCATION;VALUE=URI;X-ADDRESS=The Avenue 2021 E Michigan Ave Lansing MI 48912 United States;X-APPLE-RADIUS=500;X-TITLE=2021 E Michigan Ave:geo:-84.5214406,42.7338866
END:VEVENT
BEGIN:VEVENT
DTSTART;TZID=America/Detroit:20271025T200000
DTEND;TZID=America/Detroit:20271025T200000
DTSTAMP:20260421T144707
CREATED:20240114T072001Z
LAST-MODIFIED:20240117T223133Z
UID:10002565-1824494400-1824494400@lovelansing.com
SUMMARY:Karaoke
DESCRIPTION:Karoke every Monday
URL:https://lovelansing.com/event/karaoke/2027-10-25/
LOCATION:The Avenue\, 2021 E Michigan Ave\, Lansing\, MI\, 48912\, United States
CATEGORIES:Karaoke
GEO:42.7338866;-84.5214406
X-APPLE-STRUCTURED-LOCATION;VALUE=URI;X-ADDRESS=The Avenue 2021 E Michigan Ave Lansing MI 48912 United States;X-APPLE-RADIUS=500;X-TITLE=2021 E Michigan Ave:geo:-84.5214406,42.7338866
END:VEVENT
BEGIN:VEVENT
DTSTART;TZID=America/Detroit:20271101T200000
DTEND;TZID=America/Detroit:20271101T200000
DTSTAMP:20260421T144707
CREATED:20240114T072001Z
LAST-MODIFIED:20240117T223133Z
UID:10002566-1825099200-1825099200@lovelansing.com
SUMMARY:Karaoke
DESCRIPTION:Karoke every Monday
URL:https://lovelansing.com/event/karaoke/2027-11-01/
LOCATION:The Avenue\, 2021 E Michigan Ave\, Lansing\, MI\, 48912\, United States
CATEGORIES:Karaoke
GEO:42.7338866;-84.5214406
X-APPLE-STRUCTURED-LOCATION;VALUE=URI;X-ADDRESS=The Avenue 2021 E Michigan Ave Lansing MI 48912 United States;X-APPLE-RADIUS=500;X-TITLE=2021 E Michigan Ave:geo:-84.5214406,42.7338866
END:VEVENT
BEGIN:VEVENT
DTSTART;TZID=America/Detroit:20271108T200000
DTEND;TZID=America/Detroit:20271108T200000
DTSTAMP:20260421T144707
CREATED:20240114T072001Z
LAST-MODIFIED:20240117T223133Z
UID:10002567-1825704000-1825704000@lovelansing.com
SUMMARY:Karaoke
DESCRIPTION:Karoke every Monday
URL:https://lovelansing.com/event/karaoke/2027-11-08/
LOCATION:The Avenue\, 2021 E Michigan Ave\, Lansing\, MI\, 48912\, United States
CATEGORIES:Karaoke
GEO:42.7338866;-84.5214406
X-APPLE-STRUCTURED-LOCATION;VALUE=URI;X-ADDRESS=The Avenue 2021 E Michigan Ave Lansing MI 48912 United States;X-APPLE-RADIUS=500;X-TITLE=2021 E Michigan Ave:geo:-84.5214406,42.7338866
END:VEVENT
BEGIN:VEVENT
DTSTART;TZID=America/Detroit:20271115T200000
DTEND;TZID=America/Detroit:20271115T200000
DTSTAMP:20260421T144707
CREATED:20240114T072001Z
LAST-MODIFIED:20240117T223133Z
UID:10002568-1826308800-1826308800@lovelansing.com
SUMMARY:Karaoke
DESCRIPTION:Karoke every Monday
URL:https://lovelansing.com/event/karaoke/2027-11-15/
LOCATION:The Avenue\, 2021 E Michigan Ave\, Lansing\, MI\, 48912\, United States
CATEGORIES:Karaoke
GEO:42.7338866;-84.5214406
X-APPLE-STRUCTURED-LOCATION;VALUE=URI;X-ADDRESS=The Avenue 2021 E Michigan Ave Lansing MI 48912 United States;X-APPLE-RADIUS=500;X-TITLE=2021 E Michigan Ave:geo:-84.5214406,42.7338866
END:VEVENT
BEGIN:VEVENT
DTSTART;TZID=America/Detroit:20271122T200000
DTEND;TZID=America/Detroit:20271122T200000
DTSTAMP:20260421T144707
CREATED:20240114T072001Z
LAST-MODIFIED:20240117T223133Z
UID:10002569-1826913600-1826913600@lovelansing.com
SUMMARY:Karaoke
DESCRIPTION:Karoke every Monday
URL:https://lovelansing.com/event/karaoke/2027-11-22/
LOCATION:The Avenue\, 2021 E Michigan Ave\, Lansing\, MI\, 48912\, United States
CATEGORIES:Karaoke
GEO:42.7338866;-84.5214406
X-APPLE-STRUCTURED-LOCATION;VALUE=URI;X-ADDRESS=The Avenue 2021 E Michigan Ave Lansing MI 48912 United States;X-APPLE-RADIUS=500;X-TITLE=2021 E Michigan Ave:geo:-84.5214406,42.7338866
END:VEVENT
BEGIN:VEVENT
DTSTART;TZID=America/Detroit:20271129T200000
DTEND;TZID=America/Detroit:20271129T200000
DTSTAMP:20260421T144707
CREATED:20240114T072001Z
LAST-MODIFIED:20240117T223133Z
UID:10002570-1827518400-1827518400@lovelansing.com
SUMMARY:Karaoke
DESCRIPTION:Karoke every Monday
URL:https://lovelansing.com/event/karaoke/2027-11-29/
LOCATION:The Avenue\, 2021 E Michigan Ave\, Lansing\, MI\, 48912\, United States
CATEGORIES:Karaoke
GEO:42.7338866;-84.5214406
X-APPLE-STRUCTURED-LOCATION;VALUE=URI;X-ADDRESS=The Avenue 2021 E Michigan Ave Lansing MI 48912 United States;X-APPLE-RADIUS=500;X-TITLE=2021 E Michigan Ave:geo:-84.5214406,42.7338866
END:VEVENT
END:VCALENDAR