BEGIN:VCALENDAR
VERSION:2.0
PRODID:-//Love Lansing - ECPv6.9.0//NONSGML v1.0//EN
CALSCALE:GREGORIAN
METHOD:PUBLISH
X-ORIGINAL-URL:https://lovelansing.com
X-WR-CALDESC:Events for Love Lansing
REFRESH-INTERVAL;VALUE=DURATION:PT1H
X-Robots-Tag:noindex
X-PUBLISHED-TTL:PT1H
BEGIN:VTIMEZONE
TZID:America/Detroit
BEGIN:DAYLIGHT
TZOFFSETFROM:-0500
TZOFFSETTO:-0400
TZNAME:EDT
DTSTART:20250309T070000
END:DAYLIGHT
BEGIN:STANDARD
TZOFFSETFROM:-0400
TZOFFSETTO:-0500
TZNAME:EST
DTSTART:20251102T060000
END:STANDARD
END:VTIMEZONE
BEGIN:VEVENT
DTSTART;TZID=America/Detroit:20251013T200000
DTEND;TZID=America/Detroit:20251013T200000
DTSTAMP:20260421T153542
CREATED:20240114T072001Z
LAST-MODIFIED:20240117T223133Z
UID:10002459-1760385600-1760385600@lovelansing.com
SUMMARY:Karaoke
DESCRIPTION:Karoke every Monday
URL:https://lovelansing.com/event/karaoke/2025-10-13/
LOCATION:The Avenue\, 2021 E Michigan Ave\, Lansing\, MI\, 48912\, United States
CATEGORIES:Karaoke
GEO:42.7338866;-84.5214406
X-APPLE-STRUCTURED-LOCATION;VALUE=URI;X-ADDRESS=The Avenue 2021 E Michigan Ave Lansing MI 48912 United States;X-APPLE-RADIUS=500;X-TITLE=2021 E Michigan Ave:geo:-84.5214406,42.7338866
END:VEVENT
BEGIN:VEVENT
DTSTART;TZID=America/Detroit:20251010T210000
DTEND;TZID=America/Detroit:20251010T230000
DTSTAMP:20260421T153542
CREATED:20240114T065548Z
LAST-MODIFIED:20240128T194327Z
UID:10001674-1760130000-1760137200@lovelansing.com
SUMMARY:Friday Karakoe
DESCRIPTION:Friday Karaoke at The Avenue Cafe in Lansing\, Michigan\, is a lively and engaging event that has become a staple for locals and visitors alike. Held every Friday from 9:00 pm to 1:30 am\, this event offers a blend of music\, socializing\, and culinary delights from Ruckus Ramen. Whether you’re a seasoned singer or just looking to have fun with friends\, the stage is open for all.
URL:https://lovelansing.com/event/friday-karakoe/2025-10-10/
LOCATION:The Avenue\, 2021 E Michigan Ave\, Lansing\, MI\, 48912\, United States
CATEGORIES:Karaoke
GEO:42.7338866;-84.5214406
X-APPLE-STRUCTURED-LOCATION;VALUE=URI;X-ADDRESS=The Avenue 2021 E Michigan Ave Lansing MI 48912 United States;X-APPLE-RADIUS=500;X-TITLE=2021 E Michigan Ave:geo:-84.5214406,42.7338866
END:VEVENT
BEGIN:VEVENT
DTSTART;TZID=America/Detroit:20251006T200000
DTEND;TZID=America/Detroit:20251006T200000
DTSTAMP:20260421T153542
CREATED:20240114T072001Z
LAST-MODIFIED:20240117T223133Z
UID:10002458-1759780800-1759780800@lovelansing.com
SUMMARY:Karaoke
DESCRIPTION:Karoke every Monday
URL:https://lovelansing.com/event/karaoke/2025-10-06/
LOCATION:The Avenue\, 2021 E Michigan Ave\, Lansing\, MI\, 48912\, United States
CATEGORIES:Karaoke
GEO:42.7338866;-84.5214406
X-APPLE-STRUCTURED-LOCATION;VALUE=URI;X-ADDRESS=The Avenue 2021 E Michigan Ave Lansing MI 48912 United States;X-APPLE-RADIUS=500;X-TITLE=2021 E Michigan Ave:geo:-84.5214406,42.7338866
END:VEVENT
BEGIN:VEVENT
DTSTART;TZID=America/Detroit:20251003T210000
DTEND;TZID=America/Detroit:20251003T230000
DTSTAMP:20260421T153542
CREATED:20240114T065548Z
LAST-MODIFIED:20240128T194327Z
UID:10001673-1759525200-1759532400@lovelansing.com
SUMMARY:Friday Karakoe
DESCRIPTION:Friday Karaoke at The Avenue Cafe in Lansing\, Michigan\, is a lively and engaging event that has become a staple for locals and visitors alike. Held every Friday from 9:00 pm to 1:30 am\, this event offers a blend of music\, socializing\, and culinary delights from Ruckus Ramen. Whether you’re a seasoned singer or just looking to have fun with friends\, the stage is open for all.
URL:https://lovelansing.com/event/friday-karakoe/2025-10-03/
LOCATION:The Avenue\, 2021 E Michigan Ave\, Lansing\, MI\, 48912\, United States
CATEGORIES:Karaoke
GEO:42.7338866;-84.5214406
X-APPLE-STRUCTURED-LOCATION;VALUE=URI;X-ADDRESS=The Avenue 2021 E Michigan Ave Lansing MI 48912 United States;X-APPLE-RADIUS=500;X-TITLE=2021 E Michigan Ave:geo:-84.5214406,42.7338866
END:VEVENT
BEGIN:VEVENT
DTSTART;TZID=America/Detroit:20250929T200000
DTEND;TZID=America/Detroit:20250929T200000
DTSTAMP:20260421T153543
CREATED:20240114T072001Z
LAST-MODIFIED:20240117T223133Z
UID:10002457-1759176000-1759176000@lovelansing.com
SUMMARY:Karaoke
DESCRIPTION:Karoke every Monday
URL:https://lovelansing.com/event/karaoke/2025-09-29/
LOCATION:The Avenue\, 2021 E Michigan Ave\, Lansing\, MI\, 48912\, United States
CATEGORIES:Karaoke
GEO:42.7338866;-84.5214406
X-APPLE-STRUCTURED-LOCATION;VALUE=URI;X-ADDRESS=The Avenue 2021 E Michigan Ave Lansing MI 48912 United States;X-APPLE-RADIUS=500;X-TITLE=2021 E Michigan Ave:geo:-84.5214406,42.7338866
END:VEVENT
BEGIN:VEVENT
DTSTART;TZID=America/Detroit:20250926T210000
DTEND;TZID=America/Detroit:20250926T230000
DTSTAMP:20260421T153543
CREATED:20240114T065548Z
LAST-MODIFIED:20240128T194327Z
UID:10001672-1758920400-1758927600@lovelansing.com
SUMMARY:Friday Karakoe
DESCRIPTION:Friday Karaoke at The Avenue Cafe in Lansing\, Michigan\, is a lively and engaging event that has become a staple for locals and visitors alike. Held every Friday from 9:00 pm to 1:30 am\, this event offers a blend of music\, socializing\, and culinary delights from Ruckus Ramen. Whether you’re a seasoned singer or just looking to have fun with friends\, the stage is open for all.
URL:https://lovelansing.com/event/friday-karakoe/2025-09-26/
LOCATION:The Avenue\, 2021 E Michigan Ave\, Lansing\, MI\, 48912\, United States
CATEGORIES:Karaoke
GEO:42.7338866;-84.5214406
X-APPLE-STRUCTURED-LOCATION;VALUE=URI;X-ADDRESS=The Avenue 2021 E Michigan Ave Lansing MI 48912 United States;X-APPLE-RADIUS=500;X-TITLE=2021 E Michigan Ave:geo:-84.5214406,42.7338866
END:VEVENT
BEGIN:VEVENT
DTSTART;TZID=America/Detroit:20250922T200000
DTEND;TZID=America/Detroit:20250922T200000
DTSTAMP:20260421T153543
CREATED:20240114T072001Z
LAST-MODIFIED:20240117T223133Z
UID:10002456-1758571200-1758571200@lovelansing.com
SUMMARY:Karaoke
DESCRIPTION:Karoke every Monday
URL:https://lovelansing.com/event/karaoke/2025-09-22/
LOCATION:The Avenue\, 2021 E Michigan Ave\, Lansing\, MI\, 48912\, United States
CATEGORIES:Karaoke
GEO:42.7338866;-84.5214406
X-APPLE-STRUCTURED-LOCATION;VALUE=URI;X-ADDRESS=The Avenue 2021 E Michigan Ave Lansing MI 48912 United States;X-APPLE-RADIUS=500;X-TITLE=2021 E Michigan Ave:geo:-84.5214406,42.7338866
END:VEVENT
BEGIN:VEVENT
DTSTART;TZID=America/Detroit:20250919T210000
DTEND;TZID=America/Detroit:20250919T230000
DTSTAMP:20260421T153543
CREATED:20240114T065548Z
LAST-MODIFIED:20240128T194327Z
UID:10001671-1758315600-1758322800@lovelansing.com
SUMMARY:Friday Karakoe
DESCRIPTION:Friday Karaoke at The Avenue Cafe in Lansing\, Michigan\, is a lively and engaging event that has become a staple for locals and visitors alike. Held every Friday from 9:00 pm to 1:30 am\, this event offers a blend of music\, socializing\, and culinary delights from Ruckus Ramen. Whether you’re a seasoned singer or just looking to have fun with friends\, the stage is open for all.
URL:https://lovelansing.com/event/friday-karakoe/2025-09-19/
LOCATION:The Avenue\, 2021 E Michigan Ave\, Lansing\, MI\, 48912\, United States
CATEGORIES:Karaoke
GEO:42.7338866;-84.5214406
X-APPLE-STRUCTURED-LOCATION;VALUE=URI;X-ADDRESS=The Avenue 2021 E Michigan Ave Lansing MI 48912 United States;X-APPLE-RADIUS=500;X-TITLE=2021 E Michigan Ave:geo:-84.5214406,42.7338866
END:VEVENT
BEGIN:VEVENT
DTSTART;TZID=America/Detroit:20250915T200000
DTEND;TZID=America/Detroit:20250915T200000
DTSTAMP:20260421T153543
CREATED:20240114T072001Z
LAST-MODIFIED:20240117T223133Z
UID:10002455-1757966400-1757966400@lovelansing.com
SUMMARY:Karaoke
DESCRIPTION:Karoke every Monday
URL:https://lovelansing.com/event/karaoke/2025-09-15/
LOCATION:The Avenue\, 2021 E Michigan Ave\, Lansing\, MI\, 48912\, United States
CATEGORIES:Karaoke
GEO:42.7338866;-84.5214406
X-APPLE-STRUCTURED-LOCATION;VALUE=URI;X-ADDRESS=The Avenue 2021 E Michigan Ave Lansing MI 48912 United States;X-APPLE-RADIUS=500;X-TITLE=2021 E Michigan Ave:geo:-84.5214406,42.7338866
END:VEVENT
BEGIN:VEVENT
DTSTART;TZID=America/Detroit:20250912T210000
DTEND;TZID=America/Detroit:20250912T230000
DTSTAMP:20260421T153543
CREATED:20240114T065548Z
LAST-MODIFIED:20240128T194327Z
UID:10001670-1757710800-1757718000@lovelansing.com
SUMMARY:Friday Karakoe
DESCRIPTION:Friday Karaoke at The Avenue Cafe in Lansing\, Michigan\, is a lively and engaging event that has become a staple for locals and visitors alike. Held every Friday from 9:00 pm to 1:30 am\, this event offers a blend of music\, socializing\, and culinary delights from Ruckus Ramen. Whether you’re a seasoned singer or just looking to have fun with friends\, the stage is open for all.
URL:https://lovelansing.com/event/friday-karakoe/2025-09-12/
LOCATION:The Avenue\, 2021 E Michigan Ave\, Lansing\, MI\, 48912\, United States
CATEGORIES:Karaoke
GEO:42.7338866;-84.5214406
X-APPLE-STRUCTURED-LOCATION;VALUE=URI;X-ADDRESS=The Avenue 2021 E Michigan Ave Lansing MI 48912 United States;X-APPLE-RADIUS=500;X-TITLE=2021 E Michigan Ave:geo:-84.5214406,42.7338866
END:VEVENT
BEGIN:VEVENT
DTSTART;TZID=America/Detroit:20250908T200000
DTEND;TZID=America/Detroit:20250908T200000
DTSTAMP:20260421T153543
CREATED:20240114T072001Z
LAST-MODIFIED:20240117T223133Z
UID:10002454-1757361600-1757361600@lovelansing.com
SUMMARY:Karaoke
DESCRIPTION:Karoke every Monday
URL:https://lovelansing.com/event/karaoke/2025-09-08/
LOCATION:The Avenue\, 2021 E Michigan Ave\, Lansing\, MI\, 48912\, United States
CATEGORIES:Karaoke
GEO:42.7338866;-84.5214406
X-APPLE-STRUCTURED-LOCATION;VALUE=URI;X-ADDRESS=The Avenue 2021 E Michigan Ave Lansing MI 48912 United States;X-APPLE-RADIUS=500;X-TITLE=2021 E Michigan Ave:geo:-84.5214406,42.7338866
END:VEVENT
BEGIN:VEVENT
DTSTART;TZID=America/Detroit:20250905T210000
DTEND;TZID=America/Detroit:20250905T230000
DTSTAMP:20260421T153543
CREATED:20240114T065548Z
LAST-MODIFIED:20240128T194327Z
UID:10001669-1757106000-1757113200@lovelansing.com
SUMMARY:Friday Karakoe
DESCRIPTION:Friday Karaoke at The Avenue Cafe in Lansing\, Michigan\, is a lively and engaging event that has become a staple for locals and visitors alike. Held every Friday from 9:00 pm to 1:30 am\, this event offers a blend of music\, socializing\, and culinary delights from Ruckus Ramen. Whether you’re a seasoned singer or just looking to have fun with friends\, the stage is open for all.
URL:https://lovelansing.com/event/friday-karakoe/2025-09-05/
LOCATION:The Avenue\, 2021 E Michigan Ave\, Lansing\, MI\, 48912\, United States
CATEGORIES:Karaoke
GEO:42.7338866;-84.5214406
X-APPLE-STRUCTURED-LOCATION;VALUE=URI;X-ADDRESS=The Avenue 2021 E Michigan Ave Lansing MI 48912 United States;X-APPLE-RADIUS=500;X-TITLE=2021 E Michigan Ave:geo:-84.5214406,42.7338866
END:VEVENT
BEGIN:VEVENT
DTSTART;TZID=America/Detroit:20250901T200000
DTEND;TZID=America/Detroit:20250901T200000
DTSTAMP:20260421T153543
CREATED:20240114T072001Z
LAST-MODIFIED:20240117T223133Z
UID:10002453-1756756800-1756756800@lovelansing.com
SUMMARY:Karaoke
DESCRIPTION:Karoke every Monday
URL:https://lovelansing.com/event/karaoke/2025-09-01/
LOCATION:The Avenue\, 2021 E Michigan Ave\, Lansing\, MI\, 48912\, United States
CATEGORIES:Karaoke
GEO:42.7338866;-84.5214406
X-APPLE-STRUCTURED-LOCATION;VALUE=URI;X-ADDRESS=The Avenue 2021 E Michigan Ave Lansing MI 48912 United States;X-APPLE-RADIUS=500;X-TITLE=2021 E Michigan Ave:geo:-84.5214406,42.7338866
END:VEVENT
BEGIN:VEVENT
DTSTART;TZID=America/Detroit:20250829T210000
DTEND;TZID=America/Detroit:20250829T230000
DTSTAMP:20260421T153543
CREATED:20240114T065548Z
LAST-MODIFIED:20240128T194327Z
UID:10001668-1756501200-1756508400@lovelansing.com
SUMMARY:Friday Karakoe
DESCRIPTION:Friday Karaoke at The Avenue Cafe in Lansing\, Michigan\, is a lively and engaging event that has become a staple for locals and visitors alike. Held every Friday from 9:00 pm to 1:30 am\, this event offers a blend of music\, socializing\, and culinary delights from Ruckus Ramen. Whether you’re a seasoned singer or just looking to have fun with friends\, the stage is open for all.
URL:https://lovelansing.com/event/friday-karakoe/2025-08-29/
LOCATION:The Avenue\, 2021 E Michigan Ave\, Lansing\, MI\, 48912\, United States
CATEGORIES:Karaoke
GEO:42.7338866;-84.5214406
X-APPLE-STRUCTURED-LOCATION;VALUE=URI;X-ADDRESS=The Avenue 2021 E Michigan Ave Lansing MI 48912 United States;X-APPLE-RADIUS=500;X-TITLE=2021 E Michigan Ave:geo:-84.5214406,42.7338866
END:VEVENT
BEGIN:VEVENT
DTSTART;TZID=America/Detroit:20250825T200000
DTEND;TZID=America/Detroit:20250825T200000
DTSTAMP:20260421T153543
CREATED:20240114T072001Z
LAST-MODIFIED:20240117T223133Z
UID:10002452-1756152000-1756152000@lovelansing.com
SUMMARY:Karaoke
DESCRIPTION:Karoke every Monday
URL:https://lovelansing.com/event/karaoke/2025-08-25/
LOCATION:The Avenue\, 2021 E Michigan Ave\, Lansing\, MI\, 48912\, United States
CATEGORIES:Karaoke
GEO:42.7338866;-84.5214406
X-APPLE-STRUCTURED-LOCATION;VALUE=URI;X-ADDRESS=The Avenue 2021 E Michigan Ave Lansing MI 48912 United States;X-APPLE-RADIUS=500;X-TITLE=2021 E Michigan Ave:geo:-84.5214406,42.7338866
END:VEVENT
BEGIN:VEVENT
DTSTART;TZID=America/Detroit:20250822T210000
DTEND;TZID=America/Detroit:20250822T230000
DTSTAMP:20260421T153543
CREATED:20240114T065548Z
LAST-MODIFIED:20240128T194327Z
UID:10001667-1755896400-1755903600@lovelansing.com
SUMMARY:Friday Karakoe
DESCRIPTION:Friday Karaoke at The Avenue Cafe in Lansing\, Michigan\, is a lively and engaging event that has become a staple for locals and visitors alike. Held every Friday from 9:00 pm to 1:30 am\, this event offers a blend of music\, socializing\, and culinary delights from Ruckus Ramen. Whether you’re a seasoned singer or just looking to have fun with friends\, the stage is open for all.
URL:https://lovelansing.com/event/friday-karakoe/2025-08-22/
LOCATION:The Avenue\, 2021 E Michigan Ave\, Lansing\, MI\, 48912\, United States
CATEGORIES:Karaoke
GEO:42.7338866;-84.5214406
X-APPLE-STRUCTURED-LOCATION;VALUE=URI;X-ADDRESS=The Avenue 2021 E Michigan Ave Lansing MI 48912 United States;X-APPLE-RADIUS=500;X-TITLE=2021 E Michigan Ave:geo:-84.5214406,42.7338866
END:VEVENT
BEGIN:VEVENT
DTSTART;TZID=America/Detroit:20250818T200000
DTEND;TZID=America/Detroit:20250818T200000
DTSTAMP:20260421T153543
CREATED:20240114T072001Z
LAST-MODIFIED:20240117T223133Z
UID:10002451-1755547200-1755547200@lovelansing.com
SUMMARY:Karaoke
DESCRIPTION:Karoke every Monday
URL:https://lovelansing.com/event/karaoke/2025-08-18/
LOCATION:The Avenue\, 2021 E Michigan Ave\, Lansing\, MI\, 48912\, United States
CATEGORIES:Karaoke
GEO:42.7338866;-84.5214406
X-APPLE-STRUCTURED-LOCATION;VALUE=URI;X-ADDRESS=The Avenue 2021 E Michigan Ave Lansing MI 48912 United States;X-APPLE-RADIUS=500;X-TITLE=2021 E Michigan Ave:geo:-84.5214406,42.7338866
END:VEVENT
BEGIN:VEVENT
DTSTART;TZID=America/Detroit:20250815T210000
DTEND;TZID=America/Detroit:20250815T230000
DTSTAMP:20260421T153543
CREATED:20240114T065548Z
LAST-MODIFIED:20240128T194327Z
UID:10001666-1755291600-1755298800@lovelansing.com
SUMMARY:Friday Karakoe
DESCRIPTION:Friday Karaoke at The Avenue Cafe in Lansing\, Michigan\, is a lively and engaging event that has become a staple for locals and visitors alike. Held every Friday from 9:00 pm to 1:30 am\, this event offers a blend of music\, socializing\, and culinary delights from Ruckus Ramen. Whether you’re a seasoned singer or just looking to have fun with friends\, the stage is open for all.
URL:https://lovelansing.com/event/friday-karakoe/2025-08-15/
LOCATION:The Avenue\, 2021 E Michigan Ave\, Lansing\, MI\, 48912\, United States
CATEGORIES:Karaoke
GEO:42.7338866;-84.5214406
X-APPLE-STRUCTURED-LOCATION;VALUE=URI;X-ADDRESS=The Avenue 2021 E Michigan Ave Lansing MI 48912 United States;X-APPLE-RADIUS=500;X-TITLE=2021 E Michigan Ave:geo:-84.5214406,42.7338866
END:VEVENT
BEGIN:VEVENT
DTSTART;TZID=America/Detroit:20250811T200000
DTEND;TZID=America/Detroit:20250811T200000
DTSTAMP:20260421T153543
CREATED:20240114T072001Z
LAST-MODIFIED:20240117T223133Z
UID:10002450-1754942400-1754942400@lovelansing.com
SUMMARY:Karaoke
DESCRIPTION:Karoke every Monday
URL:https://lovelansing.com/event/karaoke/2025-08-11/
LOCATION:The Avenue\, 2021 E Michigan Ave\, Lansing\, MI\, 48912\, United States
CATEGORIES:Karaoke
GEO:42.7338866;-84.5214406
X-APPLE-STRUCTURED-LOCATION;VALUE=URI;X-ADDRESS=The Avenue 2021 E Michigan Ave Lansing MI 48912 United States;X-APPLE-RADIUS=500;X-TITLE=2021 E Michigan Ave:geo:-84.5214406,42.7338866
END:VEVENT
BEGIN:VEVENT
DTSTART;TZID=America/Detroit:20250808T210000
DTEND;TZID=America/Detroit:20250808T230000
DTSTAMP:20260421T153543
CREATED:20240114T065548Z
LAST-MODIFIED:20240128T194327Z
UID:10001665-1754686800-1754694000@lovelansing.com
SUMMARY:Friday Karakoe
DESCRIPTION:Friday Karaoke at The Avenue Cafe in Lansing\, Michigan\, is a lively and engaging event that has become a staple for locals and visitors alike. Held every Friday from 9:00 pm to 1:30 am\, this event offers a blend of music\, socializing\, and culinary delights from Ruckus Ramen. Whether you’re a seasoned singer or just looking to have fun with friends\, the stage is open for all.
URL:https://lovelansing.com/event/friday-karakoe/2025-08-08/
LOCATION:The Avenue\, 2021 E Michigan Ave\, Lansing\, MI\, 48912\, United States
CATEGORIES:Karaoke
GEO:42.7338866;-84.5214406
X-APPLE-STRUCTURED-LOCATION;VALUE=URI;X-ADDRESS=The Avenue 2021 E Michigan Ave Lansing MI 48912 United States;X-APPLE-RADIUS=500;X-TITLE=2021 E Michigan Ave:geo:-84.5214406,42.7338866
END:VEVENT
BEGIN:VEVENT
DTSTART;TZID=America/Detroit:20250804T200000
DTEND;TZID=America/Detroit:20250804T200000
DTSTAMP:20260421T153543
CREATED:20240114T072001Z
LAST-MODIFIED:20240117T223133Z
UID:10002449-1754337600-1754337600@lovelansing.com
SUMMARY:Karaoke
DESCRIPTION:Karoke every Monday
URL:https://lovelansing.com/event/karaoke/2025-08-04/
LOCATION:The Avenue\, 2021 E Michigan Ave\, Lansing\, MI\, 48912\, United States
CATEGORIES:Karaoke
GEO:42.7338866;-84.5214406
X-APPLE-STRUCTURED-LOCATION;VALUE=URI;X-ADDRESS=The Avenue 2021 E Michigan Ave Lansing MI 48912 United States;X-APPLE-RADIUS=500;X-TITLE=2021 E Michigan Ave:geo:-84.5214406,42.7338866
END:VEVENT
BEGIN:VEVENT
DTSTART;TZID=America/Detroit:20250801T210000
DTEND;TZID=America/Detroit:20250801T230000
DTSTAMP:20260421T153543
CREATED:20240114T065548Z
LAST-MODIFIED:20240128T194327Z
UID:10001664-1754082000-1754089200@lovelansing.com
SUMMARY:Friday Karakoe
DESCRIPTION:Friday Karaoke at The Avenue Cafe in Lansing\, Michigan\, is a lively and engaging event that has become a staple for locals and visitors alike. Held every Friday from 9:00 pm to 1:30 am\, this event offers a blend of music\, socializing\, and culinary delights from Ruckus Ramen. Whether you’re a seasoned singer or just looking to have fun with friends\, the stage is open for all.
URL:https://lovelansing.com/event/friday-karakoe/2025-08-01/
LOCATION:The Avenue\, 2021 E Michigan Ave\, Lansing\, MI\, 48912\, United States
CATEGORIES:Karaoke
GEO:42.7338866;-84.5214406
X-APPLE-STRUCTURED-LOCATION;VALUE=URI;X-ADDRESS=The Avenue 2021 E Michigan Ave Lansing MI 48912 United States;X-APPLE-RADIUS=500;X-TITLE=2021 E Michigan Ave:geo:-84.5214406,42.7338866
END:VEVENT
BEGIN:VEVENT
DTSTART;TZID=America/Detroit:20250728T200000
DTEND;TZID=America/Detroit:20250728T200000
DTSTAMP:20260421T153543
CREATED:20240114T072001Z
LAST-MODIFIED:20240117T223133Z
UID:10002448-1753732800-1753732800@lovelansing.com
SUMMARY:Karaoke
DESCRIPTION:Karoke every Monday
URL:https://lovelansing.com/event/karaoke/2025-07-28/
LOCATION:The Avenue\, 2021 E Michigan Ave\, Lansing\, MI\, 48912\, United States
CATEGORIES:Karaoke
GEO:42.7338866;-84.5214406
X-APPLE-STRUCTURED-LOCATION;VALUE=URI;X-ADDRESS=The Avenue 2021 E Michigan Ave Lansing MI 48912 United States;X-APPLE-RADIUS=500;X-TITLE=2021 E Michigan Ave:geo:-84.5214406,42.7338866
END:VEVENT
BEGIN:VEVENT
DTSTART;TZID=America/Detroit:20250725T210000
DTEND;TZID=America/Detroit:20250725T230000
DTSTAMP:20260421T153543
CREATED:20240114T065548Z
LAST-MODIFIED:20240128T194327Z
UID:10001663-1753477200-1753484400@lovelansing.com
SUMMARY:Friday Karakoe
DESCRIPTION:Friday Karaoke at The Avenue Cafe in Lansing\, Michigan\, is a lively and engaging event that has become a staple for locals and visitors alike. Held every Friday from 9:00 pm to 1:30 am\, this event offers a blend of music\, socializing\, and culinary delights from Ruckus Ramen. Whether you’re a seasoned singer or just looking to have fun with friends\, the stage is open for all.
URL:https://lovelansing.com/event/friday-karakoe/2025-07-25/
LOCATION:The Avenue\, 2021 E Michigan Ave\, Lansing\, MI\, 48912\, United States
CATEGORIES:Karaoke
GEO:42.7338866;-84.5214406
X-APPLE-STRUCTURED-LOCATION;VALUE=URI;X-ADDRESS=The Avenue 2021 E Michigan Ave Lansing MI 48912 United States;X-APPLE-RADIUS=500;X-TITLE=2021 E Michigan Ave:geo:-84.5214406,42.7338866
END:VEVENT
BEGIN:VEVENT
DTSTART;TZID=America/Detroit:20250721T200000
DTEND;TZID=America/Detroit:20250721T200000
DTSTAMP:20260421T153543
CREATED:20240114T072001Z
LAST-MODIFIED:20240117T223133Z
UID:10002447-1753128000-1753128000@lovelansing.com
SUMMARY:Karaoke
DESCRIPTION:Karoke every Monday
URL:https://lovelansing.com/event/karaoke/2025-07-21/
LOCATION:The Avenue\, 2021 E Michigan Ave\, Lansing\, MI\, 48912\, United States
CATEGORIES:Karaoke
GEO:42.7338866;-84.5214406
X-APPLE-STRUCTURED-LOCATION;VALUE=URI;X-ADDRESS=The Avenue 2021 E Michigan Ave Lansing MI 48912 United States;X-APPLE-RADIUS=500;X-TITLE=2021 E Michigan Ave:geo:-84.5214406,42.7338866
END:VEVENT
BEGIN:VEVENT
DTSTART;TZID=America/Detroit:20250718T210000
DTEND;TZID=America/Detroit:20250718T230000
DTSTAMP:20260421T153543
CREATED:20240114T065548Z
LAST-MODIFIED:20240128T194327Z
UID:10001662-1752872400-1752879600@lovelansing.com
SUMMARY:Friday Karakoe
DESCRIPTION:Friday Karaoke at The Avenue Cafe in Lansing\, Michigan\, is a lively and engaging event that has become a staple for locals and visitors alike. Held every Friday from 9:00 pm to 1:30 am\, this event offers a blend of music\, socializing\, and culinary delights from Ruckus Ramen. Whether you’re a seasoned singer or just looking to have fun with friends\, the stage is open for all.
URL:https://lovelansing.com/event/friday-karakoe/2025-07-18/
LOCATION:The Avenue\, 2021 E Michigan Ave\, Lansing\, MI\, 48912\, United States
CATEGORIES:Karaoke
GEO:42.7338866;-84.5214406
X-APPLE-STRUCTURED-LOCATION;VALUE=URI;X-ADDRESS=The Avenue 2021 E Michigan Ave Lansing MI 48912 United States;X-APPLE-RADIUS=500;X-TITLE=2021 E Michigan Ave:geo:-84.5214406,42.7338866
END:VEVENT
BEGIN:VEVENT
DTSTART;TZID=America/Detroit:20250714T200000
DTEND;TZID=America/Detroit:20250714T200000
DTSTAMP:20260421T153543
CREATED:20240114T072001Z
LAST-MODIFIED:20240117T223133Z
UID:10002446-1752523200-1752523200@lovelansing.com
SUMMARY:Karaoke
DESCRIPTION:Karoke every Monday
URL:https://lovelansing.com/event/karaoke/2025-07-14/
LOCATION:The Avenue\, 2021 E Michigan Ave\, Lansing\, MI\, 48912\, United States
CATEGORIES:Karaoke
GEO:42.7338866;-84.5214406
X-APPLE-STRUCTURED-LOCATION;VALUE=URI;X-ADDRESS=The Avenue 2021 E Michigan Ave Lansing MI 48912 United States;X-APPLE-RADIUS=500;X-TITLE=2021 E Michigan Ave:geo:-84.5214406,42.7338866
END:VEVENT
BEGIN:VEVENT
DTSTART;TZID=America/Detroit:20250711T210000
DTEND;TZID=America/Detroit:20250711T230000
DTSTAMP:20260421T153543
CREATED:20240114T065548Z
LAST-MODIFIED:20240128T194327Z
UID:10001661-1752267600-1752274800@lovelansing.com
SUMMARY:Friday Karakoe
DESCRIPTION:Friday Karaoke at The Avenue Cafe in Lansing\, Michigan\, is a lively and engaging event that has become a staple for locals and visitors alike. Held every Friday from 9:00 pm to 1:30 am\, this event offers a blend of music\, socializing\, and culinary delights from Ruckus Ramen. Whether you’re a seasoned singer or just looking to have fun with friends\, the stage is open for all.
URL:https://lovelansing.com/event/friday-karakoe/2025-07-11/
LOCATION:The Avenue\, 2021 E Michigan Ave\, Lansing\, MI\, 48912\, United States
CATEGORIES:Karaoke
GEO:42.7338866;-84.5214406
X-APPLE-STRUCTURED-LOCATION;VALUE=URI;X-ADDRESS=The Avenue 2021 E Michigan Ave Lansing MI 48912 United States;X-APPLE-RADIUS=500;X-TITLE=2021 E Michigan Ave:geo:-84.5214406,42.7338866
END:VEVENT
BEGIN:VEVENT
DTSTART;TZID=America/Detroit:20250707T200000
DTEND;TZID=America/Detroit:20250707T200000
DTSTAMP:20260421T153543
CREATED:20240114T072001Z
LAST-MODIFIED:20240117T223133Z
UID:10002445-1751918400-1751918400@lovelansing.com
SUMMARY:Karaoke
DESCRIPTION:Karoke every Monday
URL:https://lovelansing.com/event/karaoke/2025-07-07/
LOCATION:The Avenue\, 2021 E Michigan Ave\, Lansing\, MI\, 48912\, United States
CATEGORIES:Karaoke
GEO:42.7338866;-84.5214406
X-APPLE-STRUCTURED-LOCATION;VALUE=URI;X-ADDRESS=The Avenue 2021 E Michigan Ave Lansing MI 48912 United States;X-APPLE-RADIUS=500;X-TITLE=2021 E Michigan Ave:geo:-84.5214406,42.7338866
END:VEVENT
BEGIN:VEVENT
DTSTART;TZID=America/Detroit:20250704T210000
DTEND;TZID=America/Detroit:20250704T230000
DTSTAMP:20260421T153543
CREATED:20240114T065548Z
LAST-MODIFIED:20240128T194327Z
UID:10001660-1751662800-1751670000@lovelansing.com
SUMMARY:Friday Karakoe
DESCRIPTION:Friday Karaoke at The Avenue Cafe in Lansing\, Michigan\, is a lively and engaging event that has become a staple for locals and visitors alike. Held every Friday from 9:00 pm to 1:30 am\, this event offers a blend of music\, socializing\, and culinary delights from Ruckus Ramen. Whether you’re a seasoned singer or just looking to have fun with friends\, the stage is open for all.
URL:https://lovelansing.com/event/friday-karakoe/2025-07-04/
LOCATION:The Avenue\, 2021 E Michigan Ave\, Lansing\, MI\, 48912\, United States
CATEGORIES:Karaoke
GEO:42.7338866;-84.5214406
X-APPLE-STRUCTURED-LOCATION;VALUE=URI;X-ADDRESS=The Avenue 2021 E Michigan Ave Lansing MI 48912 United States;X-APPLE-RADIUS=500;X-TITLE=2021 E Michigan Ave:geo:-84.5214406,42.7338866
END:VEVENT
END:VCALENDAR