BEGIN:VCALENDAR
VERSION:2.0
PRODID:-//Love Lansing - ECPv6.9.0//NONSGML v1.0//EN
CALSCALE:GREGORIAN
METHOD:PUBLISH
X-ORIGINAL-URL:https://lovelansing.com
X-WR-CALDESC:Events for Love Lansing
REFRESH-INTERVAL;VALUE=DURATION:PT1H
X-Robots-Tag:noindex
X-PUBLISHED-TTL:PT1H
BEGIN:VTIMEZONE
TZID:America/Detroit
BEGIN:DAYLIGHT
TZOFFSETFROM:-0500
TZOFFSETTO:-0400
TZNAME:EDT
DTSTART:20240310T070000
END:DAYLIGHT
BEGIN:STANDARD
TZOFFSETFROM:-0400
TZOFFSETTO:-0500
TZNAME:EST
DTSTART:20241103T060000
END:STANDARD
END:VTIMEZONE
BEGIN:VEVENT
DTSTART;TZID=America/Detroit:20240310T120000
DTEND;TZID=America/Detroit:20240310T150000
DTSTAMP:20260421T190608
CREATED:20240301T005809Z
LAST-MODIFIED:20240301T005809Z
UID:10004079-1710072000-1710082800@lovelansing.com
SUMMARY:Keith Hall Trio
DESCRIPTION:
URL:https://lovelansing.com/event/keith-hall-trio/
LOCATION:Horrock’s Farm Market\, 7420 W Saginaw Hwy\, Lansing\, MI\, 48917\, United States
GEO:42.7415755;-84.6608573
X-APPLE-STRUCTURED-LOCATION;VALUE=URI;X-ADDRESS=Horrock’s Farm Market 7420 W Saginaw Hwy Lansing MI 48917 United States;X-APPLE-RADIUS=500;X-TITLE=7420 W Saginaw Hwy:geo:-84.6608573,42.7415755
END:VEVENT
BEGIN:VEVENT
DTSTART;TZID=America/Detroit:20240310T190000
DTEND;TZID=America/Detroit:20240310T190000
DTSTAMP:20260421T190608
CREATED:20240310T000926Z
LAST-MODIFIED:20240310T001016Z
UID:10004124-1710097200-1710097200@lovelansing.com
SUMMARY:A Rueful Noise \ Joshua Barton
DESCRIPTION:An early evening music\, featuring Lansing Musician/Songwriter Joshua Barton & a relaxed set from A Rueful Noise.
URL:https://lovelansing.com/event/a-rueful-noise-joshua-barton/
LOCATION:The Avenue\, 2021 E Michigan Ave\, Lansing\, MI\, 48912\, United States
CATEGORIES:Live Music
GEO:42.7338866;-84.5214406
X-APPLE-STRUCTURED-LOCATION;VALUE=URI;X-ADDRESS=The Avenue 2021 E Michigan Ave Lansing MI 48912 United States;X-APPLE-RADIUS=500;X-TITLE=2021 E Michigan Ave:geo:-84.5214406,42.7338866
END:VEVENT
END:VCALENDAR