BEGIN:VCALENDAR
VERSION:2.0
PRODID:-//Love Lansing - ECPv6.9.0//NONSGML v1.0//EN
CALSCALE:GREGORIAN
METHOD:PUBLISH
X-WR-CALNAME:Love Lansing
X-ORIGINAL-URL:https://lovelansing.com
X-WR-CALDESC:Events for Love Lansing
REFRESH-INTERVAL;VALUE=DURATION:PT1H
X-Robots-Tag:noindex
X-PUBLISHED-TTL:PT1H
BEGIN:VTIMEZONE
TZID:America/Detroit
BEGIN:DAYLIGHT
TZOFFSETFROM:-0500
TZOFFSETTO:-0400
TZNAME:EDT
DTSTART:20240310T070000
END:DAYLIGHT
BEGIN:STANDARD
TZOFFSETFROM:-0400
TZOFFSETTO:-0500
TZNAME:EST
DTSTART:20241103T060000
END:STANDARD
END:VTIMEZONE
BEGIN:VEVENT
DTSTART;TZID=America/Detroit:20240308T170000
DTEND;TZID=America/Detroit:20240308T200000
DTSTAMP:20260421T160020
CREATED:20240301T005343Z
LAST-MODIFIED:20240302T035215Z
UID:10004077-1709917200-1709928000@lovelansing.com
SUMMARY:Lucid Vibe
DESCRIPTION:Lucid Vibe takes the stage at 5 p.m.
URL:https://lovelansing.com/event/dean-madonia-lucid-vibe/
LOCATION:Horrock’s Farm Market\, 7420 W Saginaw Hwy\, Lansing\, MI\, 48917\, United States
CATEGORIES:Live Music
ATTACH;FMTTYPE=image/jpeg:https://lovelansing.com/wp-content/uploads/2024/02/LucidVibe.jpeg
GEO:42.7415755;-84.6608573
X-APPLE-STRUCTURED-LOCATION;VALUE=URI;X-ADDRESS=Horrock’s Farm Market 7420 W Saginaw Hwy Lansing MI 48917 United States;X-APPLE-RADIUS=500;X-TITLE=7420 W Saginaw Hwy:geo:-84.6608573,42.7415755
END:VEVENT
BEGIN:VEVENT
DTSTART;TZID=America/Detroit:20240308T180000
DTEND;TZID=America/Detroit:20240308T180000
DTSTAMP:20260421T160020
CREATED:20240218T222043Z
LAST-MODIFIED:20240218T223203Z
UID:10004046-1709920800-1709920800@lovelansing.com
SUMMARY:Eric Roberson \ Phil Denny
DESCRIPTION:Eric Roberson and Phil Denny\, two distinguished artists in their respective genres\, are slated to grace the stage at Grewal Hall\, located at 224\, for what promises to be an unforgettable night of music and soulful expression. This unique pairing brings together the smooth\, narrative-driven R&B/soul of Eric Roberson with the captivating\, smooth jazz saxophone melodies of Phil Denny\, offering audiences a rich blend of musical excellence. \nEric Roberson\, often hailed as the “King of Independent Soul/R&B\,” has carved out a remarkable career with his storytelling prowess\, emotional vocal delivery\, and innovative approach to music production. A Grammy-nominated singer-songwriter\, Roberson has consistently pushed the boundaries of the R&B genre\, infusing his music with elements of neo-soul\, jazz\, and hip-hop. His ability to connect with listeners through relatable lyrics and heartfelt performances has earned him a dedicated fan base and critical acclaim. \nPhil Denny\, on the other hand\, brings a different but complementary musical expertise to the collaboration. As a smooth jazz saxophonist\, Denny has a reputation for his soulful performances\, technical proficiency\, and dynamic stage presence. His music seamlessly blends traditional jazz with modern influences\, creating an accessible and engaging sound that resonates with both jazz aficionados and casual listeners alike. Denny’s albums and live performances showcase his versatility as a musician and his passion for creating memorable musical experiences.
URL:https://lovelansing.com/event/eric-roberson-phil-denny/
LOCATION:Grewal Hall at 224\, 224 Washington Square\, Lansing\, MI\, 48933\, United States
CATEGORIES:Jazz
ATTACH;FMTTYPE=image/webp:https://lovelansing.com/wp-content/uploads/2024/02/EricRobberson.webp
ORGANIZER;CN="Eric Robberson":MAILTO:https://ericrobersonmusic.com/pages/contact
GEO:42.731572;-84.5527262
X-APPLE-STRUCTURED-LOCATION;VALUE=URI;X-ADDRESS=Grewal Hall at 224 224 Washington Square Lansing MI 48933 United States;X-APPLE-RADIUS=500;X-TITLE=224 Washington Square:geo:-84.5527262,42.731572
END:VEVENT
BEGIN:VEVENT
DTSTART;TZID=America/Detroit:20240308T200000
DTEND;TZID=America/Detroit:20240308T220000
DTSTAMP:20260421T160020
CREATED:20240302T144804Z
LAST-MODIFIED:20240302T145557Z
UID:10004094-1709928000-1709935200@lovelansing.com
SUMMARY:"Pipeline" a stage play by Dominque Morisseau
DESCRIPTION:The Ixion Ensemble Theatre is set to bring Dominique Morisseau’s compelling drama\, “Pipeline\,” to life at Sycamore Creek – Eastwood\, under the direction of Janell Hall. This production promises to delve into the complex themes of education\, race\, and the dynamics within family structures\, particularly focusing on the American education system’s “school-to-prison pipeline.” \n“Pipeline” is a powerful\, thought-provoking play that shines a spotlight on the challenges faced by inner-city schools and the impact these institutions have on both students and their families. Morisseau\, renowned for her incisive writing and ability to weave complex social issues into engaging narratives\, crafts a story that is both intimate and universal. The play’s title refers to the troubling trend of funneling underprivileged students\, particularly African American and Latino boys\, directly from schools into the criminal justice system. \nIn this Ixion Ensemble Theatre production\, audiences can expect a nuanced portrayal of the central character\, Nya\, played by Kamara Miller Drane\, a dedicated inner-city high school teacher who grapples with the realities of her son’s schooling and the broader implications of the pipeline. Through Nya’s eyes\, Morisseau explores the desperation\, hope\, and fight against a system that often seems rigged against those it’s supposed to uplift. \nThe choice of Sycamore Creek – Eastwood as the venue for this performance underscores the play’s themes of community and the need for supportive spaces. This setting\, known for its welcoming atmosphere and engagement with cultural events\, provides the perfect backdrop for a play that demands reflection\, conversation\, and\, ultimately\, action. \nUnder the direction of Janell Hall\, the production is expected to highlight the emotional depth and urgency of Morisseau’s writing. Hall’s vision for “Pipeline” likely involves a focus on the raw\, emotional performances that bring the text’s social commentary to life\, making it resonate with a wide array of audiences. \nThe Ixion Ensemble Theatre’s reputation for tackling socially relevant themes with sensitivity and insight makes it the ideal group to present “Pipeline.” Their performances are known for not only entertaining but also educating and sparking dialogue among viewers. With this upcoming production\, they continue their tradition of engaging with crucial societal issues through the medium of theater. \nAs “Pipeline” takes the stage\, it serves as a reminder of the power of theater to address and illuminate the most pressing issues of our time. Through the combined efforts of a talented cast\, the visionary direction of Janell Hall\, and the supportive environment of Sycamore Creek – Eastwood\, this performance is poised to be a memorable and impactful experience for all who attend.
URL:https://lovelansing.com/event/pipeline-a-stage-play-by-dominque-morisseau/2024-03-08/
LOCATION:Sycamore Creek – Eastwood\, 2200 Lake Lansing Rd\, Lansing\, 48912\, United States
CATEGORIES:Theater
ATTACH;FMTTYPE=image/webp:https://lovelansing.com/wp-content/uploads/2024/03/Pipeline.webp
GEO:42.7602996;-84.5200535
X-APPLE-STRUCTURED-LOCATION;VALUE=URI;X-ADDRESS=Sycamore Creek – Eastwood 2200 Lake Lansing Rd Lansing 48912 United States;X-APPLE-RADIUS=500;X-TITLE=2200 Lake Lansing Rd:geo:-84.5200535,42.7602996
END:VEVENT
BEGIN:VEVENT
DTSTART;TZID=America/Detroit:20240308T210000
DTEND;TZID=America/Detroit:20240308T230000
DTSTAMP:20260421T160020
CREATED:20240114T065548Z
LAST-MODIFIED:20240128T194327Z
UID:10001591-1709931600-1709938800@lovelansing.com
SUMMARY:Friday Karakoe
DESCRIPTION:Friday Karaoke at The Avenue Cafe in Lansing\, Michigan\, is a lively and engaging event that has become a staple for locals and visitors alike. Held every Friday from 9:00 pm to 1:30 am\, this event offers a blend of music\, socializing\, and culinary delights from Ruckus Ramen. Whether you’re a seasoned singer or just looking to have fun with friends\, the stage is open for all.
URL:https://lovelansing.com/event/friday-karakoe/2024-03-08/
LOCATION:The Avenue\, 2021 E Michigan Ave\, Lansing\, MI\, 48912\, United States
CATEGORIES:Karaoke
GEO:42.7338866;-84.5214406
X-APPLE-STRUCTURED-LOCATION;VALUE=URI;X-ADDRESS=The Avenue 2021 E Michigan Ave Lansing MI 48912 United States;X-APPLE-RADIUS=500;X-TITLE=2021 E Michigan Ave:geo:-84.5214406,42.7338866
END:VEVENT
BEGIN:VEVENT
DTSTART;TZID=America/Detroit:20240308T220000
DTEND;TZID=America/Detroit:20240308T220000
DTSTAMP:20260421T160020
CREATED:20240302T171814Z
LAST-MODIFIED:20240302T172222Z
UID:10004118-1709935200-1709935200@lovelansing.com
SUMMARY:Geech
DESCRIPTION:
URL:https://lovelansing.com/event/geech/
LOCATION:Mash Bar\, 212 Albert St\, East Lansing\, MI\, 48823\, United States
CATEGORIES:Live Music
ORGANIZER;CN="Geech":MAILTO:bookinggeech@gmail.com
GEO:42.7355445;-84.4817734
X-APPLE-STRUCTURED-LOCATION;VALUE=URI;X-ADDRESS=Mash Bar 212 Albert St East Lansing MI 48823 United States;X-APPLE-RADIUS=500;X-TITLE=212 Albert St:geo:-84.4817734,42.7355445
END:VEVENT
END:VCALENDAR