BEGIN:VCALENDAR
VERSION:2.0
PRODID:-//Love Lansing - ECPv6.9.0//NONSGML v1.0//EN
CALSCALE:GREGORIAN
METHOD:PUBLISH
X-WR-CALNAME:Love Lansing
X-ORIGINAL-URL:https://lovelansing.com
X-WR-CALDESC:Events for Love Lansing
REFRESH-INTERVAL;VALUE=DURATION:PT1H
X-Robots-Tag:noindex
X-PUBLISHED-TTL:PT1H
BEGIN:VTIMEZONE
TZID:America/Detroit
BEGIN:DAYLIGHT
TZOFFSETFROM:-0500
TZOFFSETTO:-0400
TZNAME:EDT
DTSTART:20240310T070000
END:DAYLIGHT
BEGIN:STANDARD
TZOFFSETFROM:-0400
TZOFFSETTO:-0500
TZNAME:EST
DTSTART:20241103T060000
END:STANDARD
END:VTIMEZONE
BEGIN:VEVENT
DTSTART;TZID=America/Detroit:20240305T190000
DTEND;TZID=America/Detroit:20240305T220000
DTSTAMP:20260421T040535
CREATED:20240219T045447Z
LAST-MODIFIED:20240219T045502Z
UID:10003780-1709665200-1709676000@lovelansing.com
SUMMARY:Jazz Tuesdays: Mike Daniels Band
DESCRIPTION:This Tuesday features the Mike Daniels Band. \nAbout Jazz Tuesday\nJazz Tuesdays at Moriarty’s Pub is a vibrant weekly music series that has become a staple in the local jazz scene. Hosted by Jeff Shoup\, a respected drummer and music educator\, the event is a testament to his passion for the genre and his commitment to to nurturing jazz culture in the region\, providing a platform for both established and emerging jazz talents​​. \nJazz Tuesdays features a rotating cast of house band members\, and frequently features visiting guest musicians. The band plays two sets beginning at 7 and wrapping up by 10. The first set typically involves the band playing through a pre-arranged setlist\, showcasing a range of jazz standards and contemporary pieces. \nThe second set\, typically starting around 8:30\, is more interactive and improvisational\, with Jeff inviting musicians in the audience on stage to play\, leading to lively jam sessions. This participation not only adds an exciting unpredictability to the night but also fosters a sense of community and inclusiveness. It’s a time when the boundaries between performers and audience blur\, creating a shared experience that is engaging and memorable. \nFind more info on the Jazz Tuesdays at Moriarty’s Pub Facebook page; past performances can be sampled on the Jazz Tuesdays YouTube Channel
URL:https://lovelansing.com/event/jazz-tuesdays-4-2/
LOCATION:Moriarty’s Pub\, 802 E Michigan Ave\, Lansing\, Michigan\, 48912
CATEGORIES:Jazz,Live Music
GEO:42.7332634;-84.5408451
X-APPLE-STRUCTURED-LOCATION;VALUE=URI;X-ADDRESS=Moriarty’s Pub 802 E Michigan Ave Lansing Michigan 48912;X-APPLE-RADIUS=500;X-TITLE=802 E Michigan Ave:geo:-84.5408451,42.7332634
END:VEVENT
BEGIN:VEVENT
DTSTART;TZID=America/Detroit:20240305T193000
DTEND;TZID=America/Detroit:20240305T193000
DTSTAMP:20260421T040535
CREATED:20240129T163218Z
LAST-MODIFIED:20240223T015921Z
UID:10003499-1709667000-1709667000@lovelansing.com
SUMMARY:Golden Girls: The Laughs Continue
DESCRIPTION:“Golden Girls: The Laughs Continue” is a delightful continuation of the beloved television series\, set in a modern context while preserving the essence of the original characters. The story brings back the iconic quartet of Miami’s sassiest seniors – Dorothy\, Sophia\, Blanche\, and Rose – each with their unique quirks and humor that fans cherished in the original show. \nIn this modern rendition\, the plot takes a humorous and slightly edgier turn\, with Sophia finding herself out on bail after being caught running a drug ring for retirees. Meanwhile\, Blanche and Rose have ventured into the digital age by founding CreakN\, a successful sex app for seniors. Dorothy\, ever the matriarchal figure\, tries her best to keep everything together\, facing her own set of challenges. \nThe play\, written by Robert Leleux and directed by Eric Swanson\, is noted for its character-driven humor that echoes the spirit of the original series\, but with updated references and a contemporary twist. The script is filled with witty lines\, innuendos\, and double entendres\, all delivered with expert comedic timing by a talented cast. The production by Murray & Peter Present is acclaimed for its captivating portrayal of the iconic characters\, now exploring more adventurous and audacious plotlines while maintaining the heartwarming camaraderie that made “The Golden Girls” a television favorite. \nThe show’s set design nostalgically reflects a 1990s Floridian atmosphere\, and the costume and wig designs are meticulously crafted to represent each character’s distinctive style\, capturing the essence of the time period. The performance is an entertaining blend of nostalgia and contemporary humor\, making it a fabulous outing for fans of the original series and newcomers alike
URL:https://lovelansing.com/event/golden-girls-the-laughs-continue/
LOCATION:Wharton Center\, 750 E. Shaw Lane\, East Lansing\, 48824\, United States
CATEGORIES:Comedy,Theater
GEO:42.7238772;-84.4704162
X-APPLE-STRUCTURED-LOCATION;VALUE=URI;X-ADDRESS=Wharton Center 750 E. Shaw Lane East Lansing 48824 United States;X-APPLE-RADIUS=500;X-TITLE=750 E. Shaw Lane:geo:-84.4704162,42.7238772
END:VEVENT
BEGIN:VEVENT
DTSTART;TZID=America/Detroit:20240305T200000
DTEND;TZID=America/Detroit:20240305T223000
DTSTAMP:20260421T040535
CREATED:20240302T143346Z
LAST-MODIFIED:20240302T171421Z
UID:10003517-1709668800-1709677800@lovelansing.com
SUMMARY:Tekken 8 Tournament \ Tuesday Game Night
DESCRIPTION:Tournament starts at 8 p.m. and will be on PS5. $5 to enter the tournament\, with prizes for top 3. \nFee is to enter the tournament only\, not a cover charge at the door. \nTuesday Game Nights is a gathering for board game enthusiasts and casual players alike. The casual\, friendly atmosphere of The Avenue makes it an ideal spot for both experienced gamers and newcomers to enjoy a night of strategy\, competition\, and fun in a relaxed setting.
URL:https://lovelansing.com/event/game-night-2/
LOCATION:The Avenue\, 2021 E Michigan Ave\, Lansing\, MI\, 48912\, United States
CATEGORIES:Game Night
GEO:42.7338866;-84.5214406
X-APPLE-STRUCTURED-LOCATION;VALUE=URI;X-ADDRESS=The Avenue 2021 E Michigan Ave Lansing MI 48912 United States;X-APPLE-RADIUS=500;X-TITLE=2021 E Michigan Ave:geo:-84.5214406,42.7338866
END:VEVENT
END:VCALENDAR