BEGIN:VCALENDAR
VERSION:2.0
PRODID:-//Love Lansing - ECPv6.9.0//NONSGML v1.0//EN
CALSCALE:GREGORIAN
METHOD:PUBLISH
X-ORIGINAL-URL:https://lovelansing.com
X-WR-CALDESC:Events for Love Lansing
REFRESH-INTERVAL;VALUE=DURATION:PT1H
X-Robots-Tag:noindex
X-PUBLISHED-TTL:PT1H
BEGIN:VTIMEZONE
TZID:America/Detroit
BEGIN:DAYLIGHT
TZOFFSETFROM:-0500
TZOFFSETTO:-0400
TZNAME:EDT
DTSTART:20240310T070000
END:DAYLIGHT
BEGIN:STANDARD
TZOFFSETFROM:-0400
TZOFFSETTO:-0500
TZNAME:EST
DTSTART:20241103T060000
END:STANDARD
END:VTIMEZONE
BEGIN:VEVENT
DTSTART;TZID=America/Detroit:20240222T190000
DTEND;TZID=America/Detroit:20240222T210000
DTSTAMP:20260423T101057
CREATED:20240129T153644Z
LAST-MODIFIED:20240129T161446Z
UID:10003479-1708628400-1708635600@lovelansing.com
SUMMARY:​The Exonerated
DESCRIPTION:“The Exonerated\,” directed by Alan Greenberg\, unfolds on the Black Box Stage in February\, bringing to life the harrowing and true stories of six individuals. These characters\, comprised of five men and a woman\, each endured the grave injustice of being wrongfully sentenced to death for crimes they did not commit. Their collective experiences span over a century on Death Row\, a period marked by the grim reality of witnessing fellow inmates face execution\, all while grappling with the looming threat of their own wrongful deaths. The play’s narrative weaves through these powerful stories\, offering audiences a deeply impactful look at the fallibility of the justice system and the human cost of wrongful convictions​. \nDiscounts available for seniors\, students\, military and children.
URL:https://lovelansing.com/event/the-exonerated/2024-02-22/
LOCATION:Riverwalk Theatre\, 228 Museum Drive\, Lansing\, 48933\, United States
CATEGORIES:Theater
GEO:42.7325747;-84.5490007
X-APPLE-STRUCTURED-LOCATION;VALUE=URI;X-ADDRESS=Riverwalk Theatre 228 Museum Drive Lansing 48933 United States;X-APPLE-RADIUS=500;X-TITLE=228 Museum Drive:geo:-84.5490007,42.7325747
END:VEVENT
BEGIN:VEVENT
DTSTART;TZID=America/Detroit:20240222T200000
DTEND;TZID=America/Detroit:20240222T200000
DTSTAMP:20260423T101057
CREATED:20240123T144316Z
LAST-MODIFIED:20240219T022943Z
UID:10002899-1708632000-1708632000@lovelansing.com
SUMMARY:MELT Thursdays feat. Big Sherm \ Ganja Girl \ DJ Muzik \ Not That Nate
DESCRIPTION:MELT is a standout event in Lansing’s vibrant music scene\, orchestrated by the dynamic Ganja Girl. This recurring showcase spotlights an a mix of talents\, featuring Ganja Girl herself alongside Big Sherm\, and supported by the local DJ prowess of @not_thatnate and DJ Muzik. Designed to create an immersive experience\, “MELT” brings together the best of Lansing’s underground music\, offering audiences an electrifying blend of genres and styles. \nAt the heart of “MELT” is the intention to celebrate and promote the local music community\, providing a platform for artists to connect with audiences in a live setting. Big Sherm\, known for his genre-bending sets that span hip-hop\, electronic\, and funk\, pairs perfectly with the event’s ethos\, delivering performances that are both innovative and deeply rooted in musical tradition. Ganja Girl’s involvement ensures a unique vibe\, infusing the event with her distinctive style and energy\, while Not That Nate and DJ Muzik round out the lineup with their own flavors\, promising a night of diverse sounds and unforgettable moments. \nThe event stands as a testament to the creative collaboration within Lansing’s music scene\, highlighting the city’s commitment to nurturing and showcasing its artistic talent. “MELT” is more than just a concert; it’s a cultural gathering that celebrates creativity\, community\, and the power of live music to bring people together. Whether you’re a die-hard fan of the local music scene or just looking for a night out filled with good vibes and great tunes\, “MELT” at Mac’s Bar is the place to be.
URL:https://lovelansing.com/event/melt-thursdays-feat-big-sherm-ganja-girl-dj-muzik-not-that-nate/2024-02-22/
LOCATION:Macs Bar\, 2700 E Michigan Ave\, Lansing\, MI\, 48912\, United States
CATEGORIES:Electronic Music
ATTACH;FMTTYPE=image/jpeg:https://lovelansing.com/wp-content/uploads/2024/01/MELT.jpeg
ORGANIZER;CN="Big Sherm":MAILTO:https://bigsherm.net/booking/
GEO:42.7332061;-84.5135876
X-APPLE-STRUCTURED-LOCATION;VALUE=URI;X-ADDRESS=Macs Bar 2700 E Michigan Ave Lansing MI 48912 United States;X-APPLE-RADIUS=500;X-TITLE=2700 E Michigan Ave:geo:-84.5135876,42.7332061
END:VEVENT
BEGIN:VEVENT
DTSTART;TZID=America/Detroit:20240222T210000
DTEND;TZID=America/Detroit:20240222T210000
DTSTAMP:20260423T101057
CREATED:20240218T180915Z
LAST-MODIFIED:20240219T140647Z
UID:10004040-1708635600-1708635600@lovelansing.com
SUMMARY:Trivia: Guess that song
DESCRIPTION:
URL:https://lovelansing.com/event/trivia-guess-that-song/
LOCATION:The Avenue\, 2021 E Michigan Ave\, Lansing\, MI\, 48912\, United States
CATEGORIES:Trivia
GEO:42.7338866;-84.5214406
X-APPLE-STRUCTURED-LOCATION;VALUE=URI;X-ADDRESS=The Avenue 2021 E Michigan Ave Lansing MI 48912 United States;X-APPLE-RADIUS=500;X-TITLE=2021 E Michigan Ave:geo:-84.5214406,42.7338866
END:VEVENT
END:VCALENDAR