BEGIN:VCALENDAR
VERSION:2.0
PRODID:-//Love Lansing - ECPv6.9.0//NONSGML v1.0//EN
CALSCALE:GREGORIAN
METHOD:PUBLISH
X-WR-CALNAME:Love Lansing
X-ORIGINAL-URL:https://lovelansing.com
X-WR-CALDESC:Events for Love Lansing
REFRESH-INTERVAL;VALUE=DURATION:PT1H
X-Robots-Tag:noindex
X-PUBLISHED-TTL:PT1H
BEGIN:VTIMEZONE
TZID:America/Detroit
BEGIN:DAYLIGHT
TZOFFSETFROM:-0500
TZOFFSETTO:-0400
TZNAME:EDT
DTSTART:20240310T070000
END:DAYLIGHT
BEGIN:STANDARD
TZOFFSETFROM:-0400
TZOFFSETTO:-0500
TZNAME:EST
DTSTART:20241103T060000
END:STANDARD
END:VTIMEZONE
BEGIN:VEVENT
DTSTART;TZID=America/Detroit:20240209T200000
DTEND;TZID=America/Detroit:20240209T223000
DTSTAMP:20260422T045541
CREATED:20240129T162556Z
LAST-MODIFIED:20240129T162556Z
UID:10003494-1707508800-1707517800@lovelansing.com
SUMMARY:Funny Girl
DESCRIPTION:“Funny Girl” is a classic Broadway musical that first opened in 1964 at the Winter Garden Theatre. The show is a semi-biographical tale\, focusing on the life and career of Fanny Brice\, a famous comedian and Broadway star. It explores her tumultuous relationship with entrepreneur and gambler Nicky Arnstein. The musical is noted for its memorable score by Jule Styne and lyrics by Bob Merrill\, with a book by Isobel Lennart. Iconic songs like “People” and “Don’t Rain On My Parade” have become synonymous with the show and were instrumental in solidifying Barbra Streisand’s career\, who originally starred as Fanny Brice. The musical was later adapted into a successful film in 1968\, with Streisand reprising her role\, earning her an Academy Award for Best Actress. \nThe musical’s narrative arcs from Brice’s early days in Brooklyn through her rise to fame with the Ziegfeld Follies\, highlighting her comedic and vocal talents\, and delving into her complex personal life\, especially her marriage to Arnstein. The show has been revived several times\, including a notable 2022 revival that featured a star-studded cast and updated elements to the original classic. \nOver the years\, “Funny Girl” has been celebrated for its blend of humor\, romance\, and drama\, capturing the spirit of Broadway and the complexities of its protagonist’s life. It’s a testament to the enduring appeal of musical theatre and its ability to tell compelling\, nuanced stories
URL:https://lovelansing.com/event/funny-girl/2024-02-09/
LOCATION:Wharton Center\, 750 E. Shaw Lane\, East Lansing\, 48824\, United States
CATEGORIES:Broadway Musical
GEO:42.7238772;-84.4704162
X-APPLE-STRUCTURED-LOCATION;VALUE=URI;X-ADDRESS=Wharton Center 750 E. Shaw Lane East Lansing 48824 United States;X-APPLE-RADIUS=500;X-TITLE=750 E. Shaw Lane:geo:-84.4704162,42.7238772
END:VEVENT
BEGIN:VEVENT
DTSTART;TZID=America/Detroit:20240209T200000
DTEND;TZID=America/Detroit:20240209T233000
DTSTAMP:20260422T045541
CREATED:20240129T023131Z
LAST-MODIFIED:20240129T023657Z
UID:10003472-1707508800-1707521400@lovelansing.com
SUMMARY:The New Models \ Entransient \ First Aid Spray
DESCRIPTION:The New Models\, a Lansing-based pop-punk band known for their blend of punk\, rock\, and metal elements\, is celebrating the release of I Can Hardly Breathe\, playing with Grand Rapids Prog Rock band Entransient and Kalamazoo-based Pop Punk group First Aid Spray.
URL:https://lovelansing.com/event/the-new-models-entransient-first-aid-spray/
LOCATION:Macs Bar\, 2700 E Michigan Ave\, Lansing\, MI\, 48912\, United States
CATEGORIES:Rock/Pop
ORGANIZER;CN="The New Models":MAILTO:thenewmodelsmusic@gmail.com
GEO:42.7332061;-84.5135876
X-APPLE-STRUCTURED-LOCATION;VALUE=URI;X-ADDRESS=Macs Bar 2700 E Michigan Ave Lansing MI 48912 United States;X-APPLE-RADIUS=500;X-TITLE=2700 E Michigan Ave:geo:-84.5135876,42.7332061
END:VEVENT
BEGIN:VEVENT
DTSTART;TZID=America/Detroit:20240209T210000
DTEND;TZID=America/Detroit:20240209T230000
DTSTAMP:20260422T045541
CREATED:20240114T065548Z
LAST-MODIFIED:20240128T194327Z
UID:10001587-1707512400-1707519600@lovelansing.com
SUMMARY:Friday Karakoe
DESCRIPTION:Friday Karaoke at The Avenue Cafe in Lansing\, Michigan\, is a lively and engaging event that has become a staple for locals and visitors alike. Held every Friday from 9:00 pm to 1:30 am\, this event offers a blend of music\, socializing\, and culinary delights from Ruckus Ramen. Whether you’re a seasoned singer or just looking to have fun with friends\, the stage is open for all.
URL:https://lovelansing.com/event/friday-karakoe/2024-02-09/
LOCATION:The Avenue\, 2021 E Michigan Ave\, Lansing\, MI\, 48912\, United States
CATEGORIES:Karaoke
GEO:42.7338866;-84.5214406
X-APPLE-STRUCTURED-LOCATION;VALUE=URI;X-ADDRESS=The Avenue 2021 E Michigan Ave Lansing MI 48912 United States;X-APPLE-RADIUS=500;X-TITLE=2021 E Michigan Ave:geo:-84.5214406,42.7338866
END:VEVENT
END:VCALENDAR