BEGIN:VCALENDAR
VERSION:2.0
PRODID:-//Love Lansing - ECPv6.9.0//NONSGML v1.0//EN
CALSCALE:GREGORIAN
METHOD:PUBLISH
X-WR-CALNAME:Love Lansing
X-ORIGINAL-URL:https://lovelansing.com
X-WR-CALDESC:Events for Love Lansing
REFRESH-INTERVAL;VALUE=DURATION:PT1H
X-Robots-Tag:noindex
X-PUBLISHED-TTL:PT1H
BEGIN:VTIMEZONE
TZID:America/Detroit
BEGIN:DAYLIGHT
TZOFFSETFROM:-0500
TZOFFSETTO:-0400
TZNAME:EDT
DTSTART:20240310T070000
END:DAYLIGHT
BEGIN:STANDARD
TZOFFSETFROM:-0400
TZOFFSETTO:-0500
TZNAME:EST
DTSTART:20241103T060000
END:STANDARD
END:VTIMEZONE
BEGIN:VEVENT
DTSTART;TZID=America/Detroit:20240206T190000
DTEND;TZID=America/Detroit:20240206T220000
DTSTAMP:20260423T082403
CREATED:20240114T053022Z
LAST-MODIFIED:20240130T041542Z
UID:10003776-1707246000-1707256800@lovelansing.com
SUMMARY:Jazz Tuesdays
DESCRIPTION:Jazz Tuesdays at Moriarty’s Pub is a vibrant weekly music series that has become a staple in the local jazz scene. Hosted by Jeff Shoup\, a respected drummer and music educator\, the event is a testament to his passion for the genre and his commitment to to nurturing jazz culture in the region\, providing a platform for both established and emerging jazz talents​​. \nJazz Tuesdays features a rotating cast of house band members\, and frequently features visiting guest musicians. The band plays two sets beginning at 7 and wrapping up by 10. The first set typically involves the band playing through a pre-arranged setlist\, showcasing a range of jazz standards and contemporary pieces. \nIn contrast\, the second set of the evening is more interactive and improvisational\, with musicians in the audience invited on stage to play\, leading to lively jam sessions. This open participation not only adds an exciting unpredictability to the night but also fosters a sense of community and inclusiveness. It’s a time when the boundaries between performers and audience blur\, creating a shared experience that is engaging and memorable. \nFind more info on the Jazz Tuesdays at Moriarty’s Pub Facebook page; past performances can be sampled on the Jazz Tuesdays YouTube Channel
URL:https://lovelansing.com/event/jazz-tuesdays/2024-02-06/
LOCATION:Moriarty’s Pub\, 802 E Michigan Ave\, Lansing\, Michigan\, 48912
CATEGORIES:Jazz,Live Music
GEO:42.7332634;-84.5408451
X-APPLE-STRUCTURED-LOCATION;VALUE=URI;X-ADDRESS=Moriarty’s Pub 802 E Michigan Ave Lansing Michigan 48912;X-APPLE-RADIUS=500;X-TITLE=802 E Michigan Ave:geo:-84.5408451,42.7332634
END:VEVENT
BEGIN:VEVENT
DTSTART;TZID=America/Detroit:20240206T193000
DTEND;TZID=America/Detroit:20240206T220000
DTSTAMP:20260423T082403
CREATED:20240129T162556Z
LAST-MODIFIED:20240129T162556Z
UID:10003491-1707247800-1707256800@lovelansing.com
SUMMARY:Funny Girl
DESCRIPTION:“Funny Girl” is a classic Broadway musical that first opened in 1964 at the Winter Garden Theatre. The show is a semi-biographical tale\, focusing on the life and career of Fanny Brice\, a famous comedian and Broadway star. It explores her tumultuous relationship with entrepreneur and gambler Nicky Arnstein. The musical is noted for its memorable score by Jule Styne and lyrics by Bob Merrill\, with a book by Isobel Lennart. Iconic songs like “People” and “Don’t Rain On My Parade” have become synonymous with the show and were instrumental in solidifying Barbra Streisand’s career\, who originally starred as Fanny Brice. The musical was later adapted into a successful film in 1968\, with Streisand reprising her role\, earning her an Academy Award for Best Actress. \nThe musical’s narrative arcs from Brice’s early days in Brooklyn through her rise to fame with the Ziegfeld Follies\, highlighting her comedic and vocal talents\, and delving into her complex personal life\, especially her marriage to Arnstein. The show has been revived several times\, including a notable 2022 revival that featured a star-studded cast and updated elements to the original classic. \nOver the years\, “Funny Girl” has been celebrated for its blend of humor\, romance\, and drama\, capturing the spirit of Broadway and the complexities of its protagonist’s life. It’s a testament to the enduring appeal of musical theatre and its ability to tell compelling\, nuanced stories
URL:https://lovelansing.com/event/funny-girl/2024-02-06/
LOCATION:Wharton Center\, 750 E. Shaw Lane\, East Lansing\, 48824\, United States
CATEGORIES:Broadway Musical
GEO:42.7238772;-84.4704162
X-APPLE-STRUCTURED-LOCATION;VALUE=URI;X-ADDRESS=Wharton Center 750 E. Shaw Lane East Lansing 48824 United States;X-APPLE-RADIUS=500;X-TITLE=750 E. Shaw Lane:geo:-84.4704162,42.7238772
END:VEVENT
BEGIN:VEVENT
DTSTART;TZID=America/Detroit:20240206T200000
DTEND;TZID=America/Detroit:20240206T223000
DTSTAMP:20260423T082403
CREATED:20240114T072124Z
LAST-MODIFIED:20240130T041407Z
UID:10003513-1707249600-1707258600@lovelansing.com
SUMMARY:Tuesday Game Night
DESCRIPTION:Tuesday Game Nights is a gathering for board game enthusiasts and casual players alike. The casual\, friendly atmosphere of The Avenue makes it an ideal spot for both experienced gamers and newcomers to enjoy a night of strategy\, competition\, and fun in a relaxed setting.
URL:https://lovelansing.com/event/game-night/2024-02-06/
LOCATION:The Avenue\, 2021 E Michigan Ave\, Lansing\, MI\, 48912\, United States
CATEGORIES:Game Night
GEO:42.7338866;-84.5214406
X-APPLE-STRUCTURED-LOCATION;VALUE=URI;X-ADDRESS=The Avenue 2021 E Michigan Ave Lansing MI 48912 United States;X-APPLE-RADIUS=500;X-TITLE=2021 E Michigan Ave:geo:-84.5214406,42.7338866
END:VEVENT
END:VCALENDAR